BEGIN:VCALENDAR
VERSION:2.0
PRODID:-//Project Sunapee - ECPv6.15.20//NONSGML v1.0//EN
CALSCALE:GREGORIAN
METHOD:PUBLISH
X-ORIGINAL-URL:https://projectsunapee.org
X-WR-CALDESC:Events for Project Sunapee
REFRESH-INTERVAL;VALUE=DURATION:PT1H
X-Robots-Tag:noindex
X-PUBLISHED-TTL:PT1H
BEGIN:VTIMEZONE
TZID:America/New_York
BEGIN:DAYLIGHT
TZOFFSETFROM:-0500
TZOFFSETTO:-0400
TZNAME:EDT
DTSTART:20250309T070000
END:DAYLIGHT
BEGIN:STANDARD
TZOFFSETFROM:-0400
TZOFFSETTO:-0500
TZNAME:EST
DTSTART:20251102T060000
END:STANDARD
BEGIN:DAYLIGHT
TZOFFSETFROM:-0500
TZOFFSETTO:-0400
TZNAME:EDT
DTSTART:20260308T070000
END:DAYLIGHT
BEGIN:STANDARD
TZOFFSETFROM:-0400
TZOFFSETTO:-0500
TZNAME:EST
DTSTART:20261101T060000
END:STANDARD
BEGIN:DAYLIGHT
TZOFFSETFROM:-0500
TZOFFSETTO:-0400
TZNAME:EDT
DTSTART:20270314T070000
END:DAYLIGHT
BEGIN:STANDARD
TZOFFSETFROM:-0400
TZOFFSETTO:-0500
TZNAME:EST
DTSTART:20271107T060000
END:STANDARD
END:VTIMEZONE
BEGIN:VEVENT
DTSTART;TZID=America/New_York:20260529T173000
DTEND;TZID=America/New_York:20260529T203000
DTSTAMP:20260423T235324
CREATED:20260322T172445Z
LAST-MODIFIED:20260323T125453Z
UID:10005129-1780075800-1780086600@projectsunapee.org
SUMMARY:Spring into Summer
DESCRIPTION:Get Ready to Spring into Summer in Sunapee Harbor! \nMark your calendars for a vibrant evening in Sunapee Harbor! Friends and neighbors are invited to gather on Friday\, May 29th\, from 5:30 PM to 8:30 PM\, come rain or shine\, for an unforgettable celebration where you can EAT\, SHOP\, and PLAY! \nFeel the energy with live music at Flander’s Stage\, featuring JD and The Stonemasons. Get ready for a lively performance of Irish American Roots Music from New England’s most rollicking traditional band! \nExplore and Win! Grab your “Spring into Summer” postcard (it’s coming in the mail!) and bring it with you. As you wander through the harbor\, visit at least 15 of our 22 participating businesses and non-profits to have your postcard stamped. Once your postcard is complete\, drop it off at the Project Sunapee table (located near Flander’s Stage) for a chance to win one of five $100 “Sunapee Cash” prizes! This “Sunapee Cash” can be spent at any of the participating “Spring into Summer” locations\, giving you more reasons to explore and support our local community. \nIt’s the perfect opportunity to visit familiar spots\, discover new businesses offering samples\, discounts\, and coupons\, and learn more about the vital non-profits that enrich Sunapee. This is truly an evening not to be missed! \nProject Sunapee
URL:https://projectsunapee.org/event/spring-into-summer/
LOCATION:Sunapee Harbor\, Main Street\, Sunapee\, NH\, 03782-2925\, United States
CATEGORIES:Sunapee Harbor
ATTACH;FMTTYPE=image/webp:https://projectsunapee.org/wp-content/uploads/2026/03/box-spring-into-summer-2026-e1774200274155.webp
ORGANIZER;CN="Project Sunapee":MAILTO:info@projectsunapee.org
END:VEVENT
END:VCALENDAR