BEGIN:VCALENDAR
VERSION:2.0
PRODID:-//Project Sunapee - ECPv6.15.20//NONSGML v1.0//EN
CALSCALE:GREGORIAN
METHOD:PUBLISH
X-ORIGINAL-URL:https://projectsunapee.org
X-WR-CALDESC:Events for Project Sunapee
REFRESH-INTERVAL;VALUE=DURATION:PT1H
X-Robots-Tag:noindex
X-PUBLISHED-TTL:PT1H
BEGIN:VTIMEZONE
TZID:America/New_York
BEGIN:DAYLIGHT
TZOFFSETFROM:-0500
TZOFFSETTO:-0400
TZNAME:EDT
DTSTART:20250309T070000
END:DAYLIGHT
BEGIN:STANDARD
TZOFFSETFROM:-0400
TZOFFSETTO:-0500
TZNAME:EST
DTSTART:20251102T060000
END:STANDARD
BEGIN:DAYLIGHT
TZOFFSETFROM:-0500
TZOFFSETTO:-0400
TZNAME:EDT
DTSTART:20260308T070000
END:DAYLIGHT
BEGIN:STANDARD
TZOFFSETFROM:-0400
TZOFFSETTO:-0500
TZNAME:EST
DTSTART:20261101T060000
END:STANDARD
BEGIN:DAYLIGHT
TZOFFSETFROM:-0500
TZOFFSETTO:-0400
TZNAME:EDT
DTSTART:20270314T070000
END:DAYLIGHT
BEGIN:STANDARD
TZOFFSETFROM:-0400
TZOFFSETTO:-0500
TZNAME:EST
DTSTART:20271107T060000
END:STANDARD
END:VTIMEZONE
BEGIN:VEVENT
DTSTART;TZID=America/New_York:20260716T190000
DTEND;TZID=America/New_York:20260716T203000
DTSTAMP:20260424T033738
CREATED:20260410T162824Z
LAST-MODIFIED:20260410T162824Z
UID:10005224-1784228400-1784233800@projectsunapee.org
SUMMARY:Life in Sunapee at the time of the American Revolution
DESCRIPTION:Becky Rylander and Barbara Chalmers will explore the lives of our first settlers as they carved our town out of the wilderness. \nAll events are free and at the Flanders-Osborne Museum in Sunapee Harbor unless noted otherwise.
URL:https://projectsunapee.org/event/life-in-sunapee-at-the-time-of-the-american-revolution/
LOCATION:Flanders-Osborne Museum\, 74 Main Street\, Sunapee\, NH\, 03782
CATEGORIES:Sunapee Harbor
ATTACH;FMTTYPE=image/jpeg:https://projectsunapee.org/wp-content/uploads/2025/09/thumbnail_Harbor-Flanders-house-labeled.jpg
ORGANIZER;CN="Sunapee Historical Society":MAILTO:sunapeehistory@gmail.com
END:VEVENT
END:VCALENDAR