BEGIN:VCALENDAR
VERSION:2.0
PRODID:-//Project Sunapee - ECPv6.15.20//NONSGML v1.0//EN
CALSCALE:GREGORIAN
METHOD:PUBLISH
X-WR-CALNAME:Project Sunapee
X-ORIGINAL-URL:https://projectsunapee.org
X-WR-CALDESC:Events for Project Sunapee
REFRESH-INTERVAL;VALUE=DURATION:PT1H
X-Robots-Tag:noindex
X-PUBLISHED-TTL:PT1H
BEGIN:VTIMEZONE
TZID:America/New_York
BEGIN:DAYLIGHT
TZOFFSETFROM:-0500
TZOFFSETTO:-0400
TZNAME:EDT
DTSTART:20240310T070000
END:DAYLIGHT
BEGIN:STANDARD
TZOFFSETFROM:-0400
TZOFFSETTO:-0500
TZNAME:EST
DTSTART:20241103T060000
END:STANDARD
BEGIN:DAYLIGHT
TZOFFSETFROM:-0500
TZOFFSETTO:-0400
TZNAME:EDT
DTSTART:20250309T070000
END:DAYLIGHT
BEGIN:STANDARD
TZOFFSETFROM:-0400
TZOFFSETTO:-0500
TZNAME:EST
DTSTART:20251102T060000
END:STANDARD
BEGIN:DAYLIGHT
TZOFFSETFROM:-0500
TZOFFSETTO:-0400
TZNAME:EDT
DTSTART:20260308T070000
END:DAYLIGHT
BEGIN:STANDARD
TZOFFSETFROM:-0400
TZOFFSETTO:-0500
TZNAME:EST
DTSTART:20261101T060000
END:STANDARD
END:VTIMEZONE
BEGIN:VEVENT
DTSTART;TZID=America/New_York:20250912T190000
DTEND;TZID=America/New_York:20250912T210000
DTSTAMP:20260424T223510
CREATED:20250904T190212Z
LAST-MODIFIED:20250904T203426Z
UID:10000012-1757703600-1757710800@projectsunapee.org
SUMMARY:Sunapee CoffeeHouse - Rob Duquette
DESCRIPTION:Multi-instrumentalist\, singer/songwriter\, composer\, founder/leader of the band “duquette” Rob was a long time sideman during the 1990’s on drums\, xylophone\, guitar\, and vocals and a part of of the critically acclaimed jazz-folk-pop duo “Cactus Highway” during the 2000’s. (“Amazing” – The Village Voice). In 2013\, he was invited to play with Jonathan Edwards’ touring band and accompanied that tour through 2016. \nA skilled music instructor\, composer\, and arranger\, his work reflects the versatility and eclectic musical range that has brought him and his music around the country. Rob has performed alongside Jack Sonni of Dire Straits\, recorded and shared the stage with the Grammy winning Dave Gutter\, and with legendary composer David Amram among many other great artists including his current bandmates. Rob has released several albums of original music on which he plays most of the instruments\, recorded\, and produced from his studio in Biddeford Maine.
URL:https://projectsunapee.org/event/sunapee-coffeehouse-rob-duquette/
LOCATION:Lake Sunapee United Methodist Church\, 9 Lower Main Street\, Sunapee\, NH\, 03782
CATEGORIES:Music
ATTACH;FMTTYPE=image/jpeg:https://projectsunapee.org/wp-content/uploads/2025/09/RobDuquette-w200.jpg
END:VEVENT
BEGIN:VEVENT
DTSTART;TZID=America/New_York:20250913T170000
DTEND;TZID=America/New_York:20250913T200000
DTSTAMP:20260424T223510
CREATED:20250903T202709Z
LAST-MODIFIED:20250904T203420Z
UID:10000008-1757782800-1757793600@projectsunapee.org
SUMMARY:The Gully Boys
DESCRIPTION:Original Rock Music from the Green Mountains of Vermont.
URL:https://projectsunapee.org/event/the-gully-boys/
LOCATION:The Landing\, 72 Main Street\, Sunapee\, NH\, 03782
CATEGORIES:Music,Sunapee Harbor
ATTACH;FMTTYPE=image/jpeg:https://projectsunapee.org/wp-content/uploads/2025/09/529773105_122134342724815767_2875823853698949423_n.jpg
END:VEVENT
BEGIN:VEVENT
DTSTART;TZID=America/New_York:20250920T150000
DTEND;TZID=America/New_York:20250920T150000
DTSTAMP:20260424T223510
CREATED:20250903T203449Z
LAST-MODIFIED:20250904T203410Z
UID:10000009-1758380400-1758380400@projectsunapee.org
SUMMARY:Bruce Marshall
DESCRIPTION:Bruce Marshall’s music career spans five decades and the singer\, songwriter\, guitarist has been a full time musician his entire adult life. With an affinity early on for blues\, rock and 60’s pop\, he honed his chops in the gin mills of NE and put out his first record in ‘87 with Bruce Marshall and the Clue. \nHe went National with guitarist Toy Caldwell of the Marshall Tucker Band in ‘89\, touring the US with Charlie Daniels\, Lynyrd Skynyrd and the Outlaws. Bruce has won an ASCAP Songwriters award and represented NE in the International Blues Challenge in 2008 and 2010. He recently inked a recording and Publishing deal with the Verdict Music label with Sony distribution and released the Bruce Marshall Group’s “Vintage to Verdict” in 2023\, his 8th CD. \nThe Bruce Marshall Group has been performing since 1991\, his duo with James Montgomery has been together since 1992 and his Marshall Tucker tribute band The Shadow Riders has been out since 2018. \nHis songs have been recorded by Gary Lewis and the Playboys\, Kenny Neal\, Micah Willis\, James Montgomery\, Michael Allman and others. \nBruce continues to perform over 175 shows a year\, both as solo act and bandleader. He’s currently in the studio working on his next Verdict Music label release.
URL:https://projectsunapee.org/event/bruce-marshall/
LOCATION:Flander’s Stage in Sunapee Harbor\, Sunapee Harbor\, Sunapee\, NH\, 03782
CATEGORIES:Music,Sunapee Harbor
ATTACH;FMTTYPE=image/jpeg:https://projectsunapee.org/wp-content/uploads/2025/09/bm.jpg
END:VEVENT
BEGIN:VEVENT
DTSTART;TZID=America/New_York:20250926T190000
DTEND;TZID=America/New_York:20250926T210000
DTSTAMP:20260424T223510
CREATED:20250904T190808Z
LAST-MODIFIED:20250904T203402Z
UID:10000013-1758913200-1758920400@projectsunapee.org
SUMMARY:Sunapee CoffeeHouse - Gus & Jean
DESCRIPTION:Performing together for over 25 years\, Gus & Jean are a husband-and-wife duo based in Southern NH/ME known for their creative interpretations\, seamless harmonies\, and undeniable chemistry. From classic hits to contemporary favorites\, their wide-ranging setlist spans James Taylor to Whitney Houston to Ed Sheeran\, connecting with listeners of all ages. \nTheir dynamic sound has earned them a growing social media following with over 23K views and the attention of industry figures\, including the NH Music Collective\, Boston’s Mix 104.1 radio host Kennedy of Karson and Kennedy\, and Grammy-winning artist Lisa Loeb. \nLast year marked their breakout year. In the summer of 2024\, they were a featured artist for Play Music on the Porch Day\, an annual world-wide event. They also recorded their debut EP of acoustic covers\, Live at The Studio Portland in Portland\, Maine. That fall\, they showcased their original music\, placing second in the preliminary rounds of the NH Music Collective’s 2024 Singer-Songwriter Contest. \nWhether captivating large crowds on the 92.5 The River stage at the Manchester Citywide Arts Festival or creating intimate vibes at venues like The Shaskeen in Manchester\, NH and Patrick’s Pub in Gilford\, NH\, Gus & Jean deliver performances that leave audiences singing long after the last note.
URL:https://projectsunapee.org/event/sunapee-coffeehouse-gus-jean/
LOCATION:Lake Sunapee United Methodist Church\, 9 Lower Main Street\, Sunapee\, NH\, 03782
CATEGORIES:Music
ATTACH;FMTTYPE=image/jpeg:https://projectsunapee.org/wp-content/uploads/2025/09/GusAndJean2-w200.jpg
END:VEVENT
BEGIN:VEVENT
DTSTART;TZID=America/New_York:20250927T120000
DTEND;TZID=America/New_York:20250927T210000
DTSTAMP:20260424T223510
CREATED:20250905T193655Z
LAST-MODIFIED:20250915T174013Z
UID:10000556-1758974400-1759006800@projectsunapee.org
SUMMARY:Sunapee Summer Shakedown!
DESCRIPTION:Join us at Hoptimystic Brewing Sunapee on Saturday\, September 27th from 12–9PM for an all-day celebration you won’t want to miss! \nLive Music Lineup:\nBoomsoss\nNick Bredice\nSammy “B” Blanchette \nFood by Fenton’s Landing featuring:\nLobster Rolls • Kielbasa •  Smash Burgers. \nCome for the music\, stay for the food\, and sip on your favorite brews with friends by the lake. \nLet’s send summer off the right way!
URL:https://projectsunapee.org/event/bossmoss-at-hoptimystic-brewing-sunapee/
LOCATION:Hoptimystic Brewery\, 31 River Road\, Sunapee\, NH\, 03782
CATEGORIES:Music,Sunapee Harbor
ATTACH;FMTTYPE=image/jpeg:https://projectsunapee.org/wp-content/uploads/2025/09/VpAI8990WSsV-sunapee-shakedown.jpg
ORGANIZER;CN="Hoptimystic Brewing":MAILTO:hoptimysticbrewingNH@gmail.com
END:VEVENT
END:VCALENDAR