BEGIN:VCALENDAR
VERSION:2.0
PRODID:-//Project Sunapee - ECPv6.15.20//NONSGML v1.0//EN
CALSCALE:GREGORIAN
METHOD:PUBLISH
X-WR-CALNAME:Project Sunapee
X-ORIGINAL-URL:https://projectsunapee.org
X-WR-CALDESC:Events for Project Sunapee
REFRESH-INTERVAL;VALUE=DURATION:PT1H
X-Robots-Tag:noindex
X-PUBLISHED-TTL:PT1H
BEGIN:VTIMEZONE
TZID:America/New_York
BEGIN:DAYLIGHT
TZOFFSETFROM:-0500
TZOFFSETTO:-0400
TZNAME:EDT
DTSTART:20240310T070000
END:DAYLIGHT
BEGIN:STANDARD
TZOFFSETFROM:-0400
TZOFFSETTO:-0500
TZNAME:EST
DTSTART:20241103T060000
END:STANDARD
BEGIN:DAYLIGHT
TZOFFSETFROM:-0500
TZOFFSETTO:-0400
TZNAME:EDT
DTSTART:20250309T070000
END:DAYLIGHT
BEGIN:STANDARD
TZOFFSETFROM:-0400
TZOFFSETTO:-0500
TZNAME:EST
DTSTART:20251102T060000
END:STANDARD
BEGIN:DAYLIGHT
TZOFFSETFROM:-0500
TZOFFSETTO:-0400
TZNAME:EDT
DTSTART:20260308T070000
END:DAYLIGHT
BEGIN:STANDARD
TZOFFSETFROM:-0400
TZOFFSETTO:-0500
TZNAME:EST
DTSTART:20261101T060000
END:STANDARD
END:VTIMEZONE
BEGIN:VEVENT
DTSTART;TZID=America/New_York:20251003T173000
DTEND;TZID=America/New_York:20251003T173000
DTSTAMP:20260424T205101
CREATED:20250926T135522Z
LAST-MODIFIED:20250930T202300Z
UID:10000566-1759512600-1759512600@projectsunapee.org
SUMMARY:BENEFIT CONCERT FOR MARY'S FOOD FOR THOUGHT
DESCRIPTION:LIVE at The Livery – A Rockin’ Night for a Great Cause! \nFeaturing Little Days with the incredible Bernie Barlow \nJoin us for an unforgettable evening of music\, community\, and giving back! This benefit concert supports Mary’s Food for Thought\, helping to nourish and uplift those in need — and you can be part of the magic! \nVIP Meet & Greet | 5:30 – 6:30 PM \nCome early to meet the band\, enjoy some hors d’oeuvres and non-alcoholic beverages sponsored by Chef Mary McDonald of Simple Goodness Catering\, and snap a few photos! \nConcert begins at 6:30 PM – and it’s going to be electric! Little Days and Bernie Barlow will bring the house down with an amazing live performance you won’t want to miss.All proceeds support Mary’s Food for Thought – let’s come together to make a difference while having a blast! \nTickets $30 – available at the door or online | BYOB – Beer & Wine
URL:https://projectsunapee.org/event/benefit-concert-for-marys-food-for-thought-2/
LOCATION:The Livery\, 58 Main Street\, Sunapee\, NH\, 03782-2925\, United States
CATEGORIES:Music,Sunapee Harbor
ATTACH;FMTTYPE=image/png:https://projectsunapee.org/wp-content/uploads/2024/05/MFFT-Circle-Logo.png
END:VEVENT
BEGIN:VEVENT
DTSTART;TZID=America/New_York:20251004T173000
DTEND;TZID=America/New_York:20251004T193000
DTSTAMP:20260424T205101
CREATED:20250903T164419Z
LAST-MODIFIED:20250904T203346Z
UID:10000002-1759599000-1759606200@projectsunapee.org
SUMMARY:Community Square Dance
DESCRIPTION:The Friends of the Abbott Library Community Square Dance is back with Caller David Millstone! All are welcome – no prior knowledge or experience needed. Dancing is geared towards ages 8 and older.
URL:https://projectsunapee.org/event/community-square-dance/
LOCATION:Sherburne Gym
CATEGORIES:Music
ATTACH;FMTTYPE=image/jpeg:https://projectsunapee.org/wp-content/uploads/2025/09/square-dance.jpg
ORGANIZER;CN="Abbott Library":MAILTO:info@abbottlibrary.org
END:VEVENT
BEGIN:VEVENT
DTSTART;TZID=America/New_York:20251010T190000
DTEND;TZID=America/New_York:20251010T210000
DTSTAMP:20260424T205101
CREATED:20250904T190923Z
LAST-MODIFIED:20250904T203339Z
UID:10000014-1760122800-1760130000@projectsunapee.org
SUMMARY:Sunapee CoffeeHouse - Todd Monroe
DESCRIPTION:Todd Monroe is a versatile and passionate musician whose career has spanned genres\, generations\, and communities. During his musical career he has performed as a solo artist as well as multiple groups in the Austin area for over 25 years. \nAs a founding member of the Contrafact Jazz Group\, Todd brought his creative vision and technical expertise to the forefront of the ensemble. Known for their intricate arrangements and innovative interpretations\, Contrafact Jazz Group became a local favorite in Austin for over 20 years\, captivating audiences with their sophisticated sound and dynamic performances. Todd’s contributions as a skilled instrumentalist and composer played a pivotal role in shaping the group’s unique identity.
URL:https://projectsunapee.org/event/sunapee-coffeehouse-todd-monroe/
LOCATION:Lake Sunapee United Methodist Church\, 9 Lower Main Street\, Sunapee\, NH\, 03782
CATEGORIES:Music
ATTACH;FMTTYPE=image/jpeg:https://projectsunapee.org/wp-content/uploads/2025/09/ToddMonroe2-w200.jpg
END:VEVENT
BEGIN:VEVENT
DTSTART;TZID=America/New_York:20251017T170000
DTEND;TZID=America/New_York:20251017T200000
DTSTAMP:20260424T205101
CREATED:20250905T193512Z
LAST-MODIFIED:20250905T193711Z
UID:10000555-1760720400-1760731200@projectsunapee.org
SUMMARY:Live Music - JD and the Stonemasons
DESCRIPTION:Join us for Sea Shanty Night with JD and the Stonemasons.
URL:https://projectsunapee.org/event/live-music-jd-and-the-stonemasons/
LOCATION:Hoptimystic Brewery\, 31 River Road\, Sunapee\, NH\, 03782
CATEGORIES:Music,Sunapee Harbor
ATTACH;FMTTYPE=image/jpeg:https://projectsunapee.org/wp-content/uploads/2025/09/538944073_122136665102815767_8684413597423596425_n.jpg
ORGANIZER;CN="Hoptimystic Brewing":MAILTO:hoptimysticbrewingNH@gmail.com
END:VEVENT
BEGIN:VEVENT
DTSTART;TZID=America/New_York:20251024T190000
DTEND;TZID=America/New_York:20251024T210000
DTSTAMP:20260424T205101
CREATED:20250904T194638Z
LAST-MODIFIED:20250904T203334Z
UID:10000015-1761332400-1761339600@projectsunapee.org
SUMMARY:Sunapee CoffeeHouse - Howie Newman and Knock on Wood
DESCRIPTION:One of the most engaging performers on the New England folk circuit\, Howie Newman combines music\, comedy and audience participation to provide a truly unique entertainment experience. \nHis amusing compositions are up-tempo and catchy\, and he keeps things lively with funny between-songs banter and short comedy bits (there is also a smattering of serious songs). \nSong topics include television commercials\, baseball\, cell phones\, middle age dating\, the weather\, intergalactic garbage collection and more. And the material is totally clean\, suitable for all ages. \nNewman has opened for Tom Paxton\, Vance Gilbert\, Brewer & Shipley\, Pure Prairie League\, Bill Staines\, Lui Collins\, Don White\, Modern Man and many others. His songs have received national airplay on the Dr. Demento Show\, National Public Radio and the Midnight Special as well as dozens of other North American outlets
URL:https://projectsunapee.org/event/howie-newman-and-knock-on-wood/
LOCATION:Lake Sunapee United Methodist Church\, 9 Lower Main Street\, Sunapee\, NH\, 03782
CATEGORIES:Music
ATTACH;FMTTYPE=image/jpeg:https://projectsunapee.org/wp-content/uploads/2025/09/HowieNewman.jpg
END:VEVENT
END:VCALENDAR