BEGIN:VCALENDAR
VERSION:2.0
PRODID:-//Project Sunapee - ECPv6.15.20//NONSGML v1.0//EN
CALSCALE:GREGORIAN
METHOD:PUBLISH
X-WR-CALNAME:Project Sunapee
X-ORIGINAL-URL:https://projectsunapee.org
X-WR-CALDESC:Events for Project Sunapee
REFRESH-INTERVAL;VALUE=DURATION:PT1H
X-Robots-Tag:noindex
X-PUBLISHED-TTL:PT1H
BEGIN:VTIMEZONE
TZID:America/New_York
BEGIN:DAYLIGHT
TZOFFSETFROM:-0500
TZOFFSETTO:-0400
TZNAME:EDT
DTSTART:20240310T070000
END:DAYLIGHT
BEGIN:STANDARD
TZOFFSETFROM:-0400
TZOFFSETTO:-0500
TZNAME:EST
DTSTART:20241103T060000
END:STANDARD
BEGIN:DAYLIGHT
TZOFFSETFROM:-0500
TZOFFSETTO:-0400
TZNAME:EDT
DTSTART:20250309T070000
END:DAYLIGHT
BEGIN:STANDARD
TZOFFSETFROM:-0400
TZOFFSETTO:-0500
TZNAME:EST
DTSTART:20251102T060000
END:STANDARD
BEGIN:DAYLIGHT
TZOFFSETFROM:-0500
TZOFFSETTO:-0400
TZNAME:EDT
DTSTART:20260308T070000
END:DAYLIGHT
BEGIN:STANDARD
TZOFFSETFROM:-0400
TZOFFSETTO:-0500
TZNAME:EST
DTSTART:20261101T060000
END:STANDARD
END:VTIMEZONE
BEGIN:VEVENT
DTSTART;TZID=America/New_York:20251114T190000
DTEND;TZID=America/New_York:20251114T210000
DTSTAMP:20260424T191240
CREATED:20250904T194800Z
LAST-MODIFIED:20250904T203329Z
UID:10000016-1763146800-1763154000@projectsunapee.org
SUMMARY:Sunapee CoffeeHouse - Robyn Macy
DESCRIPTION:Robyn’s musical journey began in the nineteen sixties during “the Great Folk Scare.”  Early influences included listening to the music of Dave Van Ronk and Mississippi John Hurt whose finger-picking seemed to be just this side of magical. Over all the years\, her love of the fingerstyle blues has persisted and expanded. \nAfter college and grad school\, a decades long engineering career interrupted Robyn’s musical pursuits but after a lapse of many years\, she returned to music with enthusiasm. During the past ten years Robyn has performed at open mics in Sunapee\, Andover and Warner\, playing both covers and some original material. Robyn is therefore a newcomer to the stage\, with tonight’s debut performance being the fulfillment of a dream many years in the making. She aims to make it a good one. \nBeyond the blues\, Robyn loves songs with some emotional heft and she frequently sings songs that tell a story. Songs that are poignant\, wistful\, funny\, or gritty all reach out to her. So\, look for some traditional fingerstyle blues\, some covers that may pull the heart strings and some original songs as well.
URL:https://projectsunapee.org/event/sunapee-coffeehouse-robyn-macy/
LOCATION:Lake Sunapee United Methodist Church\, 9 Lower Main Street\, Sunapee\, NH\, 03782
CATEGORIES:Music
ATTACH;FMTTYPE=image/jpeg:https://projectsunapee.org/wp-content/uploads/2025/09/RobynMacy-w200.jpg
END:VEVENT
END:VCALENDAR