BEGIN:VCALENDAR
VERSION:2.0
PRODID:-//Project Sunapee - ECPv6.15.20//NONSGML v1.0//EN
CALSCALE:GREGORIAN
METHOD:PUBLISH
X-WR-CALNAME:Project Sunapee
X-ORIGINAL-URL:https://projectsunapee.org
X-WR-CALDESC:Events for Project Sunapee
REFRESH-INTERVAL;VALUE=DURATION:PT1H
X-Robots-Tag:noindex
X-PUBLISHED-TTL:PT1H
BEGIN:VTIMEZONE
TZID:America/New_York
BEGIN:DAYLIGHT
TZOFFSETFROM:-0500
TZOFFSETTO:-0400
TZNAME:EDT
DTSTART:20250309T070000
END:DAYLIGHT
BEGIN:STANDARD
TZOFFSETFROM:-0400
TZOFFSETTO:-0500
TZNAME:EST
DTSTART:20251102T060000
END:STANDARD
BEGIN:DAYLIGHT
TZOFFSETFROM:-0500
TZOFFSETTO:-0400
TZNAME:EDT
DTSTART:20260308T070000
END:DAYLIGHT
BEGIN:STANDARD
TZOFFSETFROM:-0400
TZOFFSETTO:-0500
TZNAME:EST
DTSTART:20261101T060000
END:STANDARD
BEGIN:DAYLIGHT
TZOFFSETFROM:-0500
TZOFFSETTO:-0400
TZNAME:EDT
DTSTART:20270314T070000
END:DAYLIGHT
BEGIN:STANDARD
TZOFFSETFROM:-0400
TZOFFSETTO:-0500
TZNAME:EST
DTSTART:20271107T060000
END:STANDARD
END:VTIMEZONE
BEGIN:VEVENT
DTSTART;TZID=America/New_York:20260522T190000
DTEND;TZID=America/New_York:20260522T210000
DTSTAMP:20260424T160418
CREATED:20260113T175221Z
LAST-MODIFIED:20260119T133744Z
UID:10003778-1779476400-1779483600@projectsunapee.org
SUMMARY:Cosy Sheridan
DESCRIPTION:Cosy Sheridan has been called “one of the era’s finest and most thoughtful singer/songwriters” She first appeared on the national folk scene in 1992 when she won the songwriting contests at The Kerrville Folk Festival and The Telluride Bluegrass Festival. Since then she has released 10 cds\, written a one-woman-show and her music has appeared in books and film. She has taught songwriting\, guitar and performance workshops at music camps for the past 15 years\, including The Puget Sound Guitar Workshop and The Swannanoa Gathering. She is the director of The Moab Folk Camp in Moab\, Utah. \n“Her user-friendly musical philosophy sets her happily apart from the myopic\, self-involved songwriters… she is a wonderfully lively\, very funny and enormously amiable entertainer with a keen and wicked eye for the excesses of our fast-food\, tv-happy and noisome culture.” – The Boston Globe \n“A Buddhist monk in a 12-step program trapped in the body of a singer/songwriter.” – The Albuquerque Journal \n“Sheridan is frank\, feisty\, sublimely and devilishly funny. She fuses myth with modern culture\, Persephone with Botox.” – Cornell Folksong Society
URL:https://projectsunapee.org/event/cosy-sheridan/
LOCATION:Lake Sunapee United Methodist Church\, 9 Lower Main Street\, Sunapee\, NH\, 03782
CATEGORIES:Music
ATTACH;FMTTYPE=image/jpeg:https://projectsunapee.org/wp-content/uploads/2026/01/cosy.jpg
END:VEVENT
END:VCALENDAR