BEGIN:VCALENDAR
VERSION:2.0
PRODID:-//Project Sunapee - ECPv6.15.20//NONSGML v1.0//EN
CALSCALE:GREGORIAN
METHOD:PUBLISH
X-ORIGINAL-URL:https://projectsunapee.org
X-WR-CALDESC:Events for Project Sunapee
REFRESH-INTERVAL;VALUE=DURATION:PT1H
X-Robots-Tag:noindex
X-PUBLISHED-TTL:PT1H
BEGIN:VTIMEZONE
TZID:America/New_York
BEGIN:DAYLIGHT
TZOFFSETFROM:-0500
TZOFFSETTO:-0400
TZNAME:EDT
DTSTART:20250309T070000
END:DAYLIGHT
BEGIN:STANDARD
TZOFFSETFROM:-0400
TZOFFSETTO:-0500
TZNAME:EST
DTSTART:20251102T060000
END:STANDARD
BEGIN:DAYLIGHT
TZOFFSETFROM:-0500
TZOFFSETTO:-0400
TZNAME:EDT
DTSTART:20260308T070000
END:DAYLIGHT
BEGIN:STANDARD
TZOFFSETFROM:-0400
TZOFFSETTO:-0500
TZNAME:EST
DTSTART:20261101T060000
END:STANDARD
BEGIN:DAYLIGHT
TZOFFSETFROM:-0500
TZOFFSETTO:-0400
TZNAME:EDT
DTSTART:20270314T070000
END:DAYLIGHT
BEGIN:STANDARD
TZOFFSETFROM:-0400
TZOFFSETTO:-0500
TZNAME:EST
DTSTART:20271107T060000
END:STANDARD
END:VTIMEZONE
BEGIN:VEVENT
DTSTART;TZID=America/New_York:20260301T180000
DTEND;TZID=America/New_York:20260301T200000
DTSTAMP:20260423T192500
CREATED:20260113T173124Z
LAST-MODIFIED:20260113T173124Z
UID:10003713-1772388000-1772395200@projectsunapee.org
SUMMARY:Futsal
DESCRIPTION:Futsal is a form of soccer\, played indoors with a weighted ball.  It is intended to work on foot skills and ball possession in confined spaces. \nOpen to High School through Adult aged participants. \nWhen: Sunday nights 6pm – 8pm\, during winter months. \nWhere: Sherburne Gym Sunapee NH
URL:https://projectsunapee.org/event/futsal/2026-03-01/
LOCATION:Sherburne Gym
CATEGORIES:Recreation
ATTACH;FMTTYPE=image/webp:https://projectsunapee.org/wp-content/uploads/2026/01/futsal_ball.jpg.webp
END:VEVENT
BEGIN:VEVENT
DTSTART;TZID=America/New_York:20260303T053000
DTEND;TZID=America/New_York:20260303T063000
DTSTAMP:20260423T192500
CREATED:20250930T202827Z
LAST-MODIFIED:20260114T173323Z
UID:10000854-1772515800-1772519400@projectsunapee.org
SUMMARY:Bootcamp for Adults
DESCRIPTION:Each session consists of 12 classes over a span of 6 weeks. Additionally\, there are options for quarterly and annual enrollments. \nSession runs 10/23/25-12/30/25 every Tuesday & Thursday 5:30-6:30am \n$50 Sunapee Resident/$55 Non-Resident \nhttps://sunapeerecreation.recdesk.com/Community/Program
URL:https://projectsunapee.org/event/bootcamp-for-adults/2026-03-03/
LOCATION:Sherburne Gym
CATEGORIES:Recreation
ATTACH;FMTTYPE=image/webp:https://projectsunapee.org/wp-content/uploads/2025/09/kettlebell-3293481_640.webp
END:VEVENT
BEGIN:VEVENT
DTSTART;TZID=America/New_York:20260303T120000
DTEND;TZID=America/New_York:20260303T123000
DTSTAMP:20260423T192500
CREATED:20260126T130837Z
LAST-MODIFIED:20260222T145722Z
UID:10003833-1772539200-1772541000@projectsunapee.org
SUMMARY:Walking in the Gym
DESCRIPTION:Walking in the Gym – The Sunapee Seniors have arranged for winter-time walking in the Sherburne Gym – Tuesday\, Wednesday & Thursday\, from 12:00-12:30 pm. A good opportunity to walk safely and enjoy conversation with others! Please bring dry sneakers/shoes for walking. Note – if there is no school\, there is no walking. Free.
URL:https://projectsunapee.org/event/waling-in-the-gym/2026-03-03/
LOCATION:Sherburne Gym
CATEGORIES:Recreation
ATTACH;FMTTYPE=image/webp:https://projectsunapee.org/wp-content/uploads/2026/01/shoes-1260811_640.webp
END:VEVENT
BEGIN:VEVENT
DTSTART;TZID=America/New_York:20260304T120000
DTEND;TZID=America/New_York:20260304T123000
DTSTAMP:20260423T192500
CREATED:20260126T130837Z
LAST-MODIFIED:20260222T145722Z
UID:10003834-1772625600-1772627400@projectsunapee.org
SUMMARY:Walking in the Gym
DESCRIPTION:Walking in the Gym – The Sunapee Seniors have arranged for winter-time walking in the Sherburne Gym – Tuesday\, Wednesday & Thursday\, from 12:00-12:30 pm. A good opportunity to walk safely and enjoy conversation with others! Please bring dry sneakers/shoes for walking. Note – if there is no school\, there is no walking. Free.
URL:https://projectsunapee.org/event/waling-in-the-gym/2026-03-04/
LOCATION:Sherburne Gym
CATEGORIES:Recreation
ATTACH;FMTTYPE=image/webp:https://projectsunapee.org/wp-content/uploads/2026/01/shoes-1260811_640.webp
END:VEVENT
BEGIN:VEVENT
DTSTART;TZID=America/New_York:20260305T053000
DTEND;TZID=America/New_York:20260305T063000
DTSTAMP:20260423T192500
CREATED:20250930T202827Z
LAST-MODIFIED:20260114T173323Z
UID:10000855-1772688600-1772692200@projectsunapee.org
SUMMARY:Bootcamp for Adults
DESCRIPTION:Each session consists of 12 classes over a span of 6 weeks. Additionally\, there are options for quarterly and annual enrollments. \nSession runs 10/23/25-12/30/25 every Tuesday & Thursday 5:30-6:30am \n$50 Sunapee Resident/$55 Non-Resident \nhttps://sunapeerecreation.recdesk.com/Community/Program
URL:https://projectsunapee.org/event/bootcamp-for-adults/2026-03-05/
LOCATION:Sherburne Gym
CATEGORIES:Recreation
ATTACH;FMTTYPE=image/webp:https://projectsunapee.org/wp-content/uploads/2025/09/kettlebell-3293481_640.webp
END:VEVENT
BEGIN:VEVENT
DTSTART;TZID=America/New_York:20260305T120000
DTEND;TZID=America/New_York:20260305T123000
DTSTAMP:20260423T192500
CREATED:20260126T130837Z
LAST-MODIFIED:20260222T145722Z
UID:10003835-1772712000-1772713800@projectsunapee.org
SUMMARY:Walking in the Gym
DESCRIPTION:Walking in the Gym – The Sunapee Seniors have arranged for winter-time walking in the Sherburne Gym – Tuesday\, Wednesday & Thursday\, from 12:00-12:30 pm. A good opportunity to walk safely and enjoy conversation with others! Please bring dry sneakers/shoes for walking. Note – if there is no school\, there is no walking. Free.
URL:https://projectsunapee.org/event/waling-in-the-gym/2026-03-05/
LOCATION:Sherburne Gym
CATEGORIES:Recreation
ATTACH;FMTTYPE=image/webp:https://projectsunapee.org/wp-content/uploads/2026/01/shoes-1260811_640.webp
END:VEVENT
BEGIN:VEVENT
DTSTART;TZID=America/New_York:20260307T170000
DTEND;TZID=America/New_York:20260307T190000
DTSTAMP:20260423T192500
CREATED:20260126T212654Z
LAST-MODIFIED:20260126T212654Z
UID:10004606-1772902800-1772910000@projectsunapee.org
SUMMARY:Open Gym Nights at Sherburne Gym!
DESCRIPTION:Friends of Sunapee Recreation is excited to share upcoming Open Gym Nights hosted by Peter White for the Sunapee Recreation Department at Sherburne Gym.\nWho: Grades 1–6\nWhen:\n• Saturday\, January 24 | 5:00–7:00 PM\n• Saturday\, February 7 | 5:00–7:00 PM\n• Saturday\, March 7 | 5:00–7:00 PM\n• One additional March date (March 14 or March 28 – TBD)\nThese open gym nights are a great opportunity for kids to get active\, play basketball\, and have fun in a supervised environment.\nSpread the word—we hope to see lots of kids there!
URL:https://projectsunapee.org/event/open-gym-nights-at-sherburne-gym/2026-03-07/
LOCATION:Sherburne Gym
CATEGORIES:Recreation
ATTACH;FMTTYPE=image/webp:https://projectsunapee.org/wp-content/uploads/2026/01/619113966_1494414486020712_4832764635371614395_n.webp
END:VEVENT
BEGIN:VEVENT
DTSTART;TZID=America/New_York:20260308T180000
DTEND;TZID=America/New_York:20260308T200000
DTSTAMP:20260423T192500
CREATED:20260113T173124Z
LAST-MODIFIED:20260113T173124Z
UID:10003714-1772992800-1773000000@projectsunapee.org
SUMMARY:Futsal
DESCRIPTION:Futsal is a form of soccer\, played indoors with a weighted ball.  It is intended to work on foot skills and ball possession in confined spaces. \nOpen to High School through Adult aged participants. \nWhen: Sunday nights 6pm – 8pm\, during winter months. \nWhere: Sherburne Gym Sunapee NH
URL:https://projectsunapee.org/event/futsal/2026-03-08/
LOCATION:Sherburne Gym
CATEGORIES:Recreation
ATTACH;FMTTYPE=image/webp:https://projectsunapee.org/wp-content/uploads/2026/01/futsal_ball.jpg.webp
END:VEVENT
BEGIN:VEVENT
DTSTART;TZID=America/New_York:20260310T053000
DTEND;TZID=America/New_York:20260310T063000
DTSTAMP:20260423T192500
CREATED:20250930T202827Z
LAST-MODIFIED:20260114T173323Z
UID:10000856-1773120600-1773124200@projectsunapee.org
SUMMARY:Bootcamp for Adults
DESCRIPTION:Each session consists of 12 classes over a span of 6 weeks. Additionally\, there are options for quarterly and annual enrollments. \nSession runs 10/23/25-12/30/25 every Tuesday & Thursday 5:30-6:30am \n$50 Sunapee Resident/$55 Non-Resident \nhttps://sunapeerecreation.recdesk.com/Community/Program
URL:https://projectsunapee.org/event/bootcamp-for-adults/2026-03-10/
LOCATION:Sherburne Gym
CATEGORIES:Recreation
ATTACH;FMTTYPE=image/webp:https://projectsunapee.org/wp-content/uploads/2025/09/kettlebell-3293481_640.webp
END:VEVENT
BEGIN:VEVENT
DTSTART;TZID=America/New_York:20260310T120000
DTEND;TZID=America/New_York:20260310T123000
DTSTAMP:20260423T192500
CREATED:20260126T130837Z
LAST-MODIFIED:20260222T145722Z
UID:10003836-1773144000-1773145800@projectsunapee.org
SUMMARY:Walking in the Gym
DESCRIPTION:Walking in the Gym – The Sunapee Seniors have arranged for winter-time walking in the Sherburne Gym – Tuesday\, Wednesday & Thursday\, from 12:00-12:30 pm. A good opportunity to walk safely and enjoy conversation with others! Please bring dry sneakers/shoes for walking. Note – if there is no school\, there is no walking. Free.
URL:https://projectsunapee.org/event/waling-in-the-gym/2026-03-10/
LOCATION:Sherburne Gym
CATEGORIES:Recreation
ATTACH;FMTTYPE=image/webp:https://projectsunapee.org/wp-content/uploads/2026/01/shoes-1260811_640.webp
END:VEVENT
BEGIN:VEVENT
DTSTART;TZID=America/New_York:20260311T120000
DTEND;TZID=America/New_York:20260311T123000
DTSTAMP:20260423T192500
CREATED:20260126T130837Z
LAST-MODIFIED:20260222T145722Z
UID:10003837-1773230400-1773232200@projectsunapee.org
SUMMARY:Walking in the Gym
DESCRIPTION:Walking in the Gym – The Sunapee Seniors have arranged for winter-time walking in the Sherburne Gym – Tuesday\, Wednesday & Thursday\, from 12:00-12:30 pm. A good opportunity to walk safely and enjoy conversation with others! Please bring dry sneakers/shoes for walking. Note – if there is no school\, there is no walking. Free.
URL:https://projectsunapee.org/event/waling-in-the-gym/2026-03-11/
LOCATION:Sherburne Gym
CATEGORIES:Recreation
ATTACH;FMTTYPE=image/webp:https://projectsunapee.org/wp-content/uploads/2026/01/shoes-1260811_640.webp
END:VEVENT
BEGIN:VEVENT
DTSTART;TZID=America/New_York:20260312T053000
DTEND;TZID=America/New_York:20260312T063000
DTSTAMP:20260423T192500
CREATED:20250930T202827Z
LAST-MODIFIED:20260114T173323Z
UID:10000857-1773293400-1773297000@projectsunapee.org
SUMMARY:Bootcamp for Adults
DESCRIPTION:Each session consists of 12 classes over a span of 6 weeks. Additionally\, there are options for quarterly and annual enrollments. \nSession runs 10/23/25-12/30/25 every Tuesday & Thursday 5:30-6:30am \n$50 Sunapee Resident/$55 Non-Resident \nhttps://sunapeerecreation.recdesk.com/Community/Program
URL:https://projectsunapee.org/event/bootcamp-for-adults/2026-03-12/
LOCATION:Sherburne Gym
CATEGORIES:Recreation
ATTACH;FMTTYPE=image/webp:https://projectsunapee.org/wp-content/uploads/2025/09/kettlebell-3293481_640.webp
END:VEVENT
BEGIN:VEVENT
DTSTART;TZID=America/New_York:20260312T120000
DTEND;TZID=America/New_York:20260312T123000
DTSTAMP:20260423T192500
CREATED:20260126T130837Z
LAST-MODIFIED:20260222T145722Z
UID:10003838-1773316800-1773318600@projectsunapee.org
SUMMARY:Walking in the Gym
DESCRIPTION:Walking in the Gym – The Sunapee Seniors have arranged for winter-time walking in the Sherburne Gym – Tuesday\, Wednesday & Thursday\, from 12:00-12:30 pm. A good opportunity to walk safely and enjoy conversation with others! Please bring dry sneakers/shoes for walking. Note – if there is no school\, there is no walking. Free.
URL:https://projectsunapee.org/event/waling-in-the-gym/2026-03-12/
LOCATION:Sherburne Gym
CATEGORIES:Recreation
ATTACH;FMTTYPE=image/webp:https://projectsunapee.org/wp-content/uploads/2026/01/shoes-1260811_640.webp
END:VEVENT
BEGIN:VEVENT
DTSTART;TZID=America/New_York:20260315T180000
DTEND;TZID=America/New_York:20260315T200000
DTSTAMP:20260423T192500
CREATED:20260113T173124Z
LAST-MODIFIED:20260113T173124Z
UID:10003715-1773597600-1773604800@projectsunapee.org
SUMMARY:Futsal
DESCRIPTION:Futsal is a form of soccer\, played indoors with a weighted ball.  It is intended to work on foot skills and ball possession in confined spaces. \nOpen to High School through Adult aged participants. \nWhen: Sunday nights 6pm – 8pm\, during winter months. \nWhere: Sherburne Gym Sunapee NH
URL:https://projectsunapee.org/event/futsal/2026-03-15/
LOCATION:Sherburne Gym
CATEGORIES:Recreation
ATTACH;FMTTYPE=image/webp:https://projectsunapee.org/wp-content/uploads/2026/01/futsal_ball.jpg.webp
END:VEVENT
BEGIN:VEVENT
DTSTART;TZID=America/New_York:20260317T053000
DTEND;TZID=America/New_York:20260317T063000
DTSTAMP:20260423T192500
CREATED:20250930T202827Z
LAST-MODIFIED:20260114T173323Z
UID:10000858-1773725400-1773729000@projectsunapee.org
SUMMARY:Bootcamp for Adults
DESCRIPTION:Each session consists of 12 classes over a span of 6 weeks. Additionally\, there are options for quarterly and annual enrollments. \nSession runs 10/23/25-12/30/25 every Tuesday & Thursday 5:30-6:30am \n$50 Sunapee Resident/$55 Non-Resident \nhttps://sunapeerecreation.recdesk.com/Community/Program
URL:https://projectsunapee.org/event/bootcamp-for-adults/2026-03-17/
LOCATION:Sherburne Gym
CATEGORIES:Recreation
ATTACH;FMTTYPE=image/webp:https://projectsunapee.org/wp-content/uploads/2025/09/kettlebell-3293481_640.webp
END:VEVENT
BEGIN:VEVENT
DTSTART;TZID=America/New_York:20260317T120000
DTEND;TZID=America/New_York:20260317T123000
DTSTAMP:20260423T192500
CREATED:20260126T130837Z
LAST-MODIFIED:20260222T145722Z
UID:10003839-1773748800-1773750600@projectsunapee.org
SUMMARY:Walking in the Gym
DESCRIPTION:Walking in the Gym – The Sunapee Seniors have arranged for winter-time walking in the Sherburne Gym – Tuesday\, Wednesday & Thursday\, from 12:00-12:30 pm. A good opportunity to walk safely and enjoy conversation with others! Please bring dry sneakers/shoes for walking. Note – if there is no school\, there is no walking. Free.
URL:https://projectsunapee.org/event/waling-in-the-gym/2026-03-17/
LOCATION:Sherburne Gym
CATEGORIES:Recreation
ATTACH;FMTTYPE=image/webp:https://projectsunapee.org/wp-content/uploads/2026/01/shoes-1260811_640.webp
END:VEVENT
BEGIN:VEVENT
DTSTART;TZID=America/New_York:20260318T120000
DTEND;TZID=America/New_York:20260318T123000
DTSTAMP:20260423T192500
CREATED:20260126T130837Z
LAST-MODIFIED:20260222T145722Z
UID:10003840-1773835200-1773837000@projectsunapee.org
SUMMARY:Walking in the Gym
DESCRIPTION:Walking in the Gym – The Sunapee Seniors have arranged for winter-time walking in the Sherburne Gym – Tuesday\, Wednesday & Thursday\, from 12:00-12:30 pm. A good opportunity to walk safely and enjoy conversation with others! Please bring dry sneakers/shoes for walking. Note – if there is no school\, there is no walking. Free.
URL:https://projectsunapee.org/event/waling-in-the-gym/2026-03-18/
LOCATION:Sherburne Gym
CATEGORIES:Recreation
ATTACH;FMTTYPE=image/webp:https://projectsunapee.org/wp-content/uploads/2026/01/shoes-1260811_640.webp
END:VEVENT
BEGIN:VEVENT
DTSTART;TZID=America/New_York:20260319T053000
DTEND;TZID=America/New_York:20260319T063000
DTSTAMP:20260423T192500
CREATED:20250930T202827Z
LAST-MODIFIED:20260114T173323Z
UID:10000859-1773898200-1773901800@projectsunapee.org
SUMMARY:Bootcamp for Adults
DESCRIPTION:Each session consists of 12 classes over a span of 6 weeks. Additionally\, there are options for quarterly and annual enrollments. \nSession runs 10/23/25-12/30/25 every Tuesday & Thursday 5:30-6:30am \n$50 Sunapee Resident/$55 Non-Resident \nhttps://sunapeerecreation.recdesk.com/Community/Program
URL:https://projectsunapee.org/event/bootcamp-for-adults/2026-03-19/
LOCATION:Sherburne Gym
CATEGORIES:Recreation
ATTACH;FMTTYPE=image/webp:https://projectsunapee.org/wp-content/uploads/2025/09/kettlebell-3293481_640.webp
END:VEVENT
BEGIN:VEVENT
DTSTART;TZID=America/New_York:20260319T120000
DTEND;TZID=America/New_York:20260319T123000
DTSTAMP:20260423T192500
CREATED:20260126T130837Z
LAST-MODIFIED:20260222T145722Z
UID:10003841-1773921600-1773923400@projectsunapee.org
SUMMARY:Walking in the Gym
DESCRIPTION:Walking in the Gym – The Sunapee Seniors have arranged for winter-time walking in the Sherburne Gym – Tuesday\, Wednesday & Thursday\, from 12:00-12:30 pm. A good opportunity to walk safely and enjoy conversation with others! Please bring dry sneakers/shoes for walking. Note – if there is no school\, there is no walking. Free.
URL:https://projectsunapee.org/event/waling-in-the-gym/2026-03-19/
LOCATION:Sherburne Gym
CATEGORIES:Recreation
ATTACH;FMTTYPE=image/webp:https://projectsunapee.org/wp-content/uploads/2026/01/shoes-1260811_640.webp
END:VEVENT
BEGIN:VEVENT
DTSTART;TZID=America/New_York:20260322T180000
DTEND;TZID=America/New_York:20260322T200000
DTSTAMP:20260423T192500
CREATED:20260113T173124Z
LAST-MODIFIED:20260113T173124Z
UID:10003716-1774202400-1774209600@projectsunapee.org
SUMMARY:Futsal
DESCRIPTION:Futsal is a form of soccer\, played indoors with a weighted ball.  It is intended to work on foot skills and ball possession in confined spaces. \nOpen to High School through Adult aged participants. \nWhen: Sunday nights 6pm – 8pm\, during winter months. \nWhere: Sherburne Gym Sunapee NH
URL:https://projectsunapee.org/event/futsal/2026-03-22/
LOCATION:Sherburne Gym
CATEGORIES:Recreation
ATTACH;FMTTYPE=image/webp:https://projectsunapee.org/wp-content/uploads/2026/01/futsal_ball.jpg.webp
END:VEVENT
BEGIN:VEVENT
DTSTART;TZID=America/New_York:20260324T053000
DTEND;TZID=America/New_York:20260324T063000
DTSTAMP:20260423T192500
CREATED:20250930T202827Z
LAST-MODIFIED:20260114T173323Z
UID:10000860-1774330200-1774333800@projectsunapee.org
SUMMARY:Bootcamp for Adults
DESCRIPTION:Each session consists of 12 classes over a span of 6 weeks. Additionally\, there are options for quarterly and annual enrollments. \nSession runs 10/23/25-12/30/25 every Tuesday & Thursday 5:30-6:30am \n$50 Sunapee Resident/$55 Non-Resident \nhttps://sunapeerecreation.recdesk.com/Community/Program
URL:https://projectsunapee.org/event/bootcamp-for-adults/2026-03-24/
LOCATION:Sherburne Gym
CATEGORIES:Recreation
ATTACH;FMTTYPE=image/webp:https://projectsunapee.org/wp-content/uploads/2025/09/kettlebell-3293481_640.webp
END:VEVENT
BEGIN:VEVENT
DTSTART;TZID=America/New_York:20260324T120000
DTEND;TZID=America/New_York:20260324T123000
DTSTAMP:20260423T192500
CREATED:20260126T130837Z
LAST-MODIFIED:20260222T145722Z
UID:10003842-1774353600-1774355400@projectsunapee.org
SUMMARY:Walking in the Gym
DESCRIPTION:Walking in the Gym – The Sunapee Seniors have arranged for winter-time walking in the Sherburne Gym – Tuesday\, Wednesday & Thursday\, from 12:00-12:30 pm. A good opportunity to walk safely and enjoy conversation with others! Please bring dry sneakers/shoes for walking. Note – if there is no school\, there is no walking. Free.
URL:https://projectsunapee.org/event/waling-in-the-gym/2026-03-24/
LOCATION:Sherburne Gym
CATEGORIES:Recreation
ATTACH;FMTTYPE=image/webp:https://projectsunapee.org/wp-content/uploads/2026/01/shoes-1260811_640.webp
END:VEVENT
BEGIN:VEVENT
DTSTART;TZID=America/New_York:20260325T120000
DTEND;TZID=America/New_York:20260325T123000
DTSTAMP:20260423T192500
CREATED:20260126T130837Z
LAST-MODIFIED:20260222T145722Z
UID:10003843-1774440000-1774441800@projectsunapee.org
SUMMARY:Walking in the Gym
DESCRIPTION:Walking in the Gym – The Sunapee Seniors have arranged for winter-time walking in the Sherburne Gym – Tuesday\, Wednesday & Thursday\, from 12:00-12:30 pm. A good opportunity to walk safely and enjoy conversation with others! Please bring dry sneakers/shoes for walking. Note – if there is no school\, there is no walking. Free.
URL:https://projectsunapee.org/event/waling-in-the-gym/2026-03-25/
LOCATION:Sherburne Gym
CATEGORIES:Recreation
ATTACH;FMTTYPE=image/webp:https://projectsunapee.org/wp-content/uploads/2026/01/shoes-1260811_640.webp
END:VEVENT
BEGIN:VEVENT
DTSTART;TZID=America/New_York:20260326T053000
DTEND;TZID=America/New_York:20260326T063000
DTSTAMP:20260423T192500
CREATED:20250930T202827Z
LAST-MODIFIED:20260114T173323Z
UID:10000861-1774503000-1774506600@projectsunapee.org
SUMMARY:Bootcamp for Adults
DESCRIPTION:Each session consists of 12 classes over a span of 6 weeks. Additionally\, there are options for quarterly and annual enrollments. \nSession runs 10/23/25-12/30/25 every Tuesday & Thursday 5:30-6:30am \n$50 Sunapee Resident/$55 Non-Resident \nhttps://sunapeerecreation.recdesk.com/Community/Program
URL:https://projectsunapee.org/event/bootcamp-for-adults/2026-03-26/
LOCATION:Sherburne Gym
CATEGORIES:Recreation
ATTACH;FMTTYPE=image/webp:https://projectsunapee.org/wp-content/uploads/2025/09/kettlebell-3293481_640.webp
END:VEVENT
BEGIN:VEVENT
DTSTART;TZID=America/New_York:20260326T120000
DTEND;TZID=America/New_York:20260326T123000
DTSTAMP:20260423T192500
CREATED:20260126T130837Z
LAST-MODIFIED:20260222T145722Z
UID:10003844-1774526400-1774528200@projectsunapee.org
SUMMARY:Walking in the Gym
DESCRIPTION:Walking in the Gym – The Sunapee Seniors have arranged for winter-time walking in the Sherburne Gym – Tuesday\, Wednesday & Thursday\, from 12:00-12:30 pm. A good opportunity to walk safely and enjoy conversation with others! Please bring dry sneakers/shoes for walking. Note – if there is no school\, there is no walking. Free.
URL:https://projectsunapee.org/event/waling-in-the-gym/2026-03-26/
LOCATION:Sherburne Gym
CATEGORIES:Recreation
ATTACH;FMTTYPE=image/webp:https://projectsunapee.org/wp-content/uploads/2026/01/shoes-1260811_640.webp
END:VEVENT
BEGIN:VEVENT
DTSTART;TZID=America/New_York:20260329T180000
DTEND;TZID=America/New_York:20260329T200000
DTSTAMP:20260423T192500
CREATED:20260113T173124Z
LAST-MODIFIED:20260113T173124Z
UID:10003717-1774807200-1774814400@projectsunapee.org
SUMMARY:Futsal
DESCRIPTION:Futsal is a form of soccer\, played indoors with a weighted ball.  It is intended to work on foot skills and ball possession in confined spaces. \nOpen to High School through Adult aged participants. \nWhen: Sunday nights 6pm – 8pm\, during winter months. \nWhere: Sherburne Gym Sunapee NH
URL:https://projectsunapee.org/event/futsal/2026-03-29/
LOCATION:Sherburne Gym
CATEGORIES:Recreation
ATTACH;FMTTYPE=image/webp:https://projectsunapee.org/wp-content/uploads/2026/01/futsal_ball.jpg.webp
END:VEVENT
BEGIN:VEVENT
DTSTART;TZID=America/New_York:20260331T053000
DTEND;TZID=America/New_York:20260331T063000
DTSTAMP:20260423T192500
CREATED:20250930T202827Z
LAST-MODIFIED:20260114T173323Z
UID:10000862-1774935000-1774938600@projectsunapee.org
SUMMARY:Bootcamp for Adults
DESCRIPTION:Each session consists of 12 classes over a span of 6 weeks. Additionally\, there are options for quarterly and annual enrollments. \nSession runs 10/23/25-12/30/25 every Tuesday & Thursday 5:30-6:30am \n$50 Sunapee Resident/$55 Non-Resident \nhttps://sunapeerecreation.recdesk.com/Community/Program
URL:https://projectsunapee.org/event/bootcamp-for-adults/2026-03-31/
LOCATION:Sherburne Gym
CATEGORIES:Recreation
ATTACH;FMTTYPE=image/webp:https://projectsunapee.org/wp-content/uploads/2025/09/kettlebell-3293481_640.webp
END:VEVENT
BEGIN:VEVENT
DTSTART;TZID=America/New_York:20260331T120000
DTEND;TZID=America/New_York:20260331T123000
DTSTAMP:20260423T192500
CREATED:20260126T130837Z
LAST-MODIFIED:20260222T145722Z
UID:10003845-1774958400-1774960200@projectsunapee.org
SUMMARY:Walking in the Gym
DESCRIPTION:Walking in the Gym – The Sunapee Seniors have arranged for winter-time walking in the Sherburne Gym – Tuesday\, Wednesday & Thursday\, from 12:00-12:30 pm. A good opportunity to walk safely and enjoy conversation with others! Please bring dry sneakers/shoes for walking. Note – if there is no school\, there is no walking. Free.
URL:https://projectsunapee.org/event/waling-in-the-gym/2026-03-31/
LOCATION:Sherburne Gym
CATEGORIES:Recreation
ATTACH;FMTTYPE=image/webp:https://projectsunapee.org/wp-content/uploads/2026/01/shoes-1260811_640.webp
END:VEVENT
END:VCALENDAR