BEGIN:VCALENDAR
VERSION:2.0
PRODID:-//Project Sunapee - ECPv6.15.20//NONSGML v1.0//EN
CALSCALE:GREGORIAN
METHOD:PUBLISH
X-WR-CALNAME:Project Sunapee
X-ORIGINAL-URL:https://projectsunapee.org
X-WR-CALDESC:Events for Project Sunapee
REFRESH-INTERVAL;VALUE=DURATION:PT1H
X-Robots-Tag:noindex
X-PUBLISHED-TTL:PT1H
BEGIN:VTIMEZONE
TZID:America/New_York
BEGIN:DAYLIGHT
TZOFFSETFROM:-0500
TZOFFSETTO:-0400
TZNAME:EDT
DTSTART:20250309T070000
END:DAYLIGHT
BEGIN:STANDARD
TZOFFSETFROM:-0400
TZOFFSETTO:-0500
TZNAME:EST
DTSTART:20251102T060000
END:STANDARD
BEGIN:DAYLIGHT
TZOFFSETFROM:-0500
TZOFFSETTO:-0400
TZNAME:EDT
DTSTART:20260308T070000
END:DAYLIGHT
BEGIN:STANDARD
TZOFFSETFROM:-0400
TZOFFSETTO:-0500
TZNAME:EST
DTSTART:20261101T060000
END:STANDARD
BEGIN:DAYLIGHT
TZOFFSETFROM:-0500
TZOFFSETTO:-0400
TZNAME:EDT
DTSTART:20270314T070000
END:DAYLIGHT
BEGIN:STANDARD
TZOFFSETFROM:-0400
TZOFFSETTO:-0500
TZNAME:EST
DTSTART:20271107T060000
END:STANDARD
END:VTIMEZONE
BEGIN:VEVENT
DTSTART;TZID=America/New_York:20260503T180000
DTEND;TZID=America/New_York:20260503T200000
DTSTAMP:20260423T193416
CREATED:20260113T173124Z
LAST-MODIFIED:20260113T173124Z
UID:10003722-1777831200-1777838400@projectsunapee.org
SUMMARY:Futsal
DESCRIPTION:Futsal is a form of soccer\, played indoors with a weighted ball.  It is intended to work on foot skills and ball possession in confined spaces. \nOpen to High School through Adult aged participants. \nWhen: Sunday nights 6pm – 8pm\, during winter months. \nWhere: Sherburne Gym Sunapee NH
URL:https://projectsunapee.org/event/futsal/2026-05-03/
LOCATION:Sherburne Gym
CATEGORIES:Recreation
ATTACH;FMTTYPE=image/webp:https://projectsunapee.org/wp-content/uploads/2026/01/futsal_ball.jpg.webp
END:VEVENT
BEGIN:VEVENT
DTSTART;TZID=America/New_York:20260505T053000
DTEND;TZID=America/New_York:20260505T063000
DTSTAMP:20260423T193416
CREATED:20250930T202827Z
LAST-MODIFIED:20260114T173323Z
UID:10000872-1777959000-1777962600@projectsunapee.org
SUMMARY:Bootcamp for Adults
DESCRIPTION:Each session consists of 12 classes over a span of 6 weeks. Additionally\, there are options for quarterly and annual enrollments. \nSession runs 10/23/25-12/30/25 every Tuesday & Thursday 5:30-6:30am \n$50 Sunapee Resident/$55 Non-Resident \nhttps://sunapeerecreation.recdesk.com/Community/Program
URL:https://projectsunapee.org/event/bootcamp-for-adults/2026-05-05/
LOCATION:Sherburne Gym
CATEGORIES:Recreation
ATTACH;FMTTYPE=image/webp:https://projectsunapee.org/wp-content/uploads/2025/09/kettlebell-3293481_640.webp
END:VEVENT
BEGIN:VEVENT
DTSTART;TZID=America/New_York:20260505T120000
DTEND;TZID=America/New_York:20260505T123000
DTSTAMP:20260423T193416
CREATED:20260126T130837Z
LAST-MODIFIED:20260222T145722Z
UID:10003860-1777982400-1777984200@projectsunapee.org
SUMMARY:Walking in the Gym
DESCRIPTION:Walking in the Gym – The Sunapee Seniors have arranged for winter-time walking in the Sherburne Gym – Tuesday\, Wednesday & Thursday\, from 12:00-12:30 pm. A good opportunity to walk safely and enjoy conversation with others! Please bring dry sneakers/shoes for walking. Note – if there is no school\, there is no walking. Free.
URL:https://projectsunapee.org/event/waling-in-the-gym/2026-05-05/
LOCATION:Sherburne Gym
CATEGORIES:Recreation
ATTACH;FMTTYPE=image/webp:https://projectsunapee.org/wp-content/uploads/2026/01/shoes-1260811_640.webp
END:VEVENT
BEGIN:VEVENT
DTSTART;TZID=America/New_York:20260506T120000
DTEND;TZID=America/New_York:20260506T123000
DTSTAMP:20260423T193416
CREATED:20260126T130837Z
LAST-MODIFIED:20260222T145722Z
UID:10003861-1778068800-1778070600@projectsunapee.org
SUMMARY:Walking in the Gym
DESCRIPTION:Walking in the Gym – The Sunapee Seniors have arranged for winter-time walking in the Sherburne Gym – Tuesday\, Wednesday & Thursday\, from 12:00-12:30 pm. A good opportunity to walk safely and enjoy conversation with others! Please bring dry sneakers/shoes for walking. Note – if there is no school\, there is no walking. Free.
URL:https://projectsunapee.org/event/waling-in-the-gym/2026-05-06/
LOCATION:Sherburne Gym
CATEGORIES:Recreation
ATTACH;FMTTYPE=image/webp:https://projectsunapee.org/wp-content/uploads/2026/01/shoes-1260811_640.webp
END:VEVENT
BEGIN:VEVENT
DTSTART;TZID=America/New_York:20260507T053000
DTEND;TZID=America/New_York:20260507T063000
DTSTAMP:20260423T193416
CREATED:20250930T202827Z
LAST-MODIFIED:20260114T173323Z
UID:10000873-1778131800-1778135400@projectsunapee.org
SUMMARY:Bootcamp for Adults
DESCRIPTION:Each session consists of 12 classes over a span of 6 weeks. Additionally\, there are options for quarterly and annual enrollments. \nSession runs 10/23/25-12/30/25 every Tuesday & Thursday 5:30-6:30am \n$50 Sunapee Resident/$55 Non-Resident \nhttps://sunapeerecreation.recdesk.com/Community/Program
URL:https://projectsunapee.org/event/bootcamp-for-adults/2026-05-07/
LOCATION:Sherburne Gym
CATEGORIES:Recreation
ATTACH;FMTTYPE=image/webp:https://projectsunapee.org/wp-content/uploads/2025/09/kettlebell-3293481_640.webp
END:VEVENT
BEGIN:VEVENT
DTSTART;TZID=America/New_York:20260507T120000
DTEND;TZID=America/New_York:20260507T123000
DTSTAMP:20260423T193416
CREATED:20260126T130837Z
LAST-MODIFIED:20260222T145722Z
UID:10003862-1778155200-1778157000@projectsunapee.org
SUMMARY:Walking in the Gym
DESCRIPTION:Walking in the Gym – The Sunapee Seniors have arranged for winter-time walking in the Sherburne Gym – Tuesday\, Wednesday & Thursday\, from 12:00-12:30 pm. A good opportunity to walk safely and enjoy conversation with others! Please bring dry sneakers/shoes for walking. Note – if there is no school\, there is no walking. Free.
URL:https://projectsunapee.org/event/waling-in-the-gym/2026-05-07/
LOCATION:Sherburne Gym
CATEGORIES:Recreation
ATTACH;FMTTYPE=image/webp:https://projectsunapee.org/wp-content/uploads/2026/01/shoes-1260811_640.webp
END:VEVENT
BEGIN:VEVENT
DTSTART;TZID=America/New_York:20260510T180000
DTEND;TZID=America/New_York:20260510T200000
DTSTAMP:20260423T193416
CREATED:20260113T173124Z
LAST-MODIFIED:20260113T173124Z
UID:10003723-1778436000-1778443200@projectsunapee.org
SUMMARY:Futsal
DESCRIPTION:Futsal is a form of soccer\, played indoors with a weighted ball.  It is intended to work on foot skills and ball possession in confined spaces. \nOpen to High School through Adult aged participants. \nWhen: Sunday nights 6pm – 8pm\, during winter months. \nWhere: Sherburne Gym Sunapee NH
URL:https://projectsunapee.org/event/futsal/2026-05-10/
LOCATION:Sherburne Gym
CATEGORIES:Recreation
ATTACH;FMTTYPE=image/webp:https://projectsunapee.org/wp-content/uploads/2026/01/futsal_ball.jpg.webp
END:VEVENT
BEGIN:VEVENT
DTSTART;TZID=America/New_York:20260512T053000
DTEND;TZID=America/New_York:20260512T063000
DTSTAMP:20260423T193416
CREATED:20250930T202827Z
LAST-MODIFIED:20260114T173323Z
UID:10000874-1778563800-1778567400@projectsunapee.org
SUMMARY:Bootcamp for Adults
DESCRIPTION:Each session consists of 12 classes over a span of 6 weeks. Additionally\, there are options for quarterly and annual enrollments. \nSession runs 10/23/25-12/30/25 every Tuesday & Thursday 5:30-6:30am \n$50 Sunapee Resident/$55 Non-Resident \nhttps://sunapeerecreation.recdesk.com/Community/Program
URL:https://projectsunapee.org/event/bootcamp-for-adults/2026-05-12/
LOCATION:Sherburne Gym
CATEGORIES:Recreation
ATTACH;FMTTYPE=image/webp:https://projectsunapee.org/wp-content/uploads/2025/09/kettlebell-3293481_640.webp
END:VEVENT
BEGIN:VEVENT
DTSTART;TZID=America/New_York:20260512T120000
DTEND;TZID=America/New_York:20260512T123000
DTSTAMP:20260423T193416
CREATED:20260126T130837Z
LAST-MODIFIED:20260222T145722Z
UID:10003863-1778587200-1778589000@projectsunapee.org
SUMMARY:Walking in the Gym
DESCRIPTION:Walking in the Gym – The Sunapee Seniors have arranged for winter-time walking in the Sherburne Gym – Tuesday\, Wednesday & Thursday\, from 12:00-12:30 pm. A good opportunity to walk safely and enjoy conversation with others! Please bring dry sneakers/shoes for walking. Note – if there is no school\, there is no walking. Free.
URL:https://projectsunapee.org/event/waling-in-the-gym/2026-05-12/
LOCATION:Sherburne Gym
CATEGORIES:Recreation
ATTACH;FMTTYPE=image/webp:https://projectsunapee.org/wp-content/uploads/2026/01/shoes-1260811_640.webp
END:VEVENT
BEGIN:VEVENT
DTSTART;TZID=America/New_York:20260513T120000
DTEND;TZID=America/New_York:20260513T123000
DTSTAMP:20260423T193416
CREATED:20260126T130837Z
LAST-MODIFIED:20260222T145722Z
UID:10003864-1778673600-1778675400@projectsunapee.org
SUMMARY:Walking in the Gym
DESCRIPTION:Walking in the Gym – The Sunapee Seniors have arranged for winter-time walking in the Sherburne Gym – Tuesday\, Wednesday & Thursday\, from 12:00-12:30 pm. A good opportunity to walk safely and enjoy conversation with others! Please bring dry sneakers/shoes for walking. Note – if there is no school\, there is no walking. Free.
URL:https://projectsunapee.org/event/waling-in-the-gym/2026-05-13/
LOCATION:Sherburne Gym
CATEGORIES:Recreation
ATTACH;FMTTYPE=image/webp:https://projectsunapee.org/wp-content/uploads/2026/01/shoes-1260811_640.webp
END:VEVENT
BEGIN:VEVENT
DTSTART;TZID=America/New_York:20260514T053000
DTEND;TZID=America/New_York:20260514T063000
DTSTAMP:20260423T193416
CREATED:20250930T202827Z
LAST-MODIFIED:20260114T173323Z
UID:10000875-1778736600-1778740200@projectsunapee.org
SUMMARY:Bootcamp for Adults
DESCRIPTION:Each session consists of 12 classes over a span of 6 weeks. Additionally\, there are options for quarterly and annual enrollments. \nSession runs 10/23/25-12/30/25 every Tuesday & Thursday 5:30-6:30am \n$50 Sunapee Resident/$55 Non-Resident \nhttps://sunapeerecreation.recdesk.com/Community/Program
URL:https://projectsunapee.org/event/bootcamp-for-adults/2026-05-14/
LOCATION:Sherburne Gym
CATEGORIES:Recreation
ATTACH;FMTTYPE=image/webp:https://projectsunapee.org/wp-content/uploads/2025/09/kettlebell-3293481_640.webp
END:VEVENT
BEGIN:VEVENT
DTSTART;TZID=America/New_York:20260514T120000
DTEND;TZID=America/New_York:20260514T123000
DTSTAMP:20260423T193416
CREATED:20260126T130837Z
LAST-MODIFIED:20260222T145722Z
UID:10003865-1778760000-1778761800@projectsunapee.org
SUMMARY:Walking in the Gym
DESCRIPTION:Walking in the Gym – The Sunapee Seniors have arranged for winter-time walking in the Sherburne Gym – Tuesday\, Wednesday & Thursday\, from 12:00-12:30 pm. A good opportunity to walk safely and enjoy conversation with others! Please bring dry sneakers/shoes for walking. Note – if there is no school\, there is no walking. Free.
URL:https://projectsunapee.org/event/waling-in-the-gym/2026-05-14/
LOCATION:Sherburne Gym
CATEGORIES:Recreation
ATTACH;FMTTYPE=image/webp:https://projectsunapee.org/wp-content/uploads/2026/01/shoes-1260811_640.webp
END:VEVENT
BEGIN:VEVENT
DTSTART;TZID=America/New_York:20260517T180000
DTEND;TZID=America/New_York:20260517T200000
DTSTAMP:20260423T193416
CREATED:20260113T173124Z
LAST-MODIFIED:20260113T173124Z
UID:10003724-1779040800-1779048000@projectsunapee.org
SUMMARY:Futsal
DESCRIPTION:Futsal is a form of soccer\, played indoors with a weighted ball.  It is intended to work on foot skills and ball possession in confined spaces. \nOpen to High School through Adult aged participants. \nWhen: Sunday nights 6pm – 8pm\, during winter months. \nWhere: Sherburne Gym Sunapee NH
URL:https://projectsunapee.org/event/futsal/2026-05-17/
LOCATION:Sherburne Gym
CATEGORIES:Recreation
ATTACH;FMTTYPE=image/webp:https://projectsunapee.org/wp-content/uploads/2026/01/futsal_ball.jpg.webp
END:VEVENT
BEGIN:VEVENT
DTSTART;TZID=America/New_York:20260519T053000
DTEND;TZID=America/New_York:20260519T063000
DTSTAMP:20260423T193416
CREATED:20250930T202827Z
LAST-MODIFIED:20260114T173323Z
UID:10000876-1779168600-1779172200@projectsunapee.org
SUMMARY:Bootcamp for Adults
DESCRIPTION:Each session consists of 12 classes over a span of 6 weeks. Additionally\, there are options for quarterly and annual enrollments. \nSession runs 10/23/25-12/30/25 every Tuesday & Thursday 5:30-6:30am \n$50 Sunapee Resident/$55 Non-Resident \nhttps://sunapeerecreation.recdesk.com/Community/Program
URL:https://projectsunapee.org/event/bootcamp-for-adults/2026-05-19/
LOCATION:Sherburne Gym
CATEGORIES:Recreation
ATTACH;FMTTYPE=image/webp:https://projectsunapee.org/wp-content/uploads/2025/09/kettlebell-3293481_640.webp
END:VEVENT
BEGIN:VEVENT
DTSTART;TZID=America/New_York:20260519T120000
DTEND;TZID=America/New_York:20260519T123000
DTSTAMP:20260423T193416
CREATED:20260126T130837Z
LAST-MODIFIED:20260222T145722Z
UID:10003866-1779192000-1779193800@projectsunapee.org
SUMMARY:Walking in the Gym
DESCRIPTION:Walking in the Gym – The Sunapee Seniors have arranged for winter-time walking in the Sherburne Gym – Tuesday\, Wednesday & Thursday\, from 12:00-12:30 pm. A good opportunity to walk safely and enjoy conversation with others! Please bring dry sneakers/shoes for walking. Note – if there is no school\, there is no walking. Free.
URL:https://projectsunapee.org/event/waling-in-the-gym/2026-05-19/
LOCATION:Sherburne Gym
CATEGORIES:Recreation
ATTACH;FMTTYPE=image/webp:https://projectsunapee.org/wp-content/uploads/2026/01/shoes-1260811_640.webp
END:VEVENT
BEGIN:VEVENT
DTSTART;TZID=America/New_York:20260520T120000
DTEND;TZID=America/New_York:20260520T123000
DTSTAMP:20260423T193416
CREATED:20260126T130837Z
LAST-MODIFIED:20260222T145722Z
UID:10003867-1779278400-1779280200@projectsunapee.org
SUMMARY:Walking in the Gym
DESCRIPTION:Walking in the Gym – The Sunapee Seniors have arranged for winter-time walking in the Sherburne Gym – Tuesday\, Wednesday & Thursday\, from 12:00-12:30 pm. A good opportunity to walk safely and enjoy conversation with others! Please bring dry sneakers/shoes for walking. Note – if there is no school\, there is no walking. Free.
URL:https://projectsunapee.org/event/waling-in-the-gym/2026-05-20/
LOCATION:Sherburne Gym
CATEGORIES:Recreation
ATTACH;FMTTYPE=image/webp:https://projectsunapee.org/wp-content/uploads/2026/01/shoes-1260811_640.webp
END:VEVENT
BEGIN:VEVENT
DTSTART;TZID=America/New_York:20260521T053000
DTEND;TZID=America/New_York:20260521T063000
DTSTAMP:20260423T193416
CREATED:20250930T202827Z
LAST-MODIFIED:20260114T173323Z
UID:10000877-1779341400-1779345000@projectsunapee.org
SUMMARY:Bootcamp for Adults
DESCRIPTION:Each session consists of 12 classes over a span of 6 weeks. Additionally\, there are options for quarterly and annual enrollments. \nSession runs 10/23/25-12/30/25 every Tuesday & Thursday 5:30-6:30am \n$50 Sunapee Resident/$55 Non-Resident \nhttps://sunapeerecreation.recdesk.com/Community/Program
URL:https://projectsunapee.org/event/bootcamp-for-adults/2026-05-21/
LOCATION:Sherburne Gym
CATEGORIES:Recreation
ATTACH;FMTTYPE=image/webp:https://projectsunapee.org/wp-content/uploads/2025/09/kettlebell-3293481_640.webp
END:VEVENT
BEGIN:VEVENT
DTSTART;TZID=America/New_York:20260521T120000
DTEND;TZID=America/New_York:20260521T123000
DTSTAMP:20260423T193416
CREATED:20260126T130837Z
LAST-MODIFIED:20260222T145722Z
UID:10003868-1779364800-1779366600@projectsunapee.org
SUMMARY:Walking in the Gym
DESCRIPTION:Walking in the Gym – The Sunapee Seniors have arranged for winter-time walking in the Sherburne Gym – Tuesday\, Wednesday & Thursday\, from 12:00-12:30 pm. A good opportunity to walk safely and enjoy conversation with others! Please bring dry sneakers/shoes for walking. Note – if there is no school\, there is no walking. Free.
URL:https://projectsunapee.org/event/waling-in-the-gym/2026-05-21/
LOCATION:Sherburne Gym
CATEGORIES:Recreation
ATTACH;FMTTYPE=image/webp:https://projectsunapee.org/wp-content/uploads/2026/01/shoes-1260811_640.webp
END:VEVENT
BEGIN:VEVENT
DTSTART;TZID=America/New_York:20260524T180000
DTEND;TZID=America/New_York:20260524T200000
DTSTAMP:20260423T193416
CREATED:20260113T173124Z
LAST-MODIFIED:20260113T173124Z
UID:10003725-1779645600-1779652800@projectsunapee.org
SUMMARY:Futsal
DESCRIPTION:Futsal is a form of soccer\, played indoors with a weighted ball.  It is intended to work on foot skills and ball possession in confined spaces. \nOpen to High School through Adult aged participants. \nWhen: Sunday nights 6pm – 8pm\, during winter months. \nWhere: Sherburne Gym Sunapee NH
URL:https://projectsunapee.org/event/futsal/2026-05-24/
LOCATION:Sherburne Gym
CATEGORIES:Recreation
ATTACH;FMTTYPE=image/webp:https://projectsunapee.org/wp-content/uploads/2026/01/futsal_ball.jpg.webp
END:VEVENT
BEGIN:VEVENT
DTSTART;TZID=America/New_York:20260526T053000
DTEND;TZID=America/New_York:20260526T063000
DTSTAMP:20260423T193416
CREATED:20250930T202827Z
LAST-MODIFIED:20260114T173323Z
UID:10000878-1779773400-1779777000@projectsunapee.org
SUMMARY:Bootcamp for Adults
DESCRIPTION:Each session consists of 12 classes over a span of 6 weeks. Additionally\, there are options for quarterly and annual enrollments. \nSession runs 10/23/25-12/30/25 every Tuesday & Thursday 5:30-6:30am \n$50 Sunapee Resident/$55 Non-Resident \nhttps://sunapeerecreation.recdesk.com/Community/Program
URL:https://projectsunapee.org/event/bootcamp-for-adults/2026-05-26/
LOCATION:Sherburne Gym
CATEGORIES:Recreation
ATTACH;FMTTYPE=image/webp:https://projectsunapee.org/wp-content/uploads/2025/09/kettlebell-3293481_640.webp
END:VEVENT
BEGIN:VEVENT
DTSTART;TZID=America/New_York:20260526T120000
DTEND;TZID=America/New_York:20260526T123000
DTSTAMP:20260423T193416
CREATED:20260126T130837Z
LAST-MODIFIED:20260222T145722Z
UID:10003869-1779796800-1779798600@projectsunapee.org
SUMMARY:Walking in the Gym
DESCRIPTION:Walking in the Gym – The Sunapee Seniors have arranged for winter-time walking in the Sherburne Gym – Tuesday\, Wednesday & Thursday\, from 12:00-12:30 pm. A good opportunity to walk safely and enjoy conversation with others! Please bring dry sneakers/shoes for walking. Note – if there is no school\, there is no walking. Free.
URL:https://projectsunapee.org/event/waling-in-the-gym/2026-05-26/
LOCATION:Sherburne Gym
CATEGORIES:Recreation
ATTACH;FMTTYPE=image/webp:https://projectsunapee.org/wp-content/uploads/2026/01/shoes-1260811_640.webp
END:VEVENT
BEGIN:VEVENT
DTSTART;TZID=America/New_York:20260527T120000
DTEND;TZID=America/New_York:20260527T123000
DTSTAMP:20260423T193416
CREATED:20260126T130837Z
LAST-MODIFIED:20260222T145722Z
UID:10003870-1779883200-1779885000@projectsunapee.org
SUMMARY:Walking in the Gym
DESCRIPTION:Walking in the Gym – The Sunapee Seniors have arranged for winter-time walking in the Sherburne Gym – Tuesday\, Wednesday & Thursday\, from 12:00-12:30 pm. A good opportunity to walk safely and enjoy conversation with others! Please bring dry sneakers/shoes for walking. Note – if there is no school\, there is no walking. Free.
URL:https://projectsunapee.org/event/waling-in-the-gym/2026-05-27/
LOCATION:Sherburne Gym
CATEGORIES:Recreation
ATTACH;FMTTYPE=image/webp:https://projectsunapee.org/wp-content/uploads/2026/01/shoes-1260811_640.webp
END:VEVENT
BEGIN:VEVENT
DTSTART;TZID=America/New_York:20260528T053000
DTEND;TZID=America/New_York:20260528T063000
DTSTAMP:20260423T193416
CREATED:20250930T202827Z
LAST-MODIFIED:20260114T173323Z
UID:10000879-1779946200-1779949800@projectsunapee.org
SUMMARY:Bootcamp for Adults
DESCRIPTION:Each session consists of 12 classes over a span of 6 weeks. Additionally\, there are options for quarterly and annual enrollments. \nSession runs 10/23/25-12/30/25 every Tuesday & Thursday 5:30-6:30am \n$50 Sunapee Resident/$55 Non-Resident \nhttps://sunapeerecreation.recdesk.com/Community/Program
URL:https://projectsunapee.org/event/bootcamp-for-adults/2026-05-28/
LOCATION:Sherburne Gym
CATEGORIES:Recreation
ATTACH;FMTTYPE=image/webp:https://projectsunapee.org/wp-content/uploads/2025/09/kettlebell-3293481_640.webp
END:VEVENT
BEGIN:VEVENT
DTSTART;TZID=America/New_York:20260528T120000
DTEND;TZID=America/New_York:20260528T123000
DTSTAMP:20260423T193416
CREATED:20260126T130837Z
LAST-MODIFIED:20260222T145722Z
UID:10003871-1779969600-1779971400@projectsunapee.org
SUMMARY:Walking in the Gym
DESCRIPTION:Walking in the Gym – The Sunapee Seniors have arranged for winter-time walking in the Sherburne Gym – Tuesday\, Wednesday & Thursday\, from 12:00-12:30 pm. A good opportunity to walk safely and enjoy conversation with others! Please bring dry sneakers/shoes for walking. Note – if there is no school\, there is no walking. Free.
URL:https://projectsunapee.org/event/waling-in-the-gym/2026-05-28/
LOCATION:Sherburne Gym
CATEGORIES:Recreation
ATTACH;FMTTYPE=image/webp:https://projectsunapee.org/wp-content/uploads/2026/01/shoes-1260811_640.webp
END:VEVENT
BEGIN:VEVENT
DTSTART;TZID=America/New_York:20260531T180000
DTEND;TZID=America/New_York:20260531T200000
DTSTAMP:20260423T193416
CREATED:20260113T173124Z
LAST-MODIFIED:20260113T173124Z
UID:10003726-1780250400-1780257600@projectsunapee.org
SUMMARY:Futsal
DESCRIPTION:Futsal is a form of soccer\, played indoors with a weighted ball.  It is intended to work on foot skills and ball possession in confined spaces. \nOpen to High School through Adult aged participants. \nWhen: Sunday nights 6pm – 8pm\, during winter months. \nWhere: Sherburne Gym Sunapee NH
URL:https://projectsunapee.org/event/futsal/2026-05-31/
LOCATION:Sherburne Gym
CATEGORIES:Recreation
ATTACH;FMTTYPE=image/webp:https://projectsunapee.org/wp-content/uploads/2026/01/futsal_ball.jpg.webp
END:VEVENT
END:VCALENDAR