BEGIN:VCALENDAR
VERSION:2.0
PRODID:-//Project Sunapee - ECPv6.15.20//NONSGML v1.0//EN
CALSCALE:GREGORIAN
METHOD:PUBLISH
X-ORIGINAL-URL:https://projectsunapee.org
X-WR-CALDESC:Events for Project Sunapee
REFRESH-INTERVAL;VALUE=DURATION:PT1H
X-Robots-Tag:noindex
X-PUBLISHED-TTL:PT1H
BEGIN:VTIMEZONE
TZID:America/New_York
BEGIN:DAYLIGHT
TZOFFSETFROM:-0500
TZOFFSETTO:-0400
TZNAME:EDT
DTSTART:20250309T070000
END:DAYLIGHT
BEGIN:STANDARD
TZOFFSETFROM:-0400
TZOFFSETTO:-0500
TZNAME:EST
DTSTART:20251102T060000
END:STANDARD
BEGIN:DAYLIGHT
TZOFFSETFROM:-0500
TZOFFSETTO:-0400
TZNAME:EDT
DTSTART:20260308T070000
END:DAYLIGHT
BEGIN:STANDARD
TZOFFSETFROM:-0400
TZOFFSETTO:-0500
TZNAME:EST
DTSTART:20261101T060000
END:STANDARD
BEGIN:DAYLIGHT
TZOFFSETFROM:-0500
TZOFFSETTO:-0400
TZNAME:EDT
DTSTART:20270314T070000
END:DAYLIGHT
BEGIN:STANDARD
TZOFFSETFROM:-0400
TZOFFSETTO:-0500
TZNAME:EST
DTSTART:20271107T060000
END:STANDARD
END:VTIMEZONE
BEGIN:VEVENT
DTSTART;TZID=America/New_York:20260426T180000
DTEND;TZID=America/New_York:20260426T200000
DTSTAMP:20260423T191227
CREATED:20260113T173124Z
LAST-MODIFIED:20260113T173124Z
UID:10003721-1777226400-1777233600@projectsunapee.org
SUMMARY:Futsal
DESCRIPTION:Futsal is a form of soccer\, played indoors with a weighted ball.  It is intended to work on foot skills and ball possession in confined spaces. \nOpen to High School through Adult aged participants. \nWhen: Sunday nights 6pm – 8pm\, during winter months. \nWhere: Sherburne Gym Sunapee NH
URL:https://projectsunapee.org/event/futsal/2026-04-26/
LOCATION:Sherburne Gym
CATEGORIES:Recreation
ATTACH;FMTTYPE=image/webp:https://projectsunapee.org/wp-content/uploads/2026/01/futsal_ball.jpg.webp
END:VEVENT
BEGIN:VEVENT
DTSTART;TZID=America/New_York:20260428T053000
DTEND;TZID=America/New_York:20260428T063000
DTSTAMP:20260423T191227
CREATED:20250930T202827Z
LAST-MODIFIED:20260114T173323Z
UID:10000870-1777354200-1777357800@projectsunapee.org
SUMMARY:Bootcamp for Adults
DESCRIPTION:Each session consists of 12 classes over a span of 6 weeks. Additionally\, there are options for quarterly and annual enrollments. \nSession runs 10/23/25-12/30/25 every Tuesday & Thursday 5:30-6:30am \n$50 Sunapee Resident/$55 Non-Resident \nhttps://sunapeerecreation.recdesk.com/Community/Program
URL:https://projectsunapee.org/event/bootcamp-for-adults/2026-04-28/
LOCATION:Sherburne Gym
CATEGORIES:Recreation
ATTACH;FMTTYPE=image/webp:https://projectsunapee.org/wp-content/uploads/2025/09/kettlebell-3293481_640.webp
END:VEVENT
BEGIN:VEVENT
DTSTART;TZID=America/New_York:20260428T120000
DTEND;TZID=America/New_York:20260428T123000
DTSTAMP:20260423T191227
CREATED:20260126T130837Z
LAST-MODIFIED:20260222T145722Z
UID:10003857-1777377600-1777379400@projectsunapee.org
SUMMARY:Walking in the Gym
DESCRIPTION:Walking in the Gym – The Sunapee Seniors have arranged for winter-time walking in the Sherburne Gym – Tuesday\, Wednesday & Thursday\, from 12:00-12:30 pm. A good opportunity to walk safely and enjoy conversation with others! Please bring dry sneakers/shoes for walking. Note – if there is no school\, there is no walking. Free.
URL:https://projectsunapee.org/event/waling-in-the-gym/2026-04-28/
LOCATION:Sherburne Gym
CATEGORIES:Recreation
ATTACH;FMTTYPE=image/webp:https://projectsunapee.org/wp-content/uploads/2026/01/shoes-1260811_640.webp
END:VEVENT
END:VCALENDAR