BEGIN:VCALENDAR
VERSION:2.0
PRODID:-//Project Sunapee - ECPv6.15.20//NONSGML v1.0//EN
CALSCALE:GREGORIAN
METHOD:PUBLISH
X-ORIGINAL-URL:https://projectsunapee.org
X-WR-CALDESC:Events for Project Sunapee
REFRESH-INTERVAL;VALUE=DURATION:PT1H
X-Robots-Tag:noindex
X-PUBLISHED-TTL:PT1H
BEGIN:VTIMEZONE
TZID:America/New_York
BEGIN:DAYLIGHT
TZOFFSETFROM:-0500
TZOFFSETTO:-0400
TZNAME:EDT
DTSTART:20250309T070000
END:DAYLIGHT
BEGIN:STANDARD
TZOFFSETFROM:-0400
TZOFFSETTO:-0500
TZNAME:EST
DTSTART:20251102T060000
END:STANDARD
BEGIN:DAYLIGHT
TZOFFSETFROM:-0500
TZOFFSETTO:-0400
TZNAME:EDT
DTSTART:20260308T070000
END:DAYLIGHT
BEGIN:STANDARD
TZOFFSETFROM:-0400
TZOFFSETTO:-0500
TZNAME:EST
DTSTART:20261101T060000
END:STANDARD
BEGIN:DAYLIGHT
TZOFFSETFROM:-0500
TZOFFSETTO:-0400
TZNAME:EDT
DTSTART:20270314T070000
END:DAYLIGHT
BEGIN:STANDARD
TZOFFSETFROM:-0400
TZOFFSETTO:-0500
TZNAME:EST
DTSTART:20271107T060000
END:STANDARD
END:VTIMEZONE
BEGIN:VEVENT
DTSTART;TZID=America/New_York:20260302T130000
DTEND;TZID=America/New_York:20260302T150000
DTSTAMP:20260423T195810
CREATED:20250905T130004Z
LAST-MODIFIED:20250926T132038Z
UID:10000365-1772456400-1772463600@projectsunapee.org
SUMMARY:Abbott Library Cribbage Club
DESCRIPTION:Join Abbott Library Staff for Cribbage on Mondays (EVERY MONDAY) in the activities room from 1 – 3 PM.\n\n\nFor questions\, please call or email the library at 603.763.5513 or info@abbottlibrary.org.
URL:https://projectsunapee.org/event/abbott-library-cribbage-club/2026-03-02/
LOCATION:Abbott Library\, 11 Soonipi Circle\, Sunapee\, NH\, 03782-2925\, United States
CATEGORIES:Service
ATTACH;FMTTYPE=image/jpeg:https://projectsunapee.org/wp-content/uploads/2025/09/542756816_1188870029952809_5627142021532604238_n.jpg
ORGANIZER;CN="Abbott Library":MAILTO:info@abbottlibrary.org
END:VEVENT
BEGIN:VEVENT
DTSTART;TZID=America/New_York:20260304T100000
DTEND;TZID=America/New_York:20260304T110000
DTSTAMP:20260423T195810
CREATED:20250905T130335Z
LAST-MODIFIED:20260113T165008Z
UID:10000418-1772618400-1772622000@projectsunapee.org
SUMMARY:Story Time
DESCRIPTION:Reading aloud to children is one of the best things you can do for their development. Not only is it fun\, but it is also a bonding experience that can impact their literacy skills\, emotional well-being\, and love of reading. Studies have shown that children who know more words when they enter kindergarten tend to read better and have higher academic achievement throughout school. Children who are read to more often are exposed to more new words and develop a more robust understanding of language. A 2019 study by The Ohio State University found that young children whose parents read to them five times daily will hear nearly 1.5 million more words by the time they turn five than children who were not read to at all. This is known as the “million-word gap. – United Through Reading website. \nAbbott Library encourages families to join staff members for our weekly storytimes each Wednesday at 10 AM. Participants hear stories\, sing songs\, and create a craft.\nFor more information\, call or email the library at 603.763.5513 or info@abbottlibrary.org.
URL:https://projectsunapee.org/event/story-time/2026-03-04/
LOCATION:Abbott Library\, 11 Soonipi Circle\, Sunapee\, NH\, 03782-2925\, United States
CATEGORIES:Service
ATTACH;FMTTYPE=image/jpeg:https://projectsunapee.org/wp-content/uploads/2025/09/storytimes-_38_md.jpg
ORGANIZER;CN="Abbott Library":MAILTO:info@abbottlibrary.org
END:VEVENT
BEGIN:VEVENT
DTSTART;TZID=America/New_York:20260304T140000
DTEND;TZID=America/New_York:20260304T160000
DTSTAMP:20260423T195810
CREATED:20250905T130156Z
LAST-MODIFIED:20260113T165235Z
UID:10000471-1772632800-1772640000@projectsunapee.org
SUMMARY:Abbott Library Taiwanese Mah Jongg
DESCRIPTION:Join library volunteers and patrons as they play Taiwanese Mah Jongg! Supplies provided. \nFor more questions\, call or email the library at 603.763.5513 or info@abbottlibrary.org.
URL:https://projectsunapee.org/event/abbott-library-mah-jongg-group/2026-03-04/
LOCATION:Abbott Library\, 11 Soonipi Circle\, Sunapee\, NH\, 03782-2925\, United States
CATEGORIES:Service
ATTACH;FMTTYPE=image/jpeg:https://projectsunapee.org/wp-content/uploads/2025/09/taiwanese-mj_39_md.jpg
ORGANIZER;CN="Abbott Library":MAILTO:info@abbottlibrary.org
END:VEVENT
BEGIN:VEVENT
DTSTART;TZID=America/New_York:20260305T120000
DTEND;TZID=America/New_York:20260305T163000
DTSTAMP:20260423T195810
CREATED:20260222T131414Z
LAST-MODIFIED:20260222T131508Z
UID:10004878-1772712000-1772728200@projectsunapee.org
SUMMARY:American Red Cross Blood Drive
DESCRIPTION:There is often a shortage of blood inventory nationwide\, but it is particularly severe right now due to the high incidence of flu among donors and winter weather canceling drives. The demand for blood is outpacing supply\, forcing some hospitals to delay\, triage\, or cancel patient surgeries and treatments. Some patients are not getting needed blood products due to the shortage. Please make an appointment for March 5th by going to https://shorturl.at/orJSx.
URL:https://projectsunapee.org/event/american-red-cross-blood-drive-2/
LOCATION:Lake Sunapee United Methodist Church\, 9 Lower Main Street\, Sunapee\, NH\, 03782
CATEGORIES:Service
ATTACH;FMTTYPE=image/webp:https://projectsunapee.org/wp-content/uploads/2026/02/NA06wiO6omDs-26-03-05-72-dpi.webp
END:VEVENT
BEGIN:VEVENT
DTSTART;TZID=America/New_York:20260305T140000
DTEND;TZID=America/New_York:20260305T160000
DTSTAMP:20260423T195810
CREATED:20260113T165639Z
LAST-MODIFIED:20260310T210715Z
UID:10003125-1772719200-1772726400@projectsunapee.org
SUMMARY:Abbott Library American Mah Jongg
DESCRIPTION:Interested in learning a new tabletop\, tile game?\nJoin the library’s volunteers as they play American Mah Jongg. This group is all levels and open to new players. All supplies are available at game time.\n\n\nFor more information on this program or other upcoming events\, please call or email the library at 603.763.5513 or at info@abbottlibrary.org.
URL:https://projectsunapee.org/event/abbott-library-american-mah-jongg/2026-03-05/
LOCATION:Abbott Library\, 11 Soonipi Circle\, Sunapee\, NH\, 03782-2925\, United States
CATEGORIES:Service
ATTACH;FMTTYPE=image/webp:https://projectsunapee.org/wp-content/uploads/2026/01/648608910_1352712146901929_7693543029887774243_n-e1773176825890.webp
ORGANIZER;CN="Abbott Library":MAILTO:info@abbottlibrary.org
END:VEVENT
BEGIN:VEVENT
DTSTART;TZID=America/New_York:20260309T130000
DTEND;TZID=America/New_York:20260309T150000
DTSTAMP:20260423T195810
CREATED:20250905T130004Z
LAST-MODIFIED:20250926T132038Z
UID:10000366-1773061200-1773068400@projectsunapee.org
SUMMARY:Abbott Library Cribbage Club
DESCRIPTION:Join Abbott Library Staff for Cribbage on Mondays (EVERY MONDAY) in the activities room from 1 – 3 PM.\n\n\nFor questions\, please call or email the library at 603.763.5513 or info@abbottlibrary.org.
URL:https://projectsunapee.org/event/abbott-library-cribbage-club/2026-03-09/
LOCATION:Abbott Library\, 11 Soonipi Circle\, Sunapee\, NH\, 03782-2925\, United States
CATEGORIES:Service
ATTACH;FMTTYPE=image/jpeg:https://projectsunapee.org/wp-content/uploads/2025/09/542756816_1188870029952809_5627142021532604238_n.jpg
ORGANIZER;CN="Abbott Library":MAILTO:info@abbottlibrary.org
END:VEVENT
BEGIN:VEVENT
DTSTART;TZID=America/New_York:20260310T080000
DTEND;TZID=America/New_York:20260310T190000
DTSTAMP:20260423T195810
CREATED:20260126T204518Z
LAST-MODIFIED:20260126T204518Z
UID:10004604-1773129600-1773169200@projectsunapee.org
SUMMARY:Town Meeting Voting
DESCRIPTION:Town Meeting Voting will be held:\nTuesday\, March 10th\, 2026\nat the Sherburne Gymnasium\nfrom 8:00 am – 7:00 pm
URL:https://projectsunapee.org/event/town-meeting-voting/
LOCATION:Sherburne Gym
CATEGORIES:Service
ATTACH;FMTTYPE=image/webp:https://projectsunapee.org/wp-content/uploads/2026/01/5bbc160277bbc-1ee61cbcee8d41b1cbc41a8b4e466543.webp
END:VEVENT
BEGIN:VEVENT
DTSTART;TZID=America/New_York:20260311T100000
DTEND;TZID=America/New_York:20260311T110000
DTSTAMP:20260423T195810
CREATED:20250905T130335Z
LAST-MODIFIED:20260113T165008Z
UID:10000419-1773223200-1773226800@projectsunapee.org
SUMMARY:Story Time
DESCRIPTION:Reading aloud to children is one of the best things you can do for their development. Not only is it fun\, but it is also a bonding experience that can impact their literacy skills\, emotional well-being\, and love of reading. Studies have shown that children who know more words when they enter kindergarten tend to read better and have higher academic achievement throughout school. Children who are read to more often are exposed to more new words and develop a more robust understanding of language. A 2019 study by The Ohio State University found that young children whose parents read to them five times daily will hear nearly 1.5 million more words by the time they turn five than children who were not read to at all. This is known as the “million-word gap. – United Through Reading website. \nAbbott Library encourages families to join staff members for our weekly storytimes each Wednesday at 10 AM. Participants hear stories\, sing songs\, and create a craft.\nFor more information\, call or email the library at 603.763.5513 or info@abbottlibrary.org.
URL:https://projectsunapee.org/event/story-time/2026-03-11/
LOCATION:Abbott Library\, 11 Soonipi Circle\, Sunapee\, NH\, 03782-2925\, United States
CATEGORIES:Service
ATTACH;FMTTYPE=image/jpeg:https://projectsunapee.org/wp-content/uploads/2025/09/storytimes-_38_md.jpg
ORGANIZER;CN="Abbott Library":MAILTO:info@abbottlibrary.org
END:VEVENT
BEGIN:VEVENT
DTSTART;TZID=America/New_York:20260311T140000
DTEND;TZID=America/New_York:20260311T160000
DTSTAMP:20260423T195810
CREATED:20250905T130156Z
LAST-MODIFIED:20260113T165235Z
UID:10000472-1773237600-1773244800@projectsunapee.org
SUMMARY:Abbott Library Taiwanese Mah Jongg
DESCRIPTION:Join library volunteers and patrons as they play Taiwanese Mah Jongg! Supplies provided. \nFor more questions\, call or email the library at 603.763.5513 or info@abbottlibrary.org.
URL:https://projectsunapee.org/event/abbott-library-mah-jongg-group/2026-03-11/
LOCATION:Abbott Library\, 11 Soonipi Circle\, Sunapee\, NH\, 03782-2925\, United States
CATEGORIES:Service
ATTACH;FMTTYPE=image/jpeg:https://projectsunapee.org/wp-content/uploads/2025/09/taiwanese-mj_39_md.jpg
ORGANIZER;CN="Abbott Library":MAILTO:info@abbottlibrary.org
END:VEVENT
BEGIN:VEVENT
DTSTART;TZID=America/New_York:20260312T140000
DTEND;TZID=America/New_York:20260312T160000
DTSTAMP:20260423T195810
CREATED:20260113T165639Z
LAST-MODIFIED:20260310T210715Z
UID:10003126-1773324000-1773331200@projectsunapee.org
SUMMARY:Abbott Library American Mah Jongg
DESCRIPTION:Interested in learning a new tabletop\, tile game?\nJoin the library’s volunteers as they play American Mah Jongg. This group is all levels and open to new players. All supplies are available at game time.\n\n\nFor more information on this program or other upcoming events\, please call or email the library at 603.763.5513 or at info@abbottlibrary.org.
URL:https://projectsunapee.org/event/abbott-library-american-mah-jongg/2026-03-12/
LOCATION:Abbott Library\, 11 Soonipi Circle\, Sunapee\, NH\, 03782-2925\, United States
CATEGORIES:Service
ATTACH;FMTTYPE=image/webp:https://projectsunapee.org/wp-content/uploads/2026/01/648608910_1352712146901929_7693543029887774243_n-e1773176825890.webp
ORGANIZER;CN="Abbott Library":MAILTO:info@abbottlibrary.org
END:VEVENT
BEGIN:VEVENT
DTSTART;TZID=America/New_York:20260316T130000
DTEND;TZID=America/New_York:20260316T150000
DTSTAMP:20260423T195810
CREATED:20250905T130004Z
LAST-MODIFIED:20250926T132038Z
UID:10000367-1773666000-1773673200@projectsunapee.org
SUMMARY:Abbott Library Cribbage Club
DESCRIPTION:Join Abbott Library Staff for Cribbage on Mondays (EVERY MONDAY) in the activities room from 1 – 3 PM.\n\n\nFor questions\, please call or email the library at 603.763.5513 or info@abbottlibrary.org.
URL:https://projectsunapee.org/event/abbott-library-cribbage-club/2026-03-16/
LOCATION:Abbott Library\, 11 Soonipi Circle\, Sunapee\, NH\, 03782-2925\, United States
CATEGORIES:Service
ATTACH;FMTTYPE=image/jpeg:https://projectsunapee.org/wp-content/uploads/2025/09/542756816_1188870029952809_5627142021532604238_n.jpg
ORGANIZER;CN="Abbott Library":MAILTO:info@abbottlibrary.org
END:VEVENT
BEGIN:VEVENT
DTSTART;TZID=America/New_York:20260317T160000
DTEND;TZID=America/New_York:20260317T180000
DTSTAMP:20260423T195810
CREATED:20260310T135902Z
LAST-MODIFIED:20260310T135902Z
UID:10005029-1773763200-1773770400@projectsunapee.org
SUMMARY:Suicide Prevention Training with Connor's Climb
DESCRIPTION:Suicide Prevention Training with Connor’s Climb \nHelp to raise mental health awareness with educational activities\, a prevention training\, youth ambassador panel\, snacks\, and more! \nTo register text “Sunapee” to 844-599-0079 or use this link: https://connorsclimb.dm.networkforgood.com/forms/sunapee-community-suicide-prevention-training-hosted-by-chloe-leslie
URL:https://projectsunapee.org/event/suicide-prevention-training-with-connors-climb/
LOCATION:Abbott Library\, 11 Soonipi Circle\, Sunapee\, NH\, 03782-2925\, United States
CATEGORIES:Service
ATTACH;FMTTYPE=image/webp:https://projectsunapee.org/wp-content/uploads/2026/03/645449425_1541454937984185_5381583829859384905_n-e1773151126504.webp
ORGANIZER;CN="Abbott Library":MAILTO:info@abbottlibrary.org
END:VEVENT
BEGIN:VEVENT
DTSTART;TZID=America/New_York:20260318T100000
DTEND;TZID=America/New_York:20260318T110000
DTSTAMP:20260423T195810
CREATED:20250905T130335Z
LAST-MODIFIED:20260113T165008Z
UID:10000420-1773828000-1773831600@projectsunapee.org
SUMMARY:Story Time
DESCRIPTION:Reading aloud to children is one of the best things you can do for their development. Not only is it fun\, but it is also a bonding experience that can impact their literacy skills\, emotional well-being\, and love of reading. Studies have shown that children who know more words when they enter kindergarten tend to read better and have higher academic achievement throughout school. Children who are read to more often are exposed to more new words and develop a more robust understanding of language. A 2019 study by The Ohio State University found that young children whose parents read to them five times daily will hear nearly 1.5 million more words by the time they turn five than children who were not read to at all. This is known as the “million-word gap. – United Through Reading website. \nAbbott Library encourages families to join staff members for our weekly storytimes each Wednesday at 10 AM. Participants hear stories\, sing songs\, and create a craft.\nFor more information\, call or email the library at 603.763.5513 or info@abbottlibrary.org.
URL:https://projectsunapee.org/event/story-time/2026-03-18/
LOCATION:Abbott Library\, 11 Soonipi Circle\, Sunapee\, NH\, 03782-2925\, United States
CATEGORIES:Service
ATTACH;FMTTYPE=image/jpeg:https://projectsunapee.org/wp-content/uploads/2025/09/storytimes-_38_md.jpg
ORGANIZER;CN="Abbott Library":MAILTO:info@abbottlibrary.org
END:VEVENT
BEGIN:VEVENT
DTSTART;TZID=America/New_York:20260318T140000
DTEND;TZID=America/New_York:20260318T160000
DTSTAMP:20260423T195810
CREATED:20250905T130156Z
LAST-MODIFIED:20260113T165235Z
UID:10000473-1773842400-1773849600@projectsunapee.org
SUMMARY:Abbott Library Taiwanese Mah Jongg
DESCRIPTION:Join library volunteers and patrons as they play Taiwanese Mah Jongg! Supplies provided. \nFor more questions\, call or email the library at 603.763.5513 or info@abbottlibrary.org.
URL:https://projectsunapee.org/event/abbott-library-mah-jongg-group/2026-03-18/
LOCATION:Abbott Library\, 11 Soonipi Circle\, Sunapee\, NH\, 03782-2925\, United States
CATEGORIES:Service
ATTACH;FMTTYPE=image/jpeg:https://projectsunapee.org/wp-content/uploads/2025/09/taiwanese-mj_39_md.jpg
ORGANIZER;CN="Abbott Library":MAILTO:info@abbottlibrary.org
END:VEVENT
BEGIN:VEVENT
DTSTART;TZID=America/New_York:20260319T140000
DTEND;TZID=America/New_York:20260319T160000
DTSTAMP:20260423T195810
CREATED:20260113T165639Z
LAST-MODIFIED:20260310T210715Z
UID:10003127-1773928800-1773936000@projectsunapee.org
SUMMARY:Abbott Library American Mah Jongg
DESCRIPTION:Interested in learning a new tabletop\, tile game?\nJoin the library’s volunteers as they play American Mah Jongg. This group is all levels and open to new players. All supplies are available at game time.\n\n\nFor more information on this program or other upcoming events\, please call or email the library at 603.763.5513 or at info@abbottlibrary.org.
URL:https://projectsunapee.org/event/abbott-library-american-mah-jongg/2026-03-19/
LOCATION:Abbott Library\, 11 Soonipi Circle\, Sunapee\, NH\, 03782-2925\, United States
CATEGORIES:Service
ATTACH;FMTTYPE=image/webp:https://projectsunapee.org/wp-content/uploads/2026/01/648608910_1352712146901929_7693543029887774243_n-e1773176825890.webp
ORGANIZER;CN="Abbott Library":MAILTO:info@abbottlibrary.org
END:VEVENT
BEGIN:VEVENT
DTSTART;TZID=America/New_York:20260320T153000
DTEND;TZID=America/New_York:20260320T170000
DTSTAMP:20260423T195810
CREATED:20260113T170010Z
LAST-MODIFIED:20260113T170010Z
UID:10003382-1774020600-1774026000@projectsunapee.org
SUMMARY:Teen D-n-D
DESCRIPTION:Hail\, adventurers! Are you ready to roll the dice and change your destiny? Embark on daring quests\, escape treacherous traps\, and forge alliances with fellow adventurers at our monthly Dungeons and Dragons session. \nFor Teens 12-18. \nAll skills levels are welcome \nFor more information call 603-763-5513 or email info@abbottlibrary.org
URL:https://projectsunapee.org/event/teen-d-n-d/2026-03-20/
LOCATION:Abbott Library\, 11 Soonipi Circle\, Sunapee\, NH\, 03782-2925\, United States
CATEGORIES:Service
ATTACH;FMTTYPE=image/jpeg:https://projectsunapee.org/wp-content/uploads/2026/01/teendnd_40_md.jpg
ORGANIZER;CN="Abbott Library":MAILTO:info@abbottlibrary.org
END:VEVENT
BEGIN:VEVENT
DTSTART;TZID=America/New_York:20260323T130000
DTEND;TZID=America/New_York:20260323T150000
DTSTAMP:20260423T195810
CREATED:20250905T130004Z
LAST-MODIFIED:20250926T132038Z
UID:10000368-1774270800-1774278000@projectsunapee.org
SUMMARY:Abbott Library Cribbage Club
DESCRIPTION:Join Abbott Library Staff for Cribbage on Mondays (EVERY MONDAY) in the activities room from 1 – 3 PM.\n\n\nFor questions\, please call or email the library at 603.763.5513 or info@abbottlibrary.org.
URL:https://projectsunapee.org/event/abbott-library-cribbage-club/2026-03-23/
LOCATION:Abbott Library\, 11 Soonipi Circle\, Sunapee\, NH\, 03782-2925\, United States
CATEGORIES:Service
ATTACH;FMTTYPE=image/jpeg:https://projectsunapee.org/wp-content/uploads/2025/09/542756816_1188870029952809_5627142021532604238_n.jpg
ORGANIZER;CN="Abbott Library":MAILTO:info@abbottlibrary.org
END:VEVENT
BEGIN:VEVENT
DTSTART;TZID=America/New_York:20260325T100000
DTEND;TZID=America/New_York:20260325T110000
DTSTAMP:20260423T195810
CREATED:20250905T130335Z
LAST-MODIFIED:20260113T165008Z
UID:10000421-1774432800-1774436400@projectsunapee.org
SUMMARY:Story Time
DESCRIPTION:Reading aloud to children is one of the best things you can do for their development. Not only is it fun\, but it is also a bonding experience that can impact their literacy skills\, emotional well-being\, and love of reading. Studies have shown that children who know more words when they enter kindergarten tend to read better and have higher academic achievement throughout school. Children who are read to more often are exposed to more new words and develop a more robust understanding of language. A 2019 study by The Ohio State University found that young children whose parents read to them five times daily will hear nearly 1.5 million more words by the time they turn five than children who were not read to at all. This is known as the “million-word gap. – United Through Reading website. \nAbbott Library encourages families to join staff members for our weekly storytimes each Wednesday at 10 AM. Participants hear stories\, sing songs\, and create a craft.\nFor more information\, call or email the library at 603.763.5513 or info@abbottlibrary.org.
URL:https://projectsunapee.org/event/story-time/2026-03-25/
LOCATION:Abbott Library\, 11 Soonipi Circle\, Sunapee\, NH\, 03782-2925\, United States
CATEGORIES:Service
ATTACH;FMTTYPE=image/jpeg:https://projectsunapee.org/wp-content/uploads/2025/09/storytimes-_38_md.jpg
ORGANIZER;CN="Abbott Library":MAILTO:info@abbottlibrary.org
END:VEVENT
BEGIN:VEVENT
DTSTART;TZID=America/New_York:20260325T140000
DTEND;TZID=America/New_York:20260325T160000
DTSTAMP:20260423T195810
CREATED:20250905T130156Z
LAST-MODIFIED:20260113T165235Z
UID:10000474-1774447200-1774454400@projectsunapee.org
SUMMARY:Abbott Library Taiwanese Mah Jongg
DESCRIPTION:Join library volunteers and patrons as they play Taiwanese Mah Jongg! Supplies provided. \nFor more questions\, call or email the library at 603.763.5513 or info@abbottlibrary.org.
URL:https://projectsunapee.org/event/abbott-library-mah-jongg-group/2026-03-25/
LOCATION:Abbott Library\, 11 Soonipi Circle\, Sunapee\, NH\, 03782-2925\, United States
CATEGORIES:Service
ATTACH;FMTTYPE=image/jpeg:https://projectsunapee.org/wp-content/uploads/2025/09/taiwanese-mj_39_md.jpg
ORGANIZER;CN="Abbott Library":MAILTO:info@abbottlibrary.org
END:VEVENT
BEGIN:VEVENT
DTSTART;TZID=America/New_York:20260326T140000
DTEND;TZID=America/New_York:20260326T160000
DTSTAMP:20260423T195810
CREATED:20260113T165639Z
LAST-MODIFIED:20260310T210715Z
UID:10003128-1774533600-1774540800@projectsunapee.org
SUMMARY:Abbott Library American Mah Jongg
DESCRIPTION:Interested in learning a new tabletop\, tile game?\nJoin the library’s volunteers as they play American Mah Jongg. This group is all levels and open to new players. All supplies are available at game time.\n\n\nFor more information on this program or other upcoming events\, please call or email the library at 603.763.5513 or at info@abbottlibrary.org.
URL:https://projectsunapee.org/event/abbott-library-american-mah-jongg/2026-03-26/
LOCATION:Abbott Library\, 11 Soonipi Circle\, Sunapee\, NH\, 03782-2925\, United States
CATEGORIES:Service
ATTACH;FMTTYPE=image/webp:https://projectsunapee.org/wp-content/uploads/2026/01/648608910_1352712146901929_7693543029887774243_n-e1773176825890.webp
ORGANIZER;CN="Abbott Library":MAILTO:info@abbottlibrary.org
END:VEVENT
BEGIN:VEVENT
DTSTART;TZID=America/New_York:20260329T110000
DTEND;TZID=America/New_York:20260329T120000
DTSTAMP:20260423T195810
CREATED:20260320T135854Z
LAST-MODIFIED:20260320T135854Z
UID:10005120-1774782000-1774785600@projectsunapee.org
SUMMARY:Holy Week Schedule
DESCRIPTION:HOLY WEEK SCHEDULE with Lake Sunapee United Methodist Church\, 9 Lower Main\, Sunapee – Holy Week begins on March 29th with Palm Sunday worship at 11:00am. It continues with Maundy Thursday service on April 2nd at 7:00pm\, commemorating the Last Supper. Good Friday\, on April 3rd\, remembers Jesus’s passion. Participants in a Cross Walk will gather at St. Patrick Catholic Church in Newport at noon\, carrying a cross and stopping for readings at various churches\, ending with a light lunch at the South Congregational Church. A Good Friday worship service will take place at Church of the Good Shepherd in Newport at 7:00pm. Holy Week is complete with Easter on April 5th. Join us for a sunrise service at 6:00am at the gazebo in Sunapee Harbor. Easter services will take place at 9:30am at the Church of the Good Shepherd in Newport and at 11:00am at Lake Sunapee UMC.
URL:https://projectsunapee.org/event/holy-week-schedule/
LOCATION:Lake Sunapee United Methodist Church\, 9 Lower Main Street\, Sunapee\, NH\, 03782
CATEGORIES:Service
ATTACH;FMTTYPE=image/webp:https://projectsunapee.org/wp-content/uploads/2026/03/6xw9uWOGcODT-Facebook-empty-tomb.webp
ORGANIZER;CN="Lake Sunapee United Methodist Church":MAILTO:sunapeeumc@gmail.com
END:VEVENT
BEGIN:VEVENT
DTSTART;TZID=America/New_York:20260330T130000
DTEND;TZID=America/New_York:20260330T150000
DTSTAMP:20260423T195810
CREATED:20250905T130004Z
LAST-MODIFIED:20250926T132038Z
UID:10000369-1774875600-1774882800@projectsunapee.org
SUMMARY:Abbott Library Cribbage Club
DESCRIPTION:Join Abbott Library Staff for Cribbage on Mondays (EVERY MONDAY) in the activities room from 1 – 3 PM.\n\n\nFor questions\, please call or email the library at 603.763.5513 or info@abbottlibrary.org.
URL:https://projectsunapee.org/event/abbott-library-cribbage-club/2026-03-30/
LOCATION:Abbott Library\, 11 Soonipi Circle\, Sunapee\, NH\, 03782-2925\, United States
CATEGORIES:Service
ATTACH;FMTTYPE=image/jpeg:https://projectsunapee.org/wp-content/uploads/2025/09/542756816_1188870029952809_5627142021532604238_n.jpg
ORGANIZER;CN="Abbott Library":MAILTO:info@abbottlibrary.org
END:VEVENT
END:VCALENDAR