BEGIN:VCALENDAR
VERSION:2.0
PRODID:-//Project Sunapee - ECPv6.15.20//NONSGML v1.0//EN
CALSCALE:GREGORIAN
METHOD:PUBLISH
X-ORIGINAL-URL:https://projectsunapee.org
X-WR-CALDESC:Events for Project Sunapee
REFRESH-INTERVAL;VALUE=DURATION:PT1H
X-Robots-Tag:noindex
X-PUBLISHED-TTL:PT1H
BEGIN:VTIMEZONE
TZID:America/New_York
BEGIN:DAYLIGHT
TZOFFSETFROM:-0500
TZOFFSETTO:-0400
TZNAME:EDT
DTSTART:20250309T070000
END:DAYLIGHT
BEGIN:STANDARD
TZOFFSETFROM:-0400
TZOFFSETTO:-0500
TZNAME:EST
DTSTART:20251102T060000
END:STANDARD
BEGIN:DAYLIGHT
TZOFFSETFROM:-0500
TZOFFSETTO:-0400
TZNAME:EDT
DTSTART:20260308T070000
END:DAYLIGHT
BEGIN:STANDARD
TZOFFSETFROM:-0400
TZOFFSETTO:-0500
TZNAME:EST
DTSTART:20261101T060000
END:STANDARD
BEGIN:DAYLIGHT
TZOFFSETFROM:-0500
TZOFFSETTO:-0400
TZNAME:EDT
DTSTART:20270314T070000
END:DAYLIGHT
BEGIN:STANDARD
TZOFFSETFROM:-0400
TZOFFSETTO:-0500
TZNAME:EST
DTSTART:20271107T060000
END:STANDARD
END:VTIMEZONE
BEGIN:VEVENT
DTSTART;TZID=America/New_York:20260427T130000
DTEND;TZID=America/New_York:20260427T143000
DTSTAMP:20260423T201757
CREATED:20260322T174713Z
LAST-MODIFIED:20260410T131044Z
UID:10005186-1777294800-1777300200@projectsunapee.org
SUMMARY:The Ethics of AI
DESCRIPTION:The Sunapee Seniors\, Sunapee Recreation Department and the New Hampshire Humanities cordially invite all to attend a program “The Ethics of Al”. The program will be presented by Dr.Kiki Berk\, Professor of Philosophy at Southern New Hampshire University. This program will explore some of the most urgent moral challenges that Al presents to society today. Topics include automation and job displacement\, deep fakes and misinformation\, the role of Al in education\, implicit bias\, autonomous systems (such as self-driving cars and drones) and the ethical implications of a potential technological singularity. After a brief introduction to applied ethics and the technology behind generative Al\, we will examine each issue\, highlighting the core moral questions they raise and their significance for shaping sound policies and regulations. The session will conclude with an open discussion giving attendees a chance to share perspectives and ask questions.\nThe program will be presented on Monday\, 4/27/26\, at 1 PM at the Lake Sunapee United Methodist Church\, Lower Main St.\nIt is free and no reservations are required .
URL:https://projectsunapee.org/event/the-ethics-of-ai/
LOCATION:Lake Sunapee United Methodist Church\, 9 Lower Main Street\, Sunapee\, NH\, 03782
CATEGORIES:Service
ATTACH;FMTTYPE=image/webp:https://projectsunapee.org/wp-content/uploads/2026/03/ai.webp
END:VEVENT
BEGIN:VEVENT
DTSTART;TZID=America/New_York:20260427T130000
DTEND;TZID=America/New_York:20260427T150000
DTSTAMP:20260423T201757
CREATED:20250905T130004Z
LAST-MODIFIED:20250926T132038Z
UID:10000373-1777294800-1777302000@projectsunapee.org
SUMMARY:Abbott Library Cribbage Club
DESCRIPTION:Join Abbott Library Staff for Cribbage on Mondays (EVERY MONDAY) in the activities room from 1 – 3 PM.\n\n\nFor questions\, please call or email the library at 603.763.5513 or info@abbottlibrary.org.
URL:https://projectsunapee.org/event/abbott-library-cribbage-club/2026-04-27/
LOCATION:Abbott Library\, 11 Soonipi Circle\, Sunapee\, NH\, 03782-2925\, United States
CATEGORIES:Service
ATTACH;FMTTYPE=image/jpeg:https://projectsunapee.org/wp-content/uploads/2025/09/542756816_1188870029952809_5627142021532604238_n.jpg
ORGANIZER;CN="Abbott Library":MAILTO:info@abbottlibrary.org
END:VEVENT
END:VCALENDAR