BEGIN:VCALENDAR
VERSION:2.0
PRODID:-//Project Sunapee - ECPv6.15.20//NONSGML v1.0//EN
CALSCALE:GREGORIAN
METHOD:PUBLISH
X-WR-CALNAME:Project Sunapee
X-ORIGINAL-URL:https://projectsunapee.org
X-WR-CALDESC:Events for Project Sunapee
REFRESH-INTERVAL;VALUE=DURATION:PT1H
X-Robots-Tag:noindex
X-PUBLISHED-TTL:PT1H
BEGIN:VTIMEZONE
TZID:America/New_York
BEGIN:DAYLIGHT
TZOFFSETFROM:-0500
TZOFFSETTO:-0400
TZNAME:EDT
DTSTART:20250309T070000
END:DAYLIGHT
BEGIN:STANDARD
TZOFFSETFROM:-0400
TZOFFSETTO:-0500
TZNAME:EST
DTSTART:20251102T060000
END:STANDARD
BEGIN:DAYLIGHT
TZOFFSETFROM:-0500
TZOFFSETTO:-0400
TZNAME:EDT
DTSTART:20260308T070000
END:DAYLIGHT
BEGIN:STANDARD
TZOFFSETFROM:-0400
TZOFFSETTO:-0500
TZNAME:EST
DTSTART:20261101T060000
END:STANDARD
BEGIN:DAYLIGHT
TZOFFSETFROM:-0500
TZOFFSETTO:-0400
TZNAME:EDT
DTSTART:20270314T070000
END:DAYLIGHT
BEGIN:STANDARD
TZOFFSETFROM:-0400
TZOFFSETTO:-0500
TZNAME:EST
DTSTART:20271107T060000
END:STANDARD
END:VTIMEZONE
BEGIN:VEVENT
DTSTART;TZID=America/New_York:20260429T100000
DTEND;TZID=America/New_York:20260429T110000
DTSTAMP:20260423T200450
CREATED:20250905T130335Z
LAST-MODIFIED:20260113T165008Z
UID:10000426-1777456800-1777460400@projectsunapee.org
SUMMARY:Story Time
DESCRIPTION:Reading aloud to children is one of the best things you can do for their development. Not only is it fun\, but it is also a bonding experience that can impact their literacy skills\, emotional well-being\, and love of reading. Studies have shown that children who know more words when they enter kindergarten tend to read better and have higher academic achievement throughout school. Children who are read to more often are exposed to more new words and develop a more robust understanding of language. A 2019 study by The Ohio State University found that young children whose parents read to them five times daily will hear nearly 1.5 million more words by the time they turn five than children who were not read to at all. This is known as the “million-word gap. – United Through Reading website. \nAbbott Library encourages families to join staff members for our weekly storytimes each Wednesday at 10 AM. Participants hear stories\, sing songs\, and create a craft.\nFor more information\, call or email the library at 603.763.5513 or info@abbottlibrary.org.
URL:https://projectsunapee.org/event/story-time/2026-04-29/
LOCATION:Abbott Library\, 11 Soonipi Circle\, Sunapee\, NH\, 03782-2925\, United States
CATEGORIES:Service
ATTACH;FMTTYPE=image/jpeg:https://projectsunapee.org/wp-content/uploads/2025/09/storytimes-_38_md.jpg
ORGANIZER;CN="Abbott Library":MAILTO:info@abbottlibrary.org
END:VEVENT
BEGIN:VEVENT
DTSTART;TZID=America/New_York:20260429T140000
DTEND;TZID=America/New_York:20260429T160000
DTSTAMP:20260423T200450
CREATED:20250905T130156Z
LAST-MODIFIED:20260113T165235Z
UID:10000479-1777471200-1777478400@projectsunapee.org
SUMMARY:Abbott Library Taiwanese Mah Jongg
DESCRIPTION:Join library volunteers and patrons as they play Taiwanese Mah Jongg! Supplies provided. \nFor more questions\, call or email the library at 603.763.5513 or info@abbottlibrary.org.
URL:https://projectsunapee.org/event/abbott-library-mah-jongg-group/2026-04-29/
LOCATION:Abbott Library\, 11 Soonipi Circle\, Sunapee\, NH\, 03782-2925\, United States
CATEGORIES:Service
ATTACH;FMTTYPE=image/jpeg:https://projectsunapee.org/wp-content/uploads/2025/09/taiwanese-mj_39_md.jpg
ORGANIZER;CN="Abbott Library":MAILTO:info@abbottlibrary.org
END:VEVENT
END:VCALENDAR