BEGIN:VCALENDAR
VERSION:2.0
PRODID:-//Project Sunapee - ECPv6.15.20//NONSGML v1.0//EN
CALSCALE:GREGORIAN
METHOD:PUBLISH
X-WR-CALNAME:Project Sunapee
X-ORIGINAL-URL:https://projectsunapee.org
X-WR-CALDESC:Events for Project Sunapee
REFRESH-INTERVAL;VALUE=DURATION:PT1H
X-Robots-Tag:noindex
X-PUBLISHED-TTL:PT1H
BEGIN:VTIMEZONE
TZID:America/New_York
BEGIN:DAYLIGHT
TZOFFSETFROM:-0500
TZOFFSETTO:-0400
TZNAME:EDT
DTSTART:20250309T070000
END:DAYLIGHT
BEGIN:STANDARD
TZOFFSETFROM:-0400
TZOFFSETTO:-0500
TZNAME:EST
DTSTART:20251102T060000
END:STANDARD
BEGIN:DAYLIGHT
TZOFFSETFROM:-0500
TZOFFSETTO:-0400
TZNAME:EDT
DTSTART:20260308T070000
END:DAYLIGHT
BEGIN:STANDARD
TZOFFSETFROM:-0400
TZOFFSETTO:-0500
TZNAME:EST
DTSTART:20261101T060000
END:STANDARD
BEGIN:DAYLIGHT
TZOFFSETFROM:-0500
TZOFFSETTO:-0400
TZNAME:EDT
DTSTART:20270314T070000
END:DAYLIGHT
BEGIN:STANDARD
TZOFFSETFROM:-0400
TZOFFSETTO:-0500
TZNAME:EST
DTSTART:20271107T060000
END:STANDARD
END:VTIMEZONE
BEGIN:VEVENT
DTSTART;TZID=America/New_York:20260423T170000
DTEND;TZID=America/New_York:20260423T183000
DTSTAMP:20260423T181019
CREATED:20260417T152744Z
LAST-MODIFIED:20260417T152744Z
UID:10005229-1776963600-1776969000@projectsunapee.org
SUMMARY:Spaghetti Dinner Fundraiser
DESCRIPTION:Join us for the SMHS Senior Class Scholarship Spaghetti Dinner Fundraiser to raise scholarship funds for the Class of 2026! \nSpaghetti\nSalad\nGarlic Bread\nIce Cream Sundae Bar \nAdults $14\nKids 10 & Under $8 \nTickets may be purchased at the door or in advance at SMHS or by scanning the QR code.  Contact Jackie Watkins for more information at jwatkins@sunapeeschools.org or 603-763-5615 x331.
URL:https://projectsunapee.org/event/spaghetti-dinner-fundraiser/
LOCATION:Sunapee Middle High School\, 10 N Rd\,\, Sunapee\, NH\, 03782\, United States
CATEGORIES:Service
ATTACH;FMTTYPE=image/webp:https://projectsunapee.org/wp-content/uploads/2026/04/658214395_1565023885627290_4122337709136907020_n.webp
END:VEVENT
BEGIN:VEVENT
DTSTART;TZID=America/New_York:20260427T130000
DTEND;TZID=America/New_York:20260427T143000
DTSTAMP:20260423T181019
CREATED:20260322T174713Z
LAST-MODIFIED:20260410T131044Z
UID:10005186-1777294800-1777300200@projectsunapee.org
SUMMARY:The Ethics of AI
DESCRIPTION:The Sunapee Seniors\, Sunapee Recreation Department and the New Hampshire Humanities cordially invite all to attend a program “The Ethics of Al”. The program will be presented by Dr.Kiki Berk\, Professor of Philosophy at Southern New Hampshire University. This program will explore some of the most urgent moral challenges that Al presents to society today. Topics include automation and job displacement\, deep fakes and misinformation\, the role of Al in education\, implicit bias\, autonomous systems (such as self-driving cars and drones) and the ethical implications of a potential technological singularity. After a brief introduction to applied ethics and the technology behind generative Al\, we will examine each issue\, highlighting the core moral questions they raise and their significance for shaping sound policies and regulations. The session will conclude with an open discussion giving attendees a chance to share perspectives and ask questions.\nThe program will be presented on Monday\, 4/27/26\, at 1 PM at the Lake Sunapee United Methodist Church\, Lower Main St.\nIt is free and no reservations are required .
URL:https://projectsunapee.org/event/the-ethics-of-ai/
LOCATION:Lake Sunapee United Methodist Church\, 9 Lower Main Street\, Sunapee\, NH\, 03782
CATEGORIES:Service
ATTACH;FMTTYPE=image/webp:https://projectsunapee.org/wp-content/uploads/2026/03/ai.webp
END:VEVENT
BEGIN:VEVENT
DTSTART;TZID=America/New_York:20260427T130000
DTEND;TZID=America/New_York:20260427T150000
DTSTAMP:20260423T181019
CREATED:20250905T130004Z
LAST-MODIFIED:20250926T132038Z
UID:10000373-1777294800-1777302000@projectsunapee.org
SUMMARY:Abbott Library Cribbage Club
DESCRIPTION:Join Abbott Library Staff for Cribbage on Mondays (EVERY MONDAY) in the activities room from 1 – 3 PM.\n\n\nFor questions\, please call or email the library at 603.763.5513 or info@abbottlibrary.org.
URL:https://projectsunapee.org/event/abbott-library-cribbage-club/2026-04-27/
LOCATION:Abbott Library\, 11 Soonipi Circle\, Sunapee\, NH\, 03782-2925\, United States
CATEGORIES:Service
ATTACH;FMTTYPE=image/jpeg:https://projectsunapee.org/wp-content/uploads/2025/09/542756816_1188870029952809_5627142021532604238_n.jpg
ORGANIZER;CN="Abbott Library":MAILTO:info@abbottlibrary.org
END:VEVENT
BEGIN:VEVENT
DTSTART;TZID=America/New_York:20260429T100000
DTEND;TZID=America/New_York:20260429T110000
DTSTAMP:20260423T181019
CREATED:20250905T130335Z
LAST-MODIFIED:20260113T165008Z
UID:10000426-1777456800-1777460400@projectsunapee.org
SUMMARY:Story Time
DESCRIPTION:Reading aloud to children is one of the best things you can do for their development. Not only is it fun\, but it is also a bonding experience that can impact their literacy skills\, emotional well-being\, and love of reading. Studies have shown that children who know more words when they enter kindergarten tend to read better and have higher academic achievement throughout school. Children who are read to more often are exposed to more new words and develop a more robust understanding of language. A 2019 study by The Ohio State University found that young children whose parents read to them five times daily will hear nearly 1.5 million more words by the time they turn five than children who were not read to at all. This is known as the “million-word gap. – United Through Reading website. \nAbbott Library encourages families to join staff members for our weekly storytimes each Wednesday at 10 AM. Participants hear stories\, sing songs\, and create a craft.\nFor more information\, call or email the library at 603.763.5513 or info@abbottlibrary.org.
URL:https://projectsunapee.org/event/story-time/2026-04-29/
LOCATION:Abbott Library\, 11 Soonipi Circle\, Sunapee\, NH\, 03782-2925\, United States
CATEGORIES:Service
ATTACH;FMTTYPE=image/jpeg:https://projectsunapee.org/wp-content/uploads/2025/09/storytimes-_38_md.jpg
ORGANIZER;CN="Abbott Library":MAILTO:info@abbottlibrary.org
END:VEVENT
BEGIN:VEVENT
DTSTART;TZID=America/New_York:20260429T140000
DTEND;TZID=America/New_York:20260429T160000
DTSTAMP:20260423T181019
CREATED:20250905T130156Z
LAST-MODIFIED:20260113T165235Z
UID:10000479-1777471200-1777478400@projectsunapee.org
SUMMARY:Abbott Library Taiwanese Mah Jongg
DESCRIPTION:Join library volunteers and patrons as they play Taiwanese Mah Jongg! Supplies provided. \nFor more questions\, call or email the library at 603.763.5513 or info@abbottlibrary.org.
URL:https://projectsunapee.org/event/abbott-library-mah-jongg-group/2026-04-29/
LOCATION:Abbott Library\, 11 Soonipi Circle\, Sunapee\, NH\, 03782-2925\, United States
CATEGORIES:Service
ATTACH;FMTTYPE=image/jpeg:https://projectsunapee.org/wp-content/uploads/2025/09/taiwanese-mj_39_md.jpg
ORGANIZER;CN="Abbott Library":MAILTO:info@abbottlibrary.org
END:VEVENT
BEGIN:VEVENT
DTSTART;TZID=America/New_York:20260430T140000
DTEND;TZID=America/New_York:20260430T160000
DTSTAMP:20260423T181019
CREATED:20260113T165639Z
LAST-MODIFIED:20260310T210715Z
UID:10003133-1777557600-1777564800@projectsunapee.org
SUMMARY:Abbott Library American Mah Jongg
DESCRIPTION:Interested in learning a new tabletop\, tile game?\nJoin the library’s volunteers as they play American Mah Jongg. This group is all levels and open to new players. All supplies are available at game time.\n\n\nFor more information on this program or other upcoming events\, please call or email the library at 603.763.5513 or at info@abbottlibrary.org.
URL:https://projectsunapee.org/event/abbott-library-american-mah-jongg/2026-04-30/
LOCATION:Abbott Library\, 11 Soonipi Circle\, Sunapee\, NH\, 03782-2925\, United States
CATEGORIES:Service
ATTACH;FMTTYPE=image/webp:https://projectsunapee.org/wp-content/uploads/2026/01/648608910_1352712146901929_7693543029887774243_n-e1773176825890.webp
ORGANIZER;CN="Abbott Library":MAILTO:info@abbottlibrary.org
END:VEVENT
BEGIN:VEVENT
DTSTART;TZID=America/New_York:20260430T183000
DTEND;TZID=America/New_York:20260430T200000
DTSTAMP:20260423T181019
CREATED:20260317T123018Z
LAST-MODIFIED:20260317T123211Z
UID:10005116-1777573800-1777579200@projectsunapee.org
SUMMARY:Author Talk with Annie Hartnett
DESCRIPTION:The Friends of the Abbott Library present Annie Hartnett\, author of Rabbit Cake\, Unlikely Animals\, and The Road to Tender Hearts.\nCopies of Annie’s books are available to purchase at Morgan Hill Bookstore. The will also be available for purchasing and signing at the event.\nFREE – Registration is required
URL:https://projectsunapee.org/event/author-talk-with-annie-hartnett/
LOCATION:Abbott Library\, 11 Soonipi Circle\, Sunapee\, NH\, 03782-2925\, United States
CATEGORIES:Service
ATTACH;FMTTYPE=image/webp:https://projectsunapee.org/wp-content/uploads/2026/03/annie.webp
ORGANIZER;CN="Abbott Library":MAILTO:info@abbottlibrary.org
END:VEVENT
BEGIN:VEVENT
DTSTART;TZID=America/New_York:20260502T090000
DTEND;TZID=America/New_York:20260502T120000
DTSTAMP:20260423T181019
CREATED:20260322T171321Z
LAST-MODIFIED:20260322T171404Z
UID:10005128-1777712400-1777723200@projectsunapee.org
SUMMARY:18th Annual Sunapee Green-Up Day
DESCRIPTION:Friday\, May 1st\, 2026 – For those who cannot green-up on Saturday\, register online for Friday\, May 1st. \nSaturday\, May 2nd 2026 – Register online now or in person at the Safety Services building at 9 am on Saturday\, May 2nd. \nAdditional Green-Up Day Information & Volunteer Forms \n\n\n1. Review the Safety Check List (Required) – CLICK HERE \n2. Choose your streets and submit your Volunteer Form –  CLICK HERE \n3. Pick up blue trash bags at the Exit Gate of the Sunapee Transfer Station. \n4. Leave all filled trash bags on the sides of the roads for pick up by the Highway Department on Monday. \n\n\nAll volunteers are welcome to join together in Sunapee Harbor at noon for a community picnic! \nThank you for volunteering to help clean up our wonderful town! \nProject Sunapee
URL:https://projectsunapee.org/event/18th-annual-sunapee-green-up-day/
LOCATION:Sunapee\, NH
CATEGORIES:Service
ATTACH;FMTTYPE=image/webp:https://projectsunapee.org/wp-content/uploads/2026/03/box-green-up-2026-e1774199637649.webp
ORGANIZER;CN="Project Sunapee":MAILTO:info@projectsunapee.org
END:VEVENT
BEGIN:VEVENT
DTSTART;TZID=America/New_York:20260502T090000
DTEND;TZID=America/New_York:20260502T163000
DTSTAMP:20260423T181019
CREATED:20260312T184514Z
LAST-MODIFIED:20260312T185414Z
UID:10005111-1777712400-1777739400@projectsunapee.org
SUMMARY:New Hampshire Classroom Course - Boating Certificate
DESCRIPTION:Overview\nThe New Hampshire Classroom Course covers a variety of topics including boat navigation\, boating safety equipment\, invasive aquatic species and laws and rules. This instructor-led class incorporates a range of learning methods consisting of lecture\, videos\, and student discussion. \n\n\nCertification Cards\nUpon successful completion of the course\, students will leave with a boating certificate which is valid for 45 days. The permanent certificate card will be automatically mailed to the student’s address entered at the time of registration. \nWho Needs Boating Education?\nEveryone 16 years of age and older who operates a motorboat over 25 horsepower on New Hampshire waters must have a valid boating education certificate. \nAge Requirements\nStudents may register and take the course at 15 years old\, although a boating education certificate will not be issued until their 16th birthday. \nSpecial Accommodations\nIndividuals with disabilities may request reasonable accommodations by contacting the New Hampshire Marine Patrol at (603) 293-2037 option #1. Please allow a minimum of 30 days advance notice for the department to arrange a course and requested accommodations. Individuals can also connect with the New Hampshire Relay Service or TDD at 1 (800) 735-2964. \nLEARN MORE AND REGISTER – MAY 2\, 2026 \nLEARN MORE AND REGISTER – JUNE 6\, 2026
URL:https://projectsunapee.org/event/new-hampshire-classroom-course-boating-certificate/2026-05-02/
LOCATION:Safety Services Building\, 9 Sargent Road\, Sunapee\, NH\, 03782
CATEGORIES:Service
ATTACH;FMTTYPE=image/webp:https://projectsunapee.org/wp-content/uploads/2026/03/NH-Marine-Patrol-logo.webp
END:VEVENT
BEGIN:VEVENT
DTSTART;TZID=America/New_York:20260506T173000
DTEND;TZID=America/New_York:20260506T190000
DTSTAMP:20260423T181019
CREATED:20260116T181321Z
LAST-MODIFIED:20260417T152151Z
UID:10003813-1778088600-1778094000@projectsunapee.org
SUMMARY:Open Table Project Breakfast
DESCRIPTION:Free Community Meal\n1st Wednesday of each month\n5:30pm\nNo reservation needed \nCome join the table for dinner and great conversations.
URL:https://projectsunapee.org/event/open-table-project-breakfast-2/
LOCATION:Lake Sunapee United Methodist Church\, 9 Lower Main Street\, Sunapee\, NH\, 03782
CATEGORIES:Service
ATTACH;FMTTYPE=image/webp:https://projectsunapee.org/wp-content/uploads/2026/01/flier-1st-wednesdays-web.webp
ORGANIZER;CN="Lake Sunapee United Methodist Church":MAILTO:sunapeeumc@gmail.com
END:VEVENT
BEGIN:VEVENT
DTSTART;TZID=America/New_York:20260512T183000
DTEND;TZID=America/New_York:20260512T203000
DTSTAMP:20260423T181019
CREATED:20260401T173535Z
LAST-MODIFIED:20260401T192447Z
UID:10005192-1778610600-1778617800@projectsunapee.org
SUMMARY:Ausbon Sargent Presents: An Evening with the NH Butterfly Monitoring Network
DESCRIPTION:Join us to hear from Amy Highstrom\, volunteer local group leader with the New Hampshire Butterfly Monitoring Network from the NH Fish & Game Non-Game Wildlife Program. She will explore the topics of NH native butterflies\, their habitats\, and how you can make your property more equipped for our beautiful butterflies. Amy also coordinates the Lake Sunapee Region butterfly count\, so she is well acquainted with the butterflies in our area. The presentation will cover what has been found on the local butterfly counts so far\, with an emphasis on habitat types for different species. \nIf there are any landowners whose land is under conservation that would like someone from the butterfly count group to come do a walk-about count to see what can be found\, please let Amy know at: amy.highstrom@gmail.com. She will do her best to match the request with available volunteers. This would be an informal and fun experience for both the landowner and volunteers. \nThis event is free and open to all\, but registration is required. Please do so by clicking HERE to fill out the form. \nQuestions? Please contact: sarah@ausbonsargent.org or call 603-526-6555
URL:https://projectsunapee.org/event/an-evening-with-the-nh-butterfly-monitoring-network/
LOCATION:Abbott Library\, 11 Soonipi Circle\, Sunapee\, NH\, 03782-2925\, United States
CATEGORIES:Service
ATTACH;FMTTYPE=image/webp:https://projectsunapee.org/wp-content/uploads/2026/04/20200903_132218-monarch-Anne-Payeur-scaled-e1775064925226.webp
ORGANIZER;CN="Ausbon Sargent Land Preservation Trust":MAILTO:info@ausbonsargent.org
END:VEVENT
BEGIN:VEVENT
DTSTART;TZID=America/New_York:20260515T153000
DTEND;TZID=America/New_York:20260515T170000
DTSTAMP:20260423T181019
CREATED:20260113T170010Z
LAST-MODIFIED:20260113T170010Z
UID:10003384-1778859000-1778864400@projectsunapee.org
SUMMARY:Teen D-n-D
DESCRIPTION:Hail\, adventurers! Are you ready to roll the dice and change your destiny? Embark on daring quests\, escape treacherous traps\, and forge alliances with fellow adventurers at our monthly Dungeons and Dragons session. \nFor Teens 12-18. \nAll skills levels are welcome \nFor more information call 603-763-5513 or email info@abbottlibrary.org
URL:https://projectsunapee.org/event/teen-d-n-d/2026-05-15/
LOCATION:Abbott Library\, 11 Soonipi Circle\, Sunapee\, NH\, 03782-2925\, United States
CATEGORIES:Service
ATTACH;FMTTYPE=image/jpeg:https://projectsunapee.org/wp-content/uploads/2026/01/teendnd_40_md.jpg
ORGANIZER;CN="Abbott Library":MAILTO:info@abbottlibrary.org
END:VEVENT
BEGIN:VEVENT
DTSTART;TZID=America/New_York:20260704T070000
DTEND;TZID=America/New_York:20260704T100000
DTSTAMP:20260423T181019
CREATED:20260317T125050Z
LAST-MODIFIED:20260414T113723Z
UID:10005117-1783148400-1783159200@projectsunapee.org
SUMMARY:Abbott Library Pancake Breakfast
DESCRIPTION:Start your day with a tasty breakfast of pancakes\, scrambled eggs\, sausage\, and muffins! All proceeds benefit Abbott Library.
URL:https://projectsunapee.org/event/abbott-library-pancake-breakfast/
LOCATION:Safety Services Building\, 9 Sargent Road\, Sunapee\, NH\, 03782
CATEGORIES:Service
ATTACH;FMTTYPE=image/webp:https://projectsunapee.org/wp-content/uploads/2026/03/pancake-breakfast.webp
ORGANIZER;CN="Abbott Library":MAILTO:info@abbottlibrary.org
END:VEVENT
END:VCALENDAR