BEGIN:VCALENDAR
VERSION:2.0
PRODID:-//Project Sunapee - ECPv6.15.20//NONSGML v1.0//EN
CALSCALE:GREGORIAN
METHOD:PUBLISH
X-WR-CALNAME:Project Sunapee
X-ORIGINAL-URL:https://projectsunapee.org
X-WR-CALDESC:Events for Project Sunapee
REFRESH-INTERVAL;VALUE=DURATION:PT1H
X-Robots-Tag:noindex
X-PUBLISHED-TTL:PT1H
BEGIN:VTIMEZONE
TZID:America/New_York
BEGIN:DAYLIGHT
TZOFFSETFROM:-0500
TZOFFSETTO:-0400
TZNAME:EDT
DTSTART:20250309T070000
END:DAYLIGHT
BEGIN:STANDARD
TZOFFSETFROM:-0400
TZOFFSETTO:-0500
TZNAME:EST
DTSTART:20251102T060000
END:STANDARD
BEGIN:DAYLIGHT
TZOFFSETFROM:-0500
TZOFFSETTO:-0400
TZNAME:EDT
DTSTART:20260308T070000
END:DAYLIGHT
BEGIN:STANDARD
TZOFFSETFROM:-0400
TZOFFSETTO:-0500
TZNAME:EST
DTSTART:20261101T060000
END:STANDARD
BEGIN:DAYLIGHT
TZOFFSETFROM:-0500
TZOFFSETTO:-0400
TZNAME:EDT
DTSTART:20270314T070000
END:DAYLIGHT
BEGIN:STANDARD
TZOFFSETFROM:-0400
TZOFFSETTO:-0500
TZNAME:EST
DTSTART:20271107T060000
END:STANDARD
END:VTIMEZONE
BEGIN:VEVENT
DTSTART;TZID=America/New_York:20260207T100000
DTEND;TZID=America/New_York:20260207T140000
DTSTAMP:20260425T200506
CREATED:20250905T183215Z
LAST-MODIFIED:20250926T131320Z
UID:10000523-1770458400-1770472800@projectsunapee.org
SUMMARY:Sunapee Thrift Shop
DESCRIPTION:Welcome to the Town of Sunapee Thrift Shop! \nThe Sunapee Thrift Shop was founded by the Sunapee Seniors to offer scholarships to the Sunapee School District and serve the local community with donations for local services. With the help of many hardworking volunteers\, the shop continues to serve the local area. When you shop with us\, you’re not just finding great deals – you’re also helping to reduce waste and support local initiatives. \nSupporting Our Community \nProceeds from the Town of Sunapee Thrift Shop are given back to the community in scholarships and donations to organizatoins. By shopping here\, you’re contributing to initiatives that make a positive impact right here in Sunapee. \nDonate and Volunteer \nWe rely on donations from community members to keep the shop stocked year-round! We welcome clean women’s\, men’s\, and children’s clothing and shoes with no stains or tears. Please deliver all donations to the Sunapee Transfer Station. \nInterested in volunteering? Join our team of dedicated volunteers who help run the shop\, sort donations\, assist customers\, and contribute to the vibrant atmosphere of the thrift shop. \n** In case of inclement weather\, the shop will be closed if the school district is closed. **
URL:https://projectsunapee.org/event/sunapee-thrift-shop/2026-02-07/
LOCATION:Sunapee Thrift Shop\, 542 Route 11\, Sunapee\, NH\, 03782
CATEGORIES:Shop
ATTACH;FMTTYPE=image/jpeg:https://projectsunapee.org/wp-content/uploads/2025/09/images-4.jpeg
END:VEVENT
BEGIN:VEVENT
DTSTART;TZID=America/New_York:20260214T100000
DTEND;TZID=America/New_York:20260214T140000
DTSTAMP:20260425T200506
CREATED:20250905T183215Z
LAST-MODIFIED:20250926T131320Z
UID:10000524-1771063200-1771077600@projectsunapee.org
SUMMARY:Sunapee Thrift Shop
DESCRIPTION:Welcome to the Town of Sunapee Thrift Shop! \nThe Sunapee Thrift Shop was founded by the Sunapee Seniors to offer scholarships to the Sunapee School District and serve the local community with donations for local services. With the help of many hardworking volunteers\, the shop continues to serve the local area. When you shop with us\, you’re not just finding great deals – you’re also helping to reduce waste and support local initiatives. \nSupporting Our Community \nProceeds from the Town of Sunapee Thrift Shop are given back to the community in scholarships and donations to organizatoins. By shopping here\, you’re contributing to initiatives that make a positive impact right here in Sunapee. \nDonate and Volunteer \nWe rely on donations from community members to keep the shop stocked year-round! We welcome clean women’s\, men’s\, and children’s clothing and shoes with no stains or tears. Please deliver all donations to the Sunapee Transfer Station. \nInterested in volunteering? Join our team of dedicated volunteers who help run the shop\, sort donations\, assist customers\, and contribute to the vibrant atmosphere of the thrift shop. \n** In case of inclement weather\, the shop will be closed if the school district is closed. **
URL:https://projectsunapee.org/event/sunapee-thrift-shop/2026-02-14/
LOCATION:Sunapee Thrift Shop\, 542 Route 11\, Sunapee\, NH\, 03782
CATEGORIES:Shop
ATTACH;FMTTYPE=image/jpeg:https://projectsunapee.org/wp-content/uploads/2025/09/images-4.jpeg
END:VEVENT
BEGIN:VEVENT
DTSTART;TZID=America/New_York:20260221T100000
DTEND;TZID=America/New_York:20260221T140000
DTSTAMP:20260425T200506
CREATED:20250905T183215Z
LAST-MODIFIED:20250926T131320Z
UID:10000525-1771668000-1771682400@projectsunapee.org
SUMMARY:Sunapee Thrift Shop
DESCRIPTION:Welcome to the Town of Sunapee Thrift Shop! \nThe Sunapee Thrift Shop was founded by the Sunapee Seniors to offer scholarships to the Sunapee School District and serve the local community with donations for local services. With the help of many hardworking volunteers\, the shop continues to serve the local area. When you shop with us\, you’re not just finding great deals – you’re also helping to reduce waste and support local initiatives. \nSupporting Our Community \nProceeds from the Town of Sunapee Thrift Shop are given back to the community in scholarships and donations to organizatoins. By shopping here\, you’re contributing to initiatives that make a positive impact right here in Sunapee. \nDonate and Volunteer \nWe rely on donations from community members to keep the shop stocked year-round! We welcome clean women’s\, men’s\, and children’s clothing and shoes with no stains or tears. Please deliver all donations to the Sunapee Transfer Station. \nInterested in volunteering? Join our team of dedicated volunteers who help run the shop\, sort donations\, assist customers\, and contribute to the vibrant atmosphere of the thrift shop. \n** In case of inclement weather\, the shop will be closed if the school district is closed. **
URL:https://projectsunapee.org/event/sunapee-thrift-shop/2026-02-21/
LOCATION:Sunapee Thrift Shop\, 542 Route 11\, Sunapee\, NH\, 03782
CATEGORIES:Shop
ATTACH;FMTTYPE=image/jpeg:https://projectsunapee.org/wp-content/uploads/2025/09/images-4.jpeg
END:VEVENT
BEGIN:VEVENT
DTSTART;TZID=America/New_York:20260228T100000
DTEND;TZID=America/New_York:20260228T140000
DTSTAMP:20260425T200506
CREATED:20250905T183215Z
LAST-MODIFIED:20250926T131320Z
UID:10000526-1772272800-1772287200@projectsunapee.org
SUMMARY:Sunapee Thrift Shop
DESCRIPTION:Welcome to the Town of Sunapee Thrift Shop! \nThe Sunapee Thrift Shop was founded by the Sunapee Seniors to offer scholarships to the Sunapee School District and serve the local community with donations for local services. With the help of many hardworking volunteers\, the shop continues to serve the local area. When you shop with us\, you’re not just finding great deals – you’re also helping to reduce waste and support local initiatives. \nSupporting Our Community \nProceeds from the Town of Sunapee Thrift Shop are given back to the community in scholarships and donations to organizatoins. By shopping here\, you’re contributing to initiatives that make a positive impact right here in Sunapee. \nDonate and Volunteer \nWe rely on donations from community members to keep the shop stocked year-round! We welcome clean women’s\, men’s\, and children’s clothing and shoes with no stains or tears. Please deliver all donations to the Sunapee Transfer Station. \nInterested in volunteering? Join our team of dedicated volunteers who help run the shop\, sort donations\, assist customers\, and contribute to the vibrant atmosphere of the thrift shop. \n** In case of inclement weather\, the shop will be closed if the school district is closed. **
URL:https://projectsunapee.org/event/sunapee-thrift-shop/2026-02-28/
LOCATION:Sunapee Thrift Shop\, 542 Route 11\, Sunapee\, NH\, 03782
CATEGORIES:Shop
ATTACH;FMTTYPE=image/jpeg:https://projectsunapee.org/wp-content/uploads/2025/09/images-4.jpeg
END:VEVENT
END:VCALENDAR