BEGIN:VCALENDAR
VERSION:2.0
PRODID:-//Project Sunapee - ECPv6.15.20//NONSGML v1.0//EN
CALSCALE:GREGORIAN
METHOD:PUBLISH
X-ORIGINAL-URL:https://projectsunapee.org
X-WR-CALDESC:Events for Project Sunapee
REFRESH-INTERVAL;VALUE=DURATION:PT1H
X-Robots-Tag:noindex
X-PUBLISHED-TTL:PT1H
BEGIN:VTIMEZONE
TZID:America/New_York
BEGIN:DAYLIGHT
TZOFFSETFROM:-0500
TZOFFSETTO:-0400
TZNAME:EDT
DTSTART:20240310T070000
END:DAYLIGHT
BEGIN:STANDARD
TZOFFSETFROM:-0400
TZOFFSETTO:-0500
TZNAME:EST
DTSTART:20241103T060000
END:STANDARD
BEGIN:DAYLIGHT
TZOFFSETFROM:-0500
TZOFFSETTO:-0400
TZNAME:EDT
DTSTART:20250309T070000
END:DAYLIGHT
BEGIN:STANDARD
TZOFFSETFROM:-0400
TZOFFSETTO:-0500
TZNAME:EST
DTSTART:20251102T060000
END:STANDARD
BEGIN:DAYLIGHT
TZOFFSETFROM:-0500
TZOFFSETTO:-0400
TZNAME:EDT
DTSTART:20260308T070000
END:DAYLIGHT
BEGIN:STANDARD
TZOFFSETFROM:-0400
TZOFFSETTO:-0500
TZNAME:EST
DTSTART:20261101T060000
END:STANDARD
END:VTIMEZONE
BEGIN:VEVENT
DTSTART;TZID=America/New_York:20251101T080000
DTEND;TZID=America/New_York:20251101T090000
DTSTAMP:20260425T212940
CREATED:20251015T173911Z
LAST-MODIFIED:20260114T173926Z
UID:10001224-1761984000-1761987600@projectsunapee.org
SUMMARY:Flow & Glow Yoga
DESCRIPTION:These vinyasa flow classes are designed to build flexibility\, stability\, strength\, balance\, focus and connect to self. We’ll link breath with flowing movements. All levels are welcome\, variations will be demonstrated. Beginner students will flow gently into modified postures and seasoned students can choose more advanced options. Class-goers will meet themselves on the mat\, free of judgment and full of acceptance. \n1 hour / $15
URL:https://projectsunapee.org/event/flow-glow-yoga-2/2025-11-01/
LOCATION:The Livery\, 58 Main Street\, Sunapee\, NH\, 03782-2925\, United States
CATEGORIES:Sunapee Harbor
ATTACH;FMTTYPE=image/webp:https://projectsunapee.org/wp-content/uploads/2025/10/yoga-livery.webp
END:VEVENT
BEGIN:VEVENT
DTSTART;TZID=America/New_York:20251101T080000
DTEND;TZID=America/New_York:20251101T170000
DTSTAMP:20260425T212940
CREATED:20251028T200824Z
LAST-MODIFIED:20251028T200824Z
UID:10001487-1761984000-1762016400@projectsunapee.org
SUMMARY:Halloween Special
DESCRIPTION:Fentons Landing is getting into the spirit of Halloween all weekend long with Frankentenders (chicken tenders)\, Orange Mac and Cheese and Halloween Cookies. Available at the new Take Out Window or at Hoptimystic Brewing.
URL:https://projectsunapee.org/event/halloween-special/2025-11-01/
LOCATION:NH
CATEGORIES:Sunapee Harbor
ATTACH;FMTTYPE=image/png:https://projectsunapee.org/wp-content/uploads/2025/10/Screenshot-2025-10-28-at-3.55.58-PM.png
END:VEVENT
BEGIN:VEVENT
DTSTART;TZID=America/New_York:20251102T080000
DTEND;TZID=America/New_York:20251102T170000
DTSTAMP:20260425T212940
CREATED:20251028T200824Z
LAST-MODIFIED:20251028T200824Z
UID:10001488-1762070400-1762102800@projectsunapee.org
SUMMARY:Halloween Special
DESCRIPTION:Fentons Landing is getting into the spirit of Halloween all weekend long with Frankentenders (chicken tenders)\, Orange Mac and Cheese and Halloween Cookies. Available at the new Take Out Window or at Hoptimystic Brewing.
URL:https://projectsunapee.org/event/halloween-special/2025-11-02/
LOCATION:NH
CATEGORIES:Sunapee Harbor
ATTACH;FMTTYPE=image/png:https://projectsunapee.org/wp-content/uploads/2025/10/Screenshot-2025-10-28-at-3.55.58-PM.png
END:VEVENT
BEGIN:VEVENT
DTSTART;TZID=America/New_York:20251102T103000
DTEND;TZID=America/New_York:20251102T113000
DTSTAMP:20260425T212940
CREATED:20251001T163609Z
LAST-MODIFIED:20251001T163609Z
UID:10000951-1762079400-1762083000@projectsunapee.org
SUMMARY:Pose\, Paint\, and Pint at Hoptimystic Brewing
DESCRIPTION:Join Sunapee Yoga Company at Hoptimystic Brewing for a yoga\, creativity\, and a beer! Tia Savage\, LICSW and owner of From the Roots Life Coaching\, will lead a self-care activity after yoga. It’s a Thanksgiving-themed rock painting class where we’ll focus on gratitude and intention as we design meaningful\, festive pieces to take home. This gentle hands-on workshop is a perfect way to slow down\, connect with yourself\, and celebrate the season in community with others. This fun vinyasa flow class is suitable for all levels. The cost includes class\, workshop\, and one beverage. Approximately 2-hours. \nMore information:  https://sunapeeyogacompany.com/ola/services/pose-paint-and-pint-at-hoptimystic-brewing
URL:https://projectsunapee.org/event/pose-paint-and-pint-at-hoptimystic-brewing/
LOCATION:Hoptimystic Brewery\, 31 River Road\, Sunapee\, NH\, 03782
CATEGORIES:Sunapee Harbor
ATTACH;FMTTYPE=image/jpeg:https://projectsunapee.org/wp-content/uploads/2025/10/sunapeeyoga.jpg
END:VEVENT
BEGIN:VEVENT
DTSTART;TZID=America/New_York:20251105T173000
DTEND;TZID=America/New_York:20251105T183000
DTSTAMP:20260425T212940
CREATED:20250904T204506Z
LAST-MODIFIED:20260114T174025Z
UID:10000086-1762363800-1762367400@projectsunapee.org
SUMMARY:Flow & Glow Yoga
DESCRIPTION:These vinyasa flow classes are designed to build flexibility\, stability\, strength\, balance\, focus and connect to self. We’ll link breath with flowing movements. All levels are welcome\, variations will be demonstrated. Beginner students will flow gently into modified postures and seasoned students can choose more advanced options. Class-goers will meet themselves on the mat\, free of judgment and full of acceptance. \n1 hour / $15
URL:https://projectsunapee.org/event/flow-glow-yoga/2025-11-05/
LOCATION:The Livery\, 58 Main Street\, Sunapee\, NH\, 03782-2925\, United States
CATEGORIES:Sunapee Harbor
ATTACH;FMTTYPE=image/webp:https://projectsunapee.org/wp-content/uploads/2025/10/yoga-livery.webp
END:VEVENT
BEGIN:VEVENT
DTSTART;TZID=America/New_York:20251106T180000
DTEND;TZID=America/New_York:20251106T200000
DTSTAMP:20260425T212940
CREATED:20251020T131300Z
LAST-MODIFIED:20251020T131358Z
UID:10001483-1762452000-1762459200@projectsunapee.org
SUMMARY:Empty Bowls Dinner
DESCRIPTION:Since 2017\, Empty Bowl has brought Sunapee together in the most meaningful (and delicious!) way. What began as a simple idea from Sunapee Middle High School students and teachers—wanting to give back—has grown into one of our community’s favorite annual gatherings. \nEach year\, a local artist crafts dozens of beautiful\, one-of-a-kind pottery bowls. Then\, the community comes together at The Livery to share a homemade meal and dessert served right in those handcrafted bowls. Laughter\, conversation\, and the smell of good food fill the room—there’s something truly special about it. \nAnd the best part? You get to take your bowl home as a keepsake—a reminder of the good we can do when we gather around the table together. \nEmpty Bowl isn’t just a dinner; it’s a celebration of creativity\, kindness\, and community spirit—all wrapped up in one warm bowl. \nWhat is an Empty Bowl Dinner?\nEmpty Bowls is a grassroots movement by artists and crafts people in cities and towns around the world to raise money for food related charities to care for and feed the hungry in their communities. \nCost: $20/per person includes a full meal\, and a handmade artisan bowl. \nDinner reservations are required and must be made no later than November 4th. \nBuy Tickets Here \nAll proceeds from this event go to Sunapee’s Food Pantry. (Follow the link to see current needs.) \nThis event is organized by SMHS Service Club.
URL:https://projectsunapee.org/event/empty-bowls-dinner/
LOCATION:The Livery\, 58 Main Street\, Sunapee\, NH\, 03782-2925\, United States
CATEGORIES:Sunapee Harbor
ATTACH;FMTTYPE=image/jpeg:https://projectsunapee.org/wp-content/uploads/2025/10/IMG_1151.jpg
END:VEVENT
BEGIN:VEVENT
DTSTART;TZID=America/New_York:20251108T080000
DTEND;TZID=America/New_York:20251108T090000
DTSTAMP:20260425T212940
CREATED:20251015T173911Z
LAST-MODIFIED:20260114T173926Z
UID:10001225-1762588800-1762592400@projectsunapee.org
SUMMARY:Flow & Glow Yoga
DESCRIPTION:These vinyasa flow classes are designed to build flexibility\, stability\, strength\, balance\, focus and connect to self. We’ll link breath with flowing movements. All levels are welcome\, variations will be demonstrated. Beginner students will flow gently into modified postures and seasoned students can choose more advanced options. Class-goers will meet themselves on the mat\, free of judgment and full of acceptance. \n1 hour / $15
URL:https://projectsunapee.org/event/flow-glow-yoga-2/2025-11-08/
LOCATION:The Livery\, 58 Main Street\, Sunapee\, NH\, 03782-2925\, United States
CATEGORIES:Sunapee Harbor
ATTACH;FMTTYPE=image/webp:https://projectsunapee.org/wp-content/uploads/2025/10/yoga-livery.webp
END:VEVENT
BEGIN:VEVENT
DTSTART;TZID=America/New_York:20251108T120000
DTEND;TZID=America/New_York:20251108T160000
DTSTAMP:20260425T212940
CREATED:20250930T203815Z
LAST-MODIFIED:20250930T203815Z
UID:10000942-1762603200-1762617600@projectsunapee.org
SUMMARY:Botanicals & Brews with Penumbra
DESCRIPTION:Join us on Saturday\, November 8th for a cozy afternoon surrounded by greenery and good vibes. Shop the stunning plant collection from Penumbra Plants in Concord\, NH. Sip on a refreshing beer or seltzer (or just come for the plants!) A perfect way to spend your Saturday — plants\, brews\, and community.
URL:https://projectsunapee.org/event/botanicals-brews-with-penumbra/
LOCATION:Hoptimystic Brewery\, 31 River Road\, Sunapee\, NH\, 03782
CATEGORIES:Sunapee Harbor
ATTACH;FMTTYPE=image/jpeg:https://projectsunapee.org/wp-content/uploads/2025/09/thumbnail_CYc9HHueRLDt-ChatGPT-Image-Sep-28-2025-01_35_26-PMs.jpg
ORGANIZER;CN="Hoptimystic Brewing":MAILTO:hoptimysticbrewingNH@gmail.com
END:VEVENT
BEGIN:VEVENT
DTSTART;TZID=America/New_York:20251108T173000
DTEND;TZID=America/New_York:20251108T173000
DTSTAMP:20260425T212940
CREATED:20250930T204111Z
LAST-MODIFIED:20250930T204210Z
UID:10000943-1762623000-1762623000@projectsunapee.org
SUMMARY:Ski Movie Night:  After The Snowfall
DESCRIPTION:Matchstick Productions Films in collaborations with Sunapee Rec\, Sunapee Rec Committee\, and Friends of Sunapee Rec present 2025 Ski Film “After the Snowfall” at the Livery! \nLets get excited for the 2025/2026 ski & snowboard season by coming together as a community to share in our favorite past time and watch a ski film! Matchstick productions has been producing ski films from all over the world since 1992. \nJoin in on the fun\, as we raffle items off\, eat\, drink and be merry with one another\, as we close in on another epic winter season both at Mt. Sunapee and wherever your adventures await you. \n$15 adults\, $10 youth 13 and under \nProceeds from this event will go to Sunapee Recreation and specifically to support our scholarships for participants. \nhttps://sunapeerecreation.recdesk.com/Community/Program/Detail?programId=447
URL:https://projectsunapee.org/event/ski-movie-night-after-the-snowfall/
LOCATION:The Livery\, 58 Main Street\, Sunapee\, NH\, 03782-2925\, United States
CATEGORIES:Sunapee Harbor
ATTACH;FMTTYPE=image/jpeg:https://projectsunapee.org/wp-content/uploads/2025/09/bWfPZMC9b7IJ-Screenshot-2025-09-30-at-1.59.15-PMs.jpg
END:VEVENT
BEGIN:VEVENT
DTSTART;TZID=America/New_York:20251112T173000
DTEND;TZID=America/New_York:20251112T183000
DTSTAMP:20260425T212940
CREATED:20250904T204506Z
LAST-MODIFIED:20260114T174025Z
UID:10000087-1762968600-1762972200@projectsunapee.org
SUMMARY:Flow & Glow Yoga
DESCRIPTION:These vinyasa flow classes are designed to build flexibility\, stability\, strength\, balance\, focus and connect to self. We’ll link breath with flowing movements. All levels are welcome\, variations will be demonstrated. Beginner students will flow gently into modified postures and seasoned students can choose more advanced options. Class-goers will meet themselves on the mat\, free of judgment and full of acceptance. \n1 hour / $15
URL:https://projectsunapee.org/event/flow-glow-yoga/2025-11-12/
LOCATION:The Livery\, 58 Main Street\, Sunapee\, NH\, 03782-2925\, United States
CATEGORIES:Sunapee Harbor
ATTACH;FMTTYPE=image/webp:https://projectsunapee.org/wp-content/uploads/2025/10/yoga-livery.webp
END:VEVENT
BEGIN:VEVENT
DTSTART;TZID=America/New_York:20251113T160000
DTEND;TZID=America/New_York:20251113T180000
DTSTAMP:20260425T212940
CREATED:20251107T201058Z
LAST-MODIFIED:20251107T201058Z
UID:10001753-1763049600-1763056800@projectsunapee.org
SUMMARY:Wine Tasting – 4—6PM Thursday\, November 13
DESCRIPTION:Join us on Thursday\, November 13\, 4–6 pm for an easygoing tasting along the harbor. \nWe’re pouring two Austrian whites (including a sparkling) and two Italian reds. \nIt’s a casual\, welcoming way to discover new favorites\, trade impressions with fellow wine lovers\, and savor the last golden hours of fall.\nhttps://sunapeecellarandpantry.com/wine-tasting-nov-13/
URL:https://projectsunapee.org/event/wine-tasting-4-6pm-thursday-november-13/
LOCATION:Sunapee Cellar and Pantry\, 5 Garnet Street\, Sunapee\, NH
CATEGORIES:Sunapee Harbor
ATTACH;FMTTYPE=image/png:https://projectsunapee.org/wp-content/uploads/2025/11/Screenshot-2025-11-07-at-3.09.51-PM.png
END:VEVENT
BEGIN:VEVENT
DTSTART;TZID=America/New_York:20251113T183000
DTEND;TZID=America/New_York:20251113T193000
DTSTAMP:20260425T212940
CREATED:20250930T210024Z
LAST-MODIFIED:20250930T210024Z
UID:10000949-1763058600-1763062200@projectsunapee.org
SUMMARY:Understanding and Controlling Invasive Species: Science\, Strategies\, and Solutions
DESCRIPTION:Join us for an engaging presentation on the impacts of invasive species in our watershed\, featuring LSPA Executive Director and former Ecology Professor Elizabeth Harper\, along with Conservation Program Manager Susie Burbidge. Together\, they will explore the science and ecology of invasive species\, as well as the tradeoffs involved in different methods of control and prevention. Susie will highlight LSPA’s two lines of defense against aquatic invasive species: the Lake Host Program and the Invasive Watch Program. Following the presentation\, there will be an extended Q&A session\, providing an opportunity to ask questions and gain a deeper understanding of how invasive species affect both our aquatic and terrestrial ecosystems. \nClick here to register.
URL:https://projectsunapee.org/event/understanding-and-controlling-invasive-species-science-strategies-and-solutions/
LOCATION:Lake Sunapee Protective Association\, 63 Main Street\, Sunapee\, NH\, 03782
CATEGORIES:Sunapee Harbor
ATTACH;FMTTYPE=image/jpeg:https://projectsunapee.org/wp-content/uploads/2025/09/IMG_2468s.jpg
ORGANIZER;CN="Lake Sunapee Protective Association":MAILTO:lspa@lakesunapee.org
END:VEVENT
BEGIN:VEVENT
DTSTART;TZID=America/New_York:20251115T080000
DTEND;TZID=America/New_York:20251115T090000
DTSTAMP:20260425T212940
CREATED:20251015T173911Z
LAST-MODIFIED:20260114T173926Z
UID:10001226-1763193600-1763197200@projectsunapee.org
SUMMARY:Flow & Glow Yoga
DESCRIPTION:These vinyasa flow classes are designed to build flexibility\, stability\, strength\, balance\, focus and connect to self. We’ll link breath with flowing movements. All levels are welcome\, variations will be demonstrated. Beginner students will flow gently into modified postures and seasoned students can choose more advanced options. Class-goers will meet themselves on the mat\, free of judgment and full of acceptance. \n1 hour / $15
URL:https://projectsunapee.org/event/flow-glow-yoga-2/2025-11-15/
LOCATION:The Livery\, 58 Main Street\, Sunapee\, NH\, 03782-2925\, United States
CATEGORIES:Sunapee Harbor
ATTACH;FMTTYPE=image/webp:https://projectsunapee.org/wp-content/uploads/2025/10/yoga-livery.webp
END:VEVENT
BEGIN:VEVENT
DTSTART;TZID=America/New_York:20251117T083000
DTEND;TZID=America/New_York:20251117T233000
DTSTAMP:20260425T212940
CREATED:20251109T175707Z
LAST-MODIFIED:20251110T203209Z
UID:10001755-1763368200-1763422200@projectsunapee.org
SUMMARY:Sunday Brunch
DESCRIPTION:Enjoy a delicious and relaxing brunch buffet while supporting two harbor businesses\, Fenton’s Landing and Hoptimystic Brewing\, this winter. All you can eat\, excluding beverages. \nAlways available\, Waffles\, French Toast Sticks\, Eggs\, home made Home Fries\, Freshly baked Muffins\, Fresh Fruit\, Pulled Pork\, Corn Beef Hash\, Bacon and Sausage and other rotating specials.
URL:https://projectsunapee.org/event/sunday-brunch/
LOCATION:Hoptimystic Brewery\, 31 River Road\, Sunapee\, NH\, 03782
CATEGORIES:Sunapee Harbor
ATTACH;FMTTYPE=image/jpeg:https://projectsunapee.org/wp-content/uploads/2025/11/sunday-brunch.jpg
END:VEVENT
BEGIN:VEVENT
DTSTART;TZID=America/New_York:20251119T173000
DTEND;TZID=America/New_York:20251119T183000
DTSTAMP:20260425T212940
CREATED:20250904T204506Z
LAST-MODIFIED:20260114T174025Z
UID:10000088-1763573400-1763577000@projectsunapee.org
SUMMARY:Flow & Glow Yoga
DESCRIPTION:These vinyasa flow classes are designed to build flexibility\, stability\, strength\, balance\, focus and connect to self. We’ll link breath with flowing movements. All levels are welcome\, variations will be demonstrated. Beginner students will flow gently into modified postures and seasoned students can choose more advanced options. Class-goers will meet themselves on the mat\, free of judgment and full of acceptance. \n1 hour / $15
URL:https://projectsunapee.org/event/flow-glow-yoga/2025-11-19/
LOCATION:The Livery\, 58 Main Street\, Sunapee\, NH\, 03782-2925\, United States
CATEGORIES:Sunapee Harbor
ATTACH;FMTTYPE=image/webp:https://projectsunapee.org/wp-content/uploads/2025/10/yoga-livery.webp
END:VEVENT
BEGIN:VEVENT
DTSTART;TZID=America/New_York:20251121T160000
DTEND;TZID=America/New_York:20251121T190000
DTSTAMP:20260425T212940
CREATED:20251119T162531Z
LAST-MODIFIED:20251120T174117Z
UID:10003082-1763740800-1763751600@projectsunapee.org
SUMMARY:Guest Bartender Night in Support of Sunapee Rec Department
DESCRIPTION:Guest Bartender Night – This Friday\, 11/21 from 4–7pm! \nJoin us for a fun evening in support of the Sunapee Recreation Department! \n  \nWe’re donating 10% of all sales plus every tip from the night directly to Sunapee Rec — so come sip for a great cause! \n Spotlight Bartenders:\n• Nick Grant\n• Ian Kirk\n• Steve Bourque \n New Beer Release!\nIntroducing Honey I Gotta Run — a smooth Brown Ale brewed with honey and yams\, crafted to pair perfectly with your Thanksgiving meal. Available on tap and in 4-pack cans Friday night\, with a portion of proceeds supporting Sunapee Rec. \nCome out\, grab a pint\, grab dinner from Fenton’s Landing\, and help us give back to the communit
URL:https://projectsunapee.org/event/guest-bartender-night-in-support-of-sunapee-rec-department/
LOCATION:Hoptimystic Brewery\, 31 River Road\, Sunapee\, NH\, 03782
CATEGORIES:Sunapee Harbor
ATTACH;FMTTYPE=image/png:https://projectsunapee.org/wp-content/uploads/2025/11/Screenshot-2025-11-19-at-11.25.00-AM.png
END:VEVENT
BEGIN:VEVENT
DTSTART;TZID=America/New_York:20251121T170000
DTEND;TZID=America/New_York:20251121T200000
DTSTAMP:20260425T212940
CREATED:20251113T145214Z
LAST-MODIFIED:20251120T174335Z
UID:10001756-1763744400-1763755200@projectsunapee.org
SUMMARY:Holiday Shopping in the Harbor
DESCRIPTION:Kick off your holiday shopping while supporting our local businesses and the Sunapee Central Elementary School Playground Project! \n  \nJoin us for a fun filled evening and beautiful downtown Sunapee and enjoy a breakfast brunch for dinner before the Lake Queen\, savor Fenton’s\, full full menu at Hoptimystic\, and tap it all off with a delicious ice cream dessert as you stroll through town. It’s the perfect way to get into the holiday spirit while giving back to class that matters. \nA portion of all proceeds from the evening will directly support the SCES Playground Project\, helping to build a fun\, safe\, and inclusive play space for our local children. Shop\, local\, dine local\, and give local – let’s make this holiday season one to remember!
URL:https://projectsunapee.org/event/holiday-shopping-in-the-harbor/
LOCATION:Sunapee Harbor\, Main Street\, Sunapee\, NH\, 03782-2925\, United States
CATEGORIES:Sunapee Harbor
ATTACH;FMTTYPE=image/png:https://projectsunapee.org/wp-content/uploads/2025/11/Screenshot-2025-11-13-at-9.42.27-AM-1-e1763660548592.png
END:VEVENT
BEGIN:VEVENT
DTSTART;TZID=America/New_York:20251122T080000
DTEND;TZID=America/New_York:20251122T090000
DTSTAMP:20260425T212940
CREATED:20251015T173911Z
LAST-MODIFIED:20260114T173926Z
UID:10001227-1763798400-1763802000@projectsunapee.org
SUMMARY:Flow & Glow Yoga
DESCRIPTION:These vinyasa flow classes are designed to build flexibility\, stability\, strength\, balance\, focus and connect to self. We’ll link breath with flowing movements. All levels are welcome\, variations will be demonstrated. Beginner students will flow gently into modified postures and seasoned students can choose more advanced options. Class-goers will meet themselves on the mat\, free of judgment and full of acceptance. \n1 hour / $15
URL:https://projectsunapee.org/event/flow-glow-yoga-2/2025-11-22/
LOCATION:The Livery\, 58 Main Street\, Sunapee\, NH\, 03782-2925\, United States
CATEGORIES:Sunapee Harbor
ATTACH;FMTTYPE=image/webp:https://projectsunapee.org/wp-content/uploads/2025/10/yoga-livery.webp
END:VEVENT
BEGIN:VEVENT
DTSTART;TZID=America/New_York:20251122T130000
DTEND;TZID=America/New_York:20251122T160000
DTSTAMP:20260425T212940
CREATED:20250930T204931Z
LAST-MODIFIED:20251022T141528Z
UID:10000944-1763816400-1763827200@projectsunapee.org
SUMMARY:Books & Brews With Morgan Hill Bookstore
DESCRIPTION:Morgan Hill will be on-site with a curated selection of bestselling titles and our inaugural Hoptimystic (Sunapee) Book Club pick The Lion Women of Tehran by Marjan Kamala for you to explore while you sip a fresh pint and enjoy some snacks. Whether you’re stocking up your TBR pile\, starting the holiday shopping for the bookworm in your life or simply settling in for a cozy afternoon of books and brews\, there’s something here for everyone.
URL:https://projectsunapee.org/event/books-brews-with-morgan-hill-bookstore/
LOCATION:Hoptimystic Brewery\, 31 River Road\, Sunapee\, NH\, 03782
CATEGORIES:Sunapee Harbor
ATTACH;FMTTYPE=image/jpeg:https://projectsunapee.org/wp-content/uploads/2025/09/thumbnail_botb-post-books-and-brews-11-22s.jpg
ORGANIZER;CN="Hoptimystic Brewing":MAILTO:hoptimysticbrewingNH@gmail.com
END:VEVENT
BEGIN:VEVENT
DTSTART;TZID=America/New_York:20251125T100000
DTEND;TZID=America/New_York:20251125T110000
DTSTAMP:20260425T212940
CREATED:20251113T152137Z
LAST-MODIFIED:20251113T152137Z
UID:10002543-1764064800-1764068400@projectsunapee.org
SUMMARY:Nature Exploration Story Time (NEST) - Talkin' Turkeys
DESCRIPTION:Tuesday\, November 25\, 2025\n10:00 AM  11:00 AM\nLSPA Center for Lake Studies (map)\n\n\n\nCome join LSPA educators at the Center for Lake Studies to explore the natural world. Each Tuesday morning will be filled with hands on learning through sensory experiences\, guided exploration\, creative play\, art\, and music. LSPA’s story time is designed for young children and their caregivers. Come to one session or all – each program is organized around a different ecological theme. Come join the fun! This Tuesday morning\, we will flock together for a gobblin good time!
URL:https://projectsunapee.org/event/nature-exploration-story-time-nest-talkin-turkeys/
LOCATION:Lake Sunapee Protective Association\, 63 Main Street\, Sunapee\, NH\, 03782
CATEGORIES:Sunapee Harbor
ATTACH;FMTTYPE=image/png:https://projectsunapee.org/wp-content/uploads/2025/11/Screenshot-2025-11-13-at-10.21.01-AM.png
END:VEVENT
BEGIN:VEVENT
DTSTART;TZID=America/New_York:20251125T160000
DTEND;TZID=America/New_York:20251125T180000
DTSTAMP:20260425T212940
CREATED:20251115T232444Z
LAST-MODIFIED:20251115T232444Z
UID:10003072-1764086400-1764093600@projectsunapee.org
SUMMARY:South African Wine Tasting
DESCRIPTION:We are hosting a South African wine tasting on TUESDAY\, Nov 25th from 4-6pm. \nThe day is a departure from our normal Thursday\, but it is a holiday week \nWe had the pleasure of hosting Samantha from South Africa a few weeks ago and tasted several of her wines from Benquela Cove\, Jasper Raats and Olifantsberg wineries. They were delicious and consequently we brought in 6 of their wines. We will be tasting four of them on the 25th including a Pinot Noir\, a Chardonnay and a blended red featuring Syrah\, Mourvèdre and Carignan and a white featuring Roussanne and Chenin Blanc. \nThis is a free event and very casual. Come anytime between 4pm and 6pm and stay for as long as you like. Of course we will be providing a well appointed charcuterie board to nibble on. \nMake a night of it in Sunapee Harbor by using the tasting as a starting point to finish at the Blue Canoe or Hoptimystic.\nhttps://sunapeecellarandpantry.com/south-african-wine-tasting-november-25-4-6pm/
URL:https://projectsunapee.org/event/south-african-wine-tasting/
LOCATION:NH
CATEGORIES:Sunapee Harbor
ATTACH;FMTTYPE=image/png:https://projectsunapee.org/wp-content/uploads/2025/11/Screenshot-2025-11-15-at-6.21.48-PM.png
END:VEVENT
BEGIN:VEVENT
DTSTART;TZID=America/New_York:20251126T170000
DTEND;TZID=America/New_York:20251126T200000
DTSTAMP:20260425T212940
CREATED:20251113T150017Z
LAST-MODIFIED:20251115T164131Z
UID:10001757-1764176400-1764187200@projectsunapee.org
SUMMARY:Blue Canoe Event - DUSTIN MARSHALL
DESCRIPTION:DUSTIN MARSHALL \nGuest musician Dustin Marshall will be at the Blue Canoe in Sunapee Harbor with great cover songs\, new and old to entertain you on Thanksgiving Eve. \nDustin Marshall will play acoustic classic rock and country covers\, to start off your holiday season.
URL:https://projectsunapee.org/event/blue-canoe-event-dustin-marshall/
LOCATION:NH
CATEGORIES:Sunapee Harbor
ATTACH;FMTTYPE=image/png:https://projectsunapee.org/wp-content/uploads/2025/11/Screenshot-2025-11-13-at-9.55.39-AM.png
END:VEVENT
BEGIN:VEVENT
DTSTART;TZID=America/New_York:20251126T173000
DTEND;TZID=America/New_York:20251126T183000
DTSTAMP:20260425T212940
CREATED:20250904T204506Z
LAST-MODIFIED:20260114T174025Z
UID:10000089-1764178200-1764181800@projectsunapee.org
SUMMARY:Flow & Glow Yoga
DESCRIPTION:These vinyasa flow classes are designed to build flexibility\, stability\, strength\, balance\, focus and connect to self. We’ll link breath with flowing movements. All levels are welcome\, variations will be demonstrated. Beginner students will flow gently into modified postures and seasoned students can choose more advanced options. Class-goers will meet themselves on the mat\, free of judgment and full of acceptance. \n1 hour / $15
URL:https://projectsunapee.org/event/flow-glow-yoga/2025-11-26/
LOCATION:The Livery\, 58 Main Street\, Sunapee\, NH\, 03782-2925\, United States
CATEGORIES:Sunapee Harbor
ATTACH;FMTTYPE=image/webp:https://projectsunapee.org/wp-content/uploads/2025/10/yoga-livery.webp
END:VEVENT
BEGIN:VEVENT
DTSTART;TZID=America/New_York:20251127T090000
DTEND;TZID=America/New_York:20251127T090000
DTSTAMP:20260425T212940
CREATED:20250918T191815Z
LAST-MODIFIED:20250918T191918Z
UID:10000560-1764234000-1764234000@projectsunapee.org
SUMMARY:19th Annual Lake Sunapee 5K Turkey Trot
DESCRIPTION:Lake Sunapee 5K Turkey Trot sign up: https://opensignups.com/signup/10219 \nhttps://sunapeeturkeytrot.com \nContact:  recreation@town.sunapee.nh.us
URL:https://projectsunapee.org/event/19th-annual-lake-sunapee-5k-turkey-trot/
LOCATION:Sunapee Harbor\, Main Street\, Sunapee\, NH\, 03782-2925\, United States
CATEGORIES:Sunapee Harbor
ATTACH;FMTTYPE=image/png:https://projectsunapee.org/wp-content/uploads/2025/09/Gl9KgZOwe5u6-image1.png
END:VEVENT
BEGIN:VEVENT
DTSTART;TZID=America/New_York:20251129T080000
DTEND;TZID=America/New_York:20251129T090000
DTSTAMP:20260425T212940
CREATED:20251015T173911Z
LAST-MODIFIED:20260114T173926Z
UID:10001228-1764403200-1764406800@projectsunapee.org
SUMMARY:Flow & Glow Yoga
DESCRIPTION:These vinyasa flow classes are designed to build flexibility\, stability\, strength\, balance\, focus and connect to self. We’ll link breath with flowing movements. All levels are welcome\, variations will be demonstrated. Beginner students will flow gently into modified postures and seasoned students can choose more advanced options. Class-goers will meet themselves on the mat\, free of judgment and full of acceptance. \n1 hour / $15
URL:https://projectsunapee.org/event/flow-glow-yoga-2/2025-11-29/
LOCATION:The Livery\, 58 Main Street\, Sunapee\, NH\, 03782-2925\, United States
CATEGORIES:Sunapee Harbor
ATTACH;FMTTYPE=image/webp:https://projectsunapee.org/wp-content/uploads/2025/10/yoga-livery.webp
END:VEVENT
BEGIN:VEVENT
DTSTART;TZID=America/New_York:20251129T170000
DTEND;TZID=America/New_York:20251129T200000
DTSTAMP:20260425T212940
CREATED:20251113T150333Z
LAST-MODIFIED:20251113T150354Z
UID:10001758-1764435600-1764446400@projectsunapee.org
SUMMARY:WILLY CHASE at Hoptimystic
DESCRIPTION:SATURDAY\, NOVEMBER 29th | 5:00 – 8:00 pm | Hoptimystic Brewing\n\n\n\n\n\n\n\n\n  \n\n\n\n\n\n\n\n\nWILLY CHASE\n\n\n\n\n\n\n\n\n  \n\n\n\n\n\n\n\n\nA diverse taste in music from Country to Classics\, Rock to Reggae\, he can bring those familiar nostalgic feelings to any environment.
URL:https://projectsunapee.org/event/willy-chase-at-hoptimystic/
LOCATION:NH
CATEGORIES:Sunapee Harbor
ATTACH;FMTTYPE=image/png:https://projectsunapee.org/wp-content/uploads/2025/11/Screenshot-2025-11-13-at-10.00.39-AM.png
END:VEVENT
END:VCALENDAR