BEGIN:VCALENDAR
VERSION:2.0
PRODID:-//Project Sunapee - ECPv6.15.20//NONSGML v1.0//EN
CALSCALE:GREGORIAN
METHOD:PUBLISH
X-WR-CALNAME:Project Sunapee
X-ORIGINAL-URL:https://projectsunapee.org
X-WR-CALDESC:Events for Project Sunapee
REFRESH-INTERVAL;VALUE=DURATION:PT1H
X-Robots-Tag:noindex
X-PUBLISHED-TTL:PT1H
BEGIN:VTIMEZONE
TZID:America/New_York
BEGIN:DAYLIGHT
TZOFFSETFROM:-0500
TZOFFSETTO:-0400
TZNAME:EDT
DTSTART:20250309T070000
END:DAYLIGHT
BEGIN:STANDARD
TZOFFSETFROM:-0400
TZOFFSETTO:-0500
TZNAME:EST
DTSTART:20251102T060000
END:STANDARD
BEGIN:DAYLIGHT
TZOFFSETFROM:-0500
TZOFFSETTO:-0400
TZNAME:EDT
DTSTART:20260308T070000
END:DAYLIGHT
BEGIN:STANDARD
TZOFFSETFROM:-0400
TZOFFSETTO:-0500
TZNAME:EST
DTSTART:20261101T060000
END:STANDARD
BEGIN:DAYLIGHT
TZOFFSETFROM:-0500
TZOFFSETTO:-0400
TZNAME:EDT
DTSTART:20270314T070000
END:DAYLIGHT
BEGIN:STANDARD
TZOFFSETFROM:-0400
TZOFFSETTO:-0500
TZNAME:EST
DTSTART:20271107T060000
END:STANDARD
END:VTIMEZONE
BEGIN:VEVENT
DTSTART;TZID=America/New_York:20260203T100000
DTEND;TZID=America/New_York:20260203T110000
DTSTAMP:20260425T172907
CREATED:20260113T164108Z
LAST-MODIFIED:20260113T164108Z
UID:10003113-1770112800-1770116400@projectsunapee.org
SUMMARY:Nature Exploration Story Time (NEST) - Owl Moon
DESCRIPTION:Come join LSPA educators at the Center for Lake Studies to explore the natural world. Each Tuesday morning will be filled with hands on learning through sensory experiences\, guided exploration\, creative play\, art\, and music. LSPA’s story time is designed for young children and their caregivers. Come to one session or all – each program is organized around a different ecological theme. Come join the fun! This Tuesday morning we will be soaring through moonlit skies with our owl companions to learn about their special adaptations that help them thrive all winter long.
URL:https://projectsunapee.org/event/nature-exploration-story-time-nest-owl-moon/
LOCATION:Lake Sunapee Protective Association\, 63 Main Street\, Sunapee\, NH\, 03782
CATEGORIES:Sunapee Harbor
ATTACH;FMTTYPE=image/webp:https://projectsunapee.org/wp-content/uploads/2026/01/Barred_Owl_51099104279.webp
ORGANIZER;CN="Lake Sunapee Protective Association":MAILTO:lspa@lakesunapee.org
END:VEVENT
BEGIN:VEVENT
DTSTART;TZID=America/New_York:20260204T173000
DTEND;TZID=America/New_York:20260204T183000
DTSTAMP:20260425T172907
CREATED:20250904T204506Z
LAST-MODIFIED:20260114T174025Z
UID:10000099-1770226200-1770229800@projectsunapee.org
SUMMARY:Flow & Glow Yoga
DESCRIPTION:These vinyasa flow classes are designed to build flexibility\, stability\, strength\, balance\, focus and connect to self. We’ll link breath with flowing movements. All levels are welcome\, variations will be demonstrated. Beginner students will flow gently into modified postures and seasoned students can choose more advanced options. Class-goers will meet themselves on the mat\, free of judgment and full of acceptance. \n1 hour / $15
URL:https://projectsunapee.org/event/flow-glow-yoga/2026-02-04/
LOCATION:The Livery\, 58 Main Street\, Sunapee\, NH\, 03782-2925\, United States
CATEGORIES:Sunapee Harbor
ATTACH;FMTTYPE=image/webp:https://projectsunapee.org/wp-content/uploads/2025/10/yoga-livery.webp
END:VEVENT
BEGIN:VEVENT
DTSTART;TZID=America/New_York:20260207T080000
DTEND;TZID=America/New_York:20260207T090000
DTSTAMP:20260425T172907
CREATED:20251015T173911Z
LAST-MODIFIED:20260114T173926Z
UID:10001238-1770451200-1770454800@projectsunapee.org
SUMMARY:Flow & Glow Yoga
DESCRIPTION:These vinyasa flow classes are designed to build flexibility\, stability\, strength\, balance\, focus and connect to self. We’ll link breath with flowing movements. All levels are welcome\, variations will be demonstrated. Beginner students will flow gently into modified postures and seasoned students can choose more advanced options. Class-goers will meet themselves on the mat\, free of judgment and full of acceptance. \n1 hour / $15
URL:https://projectsunapee.org/event/flow-glow-yoga-2/2026-02-07/
LOCATION:The Livery\, 58 Main Street\, Sunapee\, NH\, 03782-2925\, United States
CATEGORIES:Sunapee Harbor
ATTACH;FMTTYPE=image/webp:https://projectsunapee.org/wp-content/uploads/2025/10/yoga-livery.webp
END:VEVENT
BEGIN:VEVENT
DTSTART;TZID=America/New_York:20260207T150000
DTEND;TZID=America/New_York:20260207T170000
DTSTAMP:20260425T172907
CREATED:20260109T195339Z
LAST-MODIFIED:20260109T195557Z
UID:10003107-1770476400-1770483600@projectsunapee.org
SUMMARY:Sip & Shop Valentines Day Edition @ Hoptimystic Brewing
DESCRIPTION:Sip & Shop – Valentine’s Edition at Hoptimystic Sunapee \nJoin us for a fun and relaxed Valentine’s shopping experience at the brewery! Sip on your favorite Hoptimystic beers while browsing a curated group of local vendors. It’s the perfect way to find a thoughtful gift for someone special or treat yourself. \nGrab a drink\, support local\, and make Valentine’s Day shopping easy and enjoyable.
URL:https://projectsunapee.org/event/sip-shop-valentines-day-edition-hoptimystic-brewing/
LOCATION:Sunapee Harbor\, Main Street\, Sunapee\, NH\, 03782-2925\, United States
CATEGORIES:Sunapee Harbor
ATTACH;FMTTYPE=image/jpeg:https://projectsunapee.org/wp-content/uploads/2026/01/idblDOKJRQMt-Sip-shop-fall-in-love-with-local-goods-sm.jpg
ORGANIZER;CN="Hoptimystic Brewing":MAILTO:hoptimysticbrewingNH@gmail.com
END:VEVENT
BEGIN:VEVENT
DTSTART;TZID=America/New_York:20260210T100000
DTEND;TZID=America/New_York:20260210T110000
DTSTAMP:20260425T172907
CREATED:20260113T164205Z
LAST-MODIFIED:20260113T164205Z
UID:10003114-1770717600-1770721200@projectsunapee.org
SUMMARY:Nature Exploration Story Time (NEST) - Fur\, Feathers\, and Freezing
DESCRIPTION:Come join LSPA educators at the Center for Lake Studies to explore the natural world. Each Tuesday morning will be filled with hands on learning through sensory experiences\, guided exploration\, creative play\, art\, and music. LSPA’s story time is designed for young children and their caregivers. Come to one session or all – each program is organized around a different ecological theme. Come join the fun! This Tuesday morning we will be examining the variety of adaptations that help our wild animal friends survive the freezing winter temperatures!
URL:https://projectsunapee.org/event/nature-exploration-story-time-nest-fur-feathers-and-freezing/
LOCATION:Lake Sunapee Protective Association\, 63 Main Street\, Sunapee\, NH\, 03782
CATEGORIES:Sunapee Harbor
ATTACH;FMTTYPE=image/webp:https://projectsunapee.org/wp-content/uploads/2026/01/image2.webp
ORGANIZER;CN="Lake Sunapee Protective Association":MAILTO:lspa@lakesunapee.org
END:VEVENT
BEGIN:VEVENT
DTSTART;TZID=America/New_York:20260211T173000
DTEND;TZID=America/New_York:20260211T183000
DTSTAMP:20260425T172907
CREATED:20250904T204506Z
LAST-MODIFIED:20260114T174025Z
UID:10000100-1770831000-1770834600@projectsunapee.org
SUMMARY:Flow & Glow Yoga
DESCRIPTION:These vinyasa flow classes are designed to build flexibility\, stability\, strength\, balance\, focus and connect to self. We’ll link breath with flowing movements. All levels are welcome\, variations will be demonstrated. Beginner students will flow gently into modified postures and seasoned students can choose more advanced options. Class-goers will meet themselves on the mat\, free of judgment and full of acceptance. \n1 hour / $15
URL:https://projectsunapee.org/event/flow-glow-yoga/2026-02-11/
LOCATION:The Livery\, 58 Main Street\, Sunapee\, NH\, 03782-2925\, United States
CATEGORIES:Sunapee Harbor
ATTACH;FMTTYPE=image/webp:https://projectsunapee.org/wp-content/uploads/2025/10/yoga-livery.webp
END:VEVENT
BEGIN:VEVENT
DTSTART;TZID=America/New_York:20260212T160000
DTEND;TZID=America/New_York:20260212T180000
DTSTAMP:20260425T172907
CREATED:20260204T130317Z
LAST-MODIFIED:20260204T130317Z
UID:10004607-1770912000-1770919200@projectsunapee.org
SUMMARY:Valentines Day Wine Tasting
DESCRIPTION:The tasting you’ve been waiting for—our Valentine’s Day Wine Tasting. Join us Thursday\, February 12\, from 4–6 pm for an evening designed to linger. \nWe’ll be pouring three beautiful Italian wines from Paolo Manzone—Barolo\, Nebbiolo\, and Arneis—alongside an elegant French rosé from Domaine du Bagnol. These are wines made for sharing\, savoring\, and gifting to someone who means a little more. \nThe tasting is free and very casual. Stop by anytime between 4 and 6 pm and stay as long as you like. A well-appointed charcuterie board will be on hand to enjoy along the way. \nMake an evening of it in Sunapee Harbor by starting with the tasting and continuing on to Wildwood Smokehouse\, the Blue Canoe or Hoptimystic. \nLearn More
URL:https://projectsunapee.org/event/valentines-day-wine-tasting/
LOCATION:Sunapee Cellar and Pantry\, 5 Garnet Street\, Sunapee\, NH
CATEGORIES:Sunapee Harbor
ATTACH;FMTTYPE=image/webp:https://projectsunapee.org/wp-content/uploads/2026/02/F5PfeYtuZGdE-Paolo-Manzone-Logo-2.webp
ORGANIZER;CN="Sunapee Cellar and Pantry":MAILTO:info@sunapeecellarandpantry.com
END:VEVENT
BEGIN:VEVENT
DTSTART;TZID=America/New_York:20260214T080000
DTEND;TZID=America/New_York:20260214T090000
DTSTAMP:20260425T172907
CREATED:20251015T173911Z
LAST-MODIFIED:20260114T173926Z
UID:10001239-1771056000-1771059600@projectsunapee.org
SUMMARY:Flow & Glow Yoga
DESCRIPTION:These vinyasa flow classes are designed to build flexibility\, stability\, strength\, balance\, focus and connect to self. We’ll link breath with flowing movements. All levels are welcome\, variations will be demonstrated. Beginner students will flow gently into modified postures and seasoned students can choose more advanced options. Class-goers will meet themselves on the mat\, free of judgment and full of acceptance. \n1 hour / $15
URL:https://projectsunapee.org/event/flow-glow-yoga-2/2026-02-14/
LOCATION:The Livery\, 58 Main Street\, Sunapee\, NH\, 03782-2925\, United States
CATEGORIES:Sunapee Harbor
ATTACH;FMTTYPE=image/webp:https://projectsunapee.org/wp-content/uploads/2025/10/yoga-livery.webp
END:VEVENT
BEGIN:VEVENT
DTSTART;TZID=America/New_York:20260214T173000
DTEND;TZID=America/New_York:20260214T173000
DTSTAMP:20260425T172907
CREATED:20260114T172635Z
LAST-MODIFIED:20260114T172657Z
UID:10003779-1771090200-1771090200@projectsunapee.org
SUMMARY:Winter Concert Series: Christine Tassan et les Imposteures
DESCRIPTION:Join us for a delightful evening of great music and fine dining featuring live entertainment by Christine Tassan et les Imposteures and a delicious dinner prepared by Chef Mary McDonald. \nDoors open at 5:30 PM\, dinner will be served at 6:00 PM\, and the concert begins at 7:00 PM. Reservations are required. \nDinner selections include Honey\, Orange & Soy Glazed Salmon OR Stuffed Portobello Mushrooms\, Served with 2 sides. Finished with a Chocolatey Dessert & Coffee. \nCost: $50 per person (includes dinner and concert)\nBYOB\nLimited to 80 guests \nFor more than 20 years\, Christine Tassan\, an outstanding guitarist\, has been steering her ship with boundless enthusiasm and confidence. Blessed with an absolutely contagious dynamism\, she is one of the rare female jazz and gypsy jazz guitar soloists; and she stands out for her sensitive playing\, her quiet strength\, and her irresistible audacity. As a singer\, composer\, writer\, director\, and producer\, she has contributed to numerous musical projects in Quebec and internationally\, both as a leader and as a guest musician. \nLEARN MORE/PURCHASE TICKETS
URL:https://projectsunapee.org/event/winter-concert-series-christine-tassan-et-les-imposteures/
LOCATION:The Livery\, 58 Main Street\, Sunapee\, NH\, 03782-2925\, United States
CATEGORIES:Music,Sunapee Harbor
ATTACH;FMTTYPE=image/webp:https://projectsunapee.org/wp-content/uploads/2026/01/be508ab9-6bbf-4e11-93b0-ca30b4a205d1.webp
ORGANIZER;CN="The Livery":MAILTO:info@thelivery.org
END:VEVENT
BEGIN:VEVENT
DTSTART;TZID=America/New_York:20260215T130000
DTEND;TZID=America/New_York:20260215T160000
DTSTAMP:20260425T172907
CREATED:20260204T130615Z
LAST-MODIFIED:20260204T130615Z
UID:10004608-1771160400-1771171200@projectsunapee.org
SUMMARY:Brunch with Musician Arthur James
DESCRIPTION:Warner\, NH based and nationally touring blues-man\, Arthur James has been performing in the NH/VT area for so long he’s reached “legendary” status. Come enjoy the slick guitar pickings\, and smooth vocals of Arthur James.
URL:https://projectsunapee.org/event/brunch-with-musician-arthur-james/
LOCATION:The Blue Canoe\, 71 Main Street\, Sunapee\, NH\, United States
CATEGORIES:Sunapee Harbor
ATTACH;FMTTYPE=image/webp:https://projectsunapee.org/wp-content/uploads/2026/02/blue-canoe-brunch.webp
END:VEVENT
BEGIN:VEVENT
DTSTART;TZID=America/New_York:20260217T100000
DTEND;TZID=America/New_York:20260217T110000
DTSTAMP:20260425T172907
CREATED:20260113T164352Z
LAST-MODIFIED:20260113T164352Z
UID:10003115-1771322400-1771326000@projectsunapee.org
SUMMARY:Nature Exploration Story Time (NEST) - Over and Under the Snow
DESCRIPTION:Come join LSPA educators at the Center for Lake Studies to explore the natural world. Each Tuesday morning will be filled with hands on learning through sensory experiences\, guided exploration\, creative play\, art\, and music. LSPA’s story time is designed for young children and their caregivers. Come to one session or all – each program is organized around a different ecological theme. Come join the fun! This Tuesday morning we will be tunneling into the mystical subnivean zone to learn about the amazing world beneath our snowy feet.
URL:https://projectsunapee.org/event/nature-exploration-story-time-nest-over-and-under-the-snow/
LOCATION:Lake Sunapee Protective Association\, 63 Main Street\, Sunapee\, NH\, 03782
CATEGORIES:Sunapee Harbor
ATTACH;FMTTYPE=image/webp:https://projectsunapee.org/wp-content/uploads/2026/01/20180220_105457.webp
ORGANIZER;CN="Lake Sunapee Protective Association":MAILTO:lspa@lakesunapee.org
END:VEVENT
BEGIN:VEVENT
DTSTART;TZID=America/New_York:20260218T173000
DTEND;TZID=America/New_York:20260218T183000
DTSTAMP:20260425T172907
CREATED:20250904T204506Z
LAST-MODIFIED:20260114T174025Z
UID:10000101-1771435800-1771439400@projectsunapee.org
SUMMARY:Flow & Glow Yoga
DESCRIPTION:These vinyasa flow classes are designed to build flexibility\, stability\, strength\, balance\, focus and connect to self. We’ll link breath with flowing movements. All levels are welcome\, variations will be demonstrated. Beginner students will flow gently into modified postures and seasoned students can choose more advanced options. Class-goers will meet themselves on the mat\, free of judgment and full of acceptance. \n1 hour / $15
URL:https://projectsunapee.org/event/flow-glow-yoga/2026-02-18/
LOCATION:The Livery\, 58 Main Street\, Sunapee\, NH\, 03782-2925\, United States
CATEGORIES:Sunapee Harbor
ATTACH;FMTTYPE=image/webp:https://projectsunapee.org/wp-content/uploads/2025/10/yoga-livery.webp
END:VEVENT
BEGIN:VEVENT
DTSTART;TZID=America/New_York:20260218T190000
DTEND;TZID=America/New_York:20260218T203000
DTSTAMP:20260425T172907
CREATED:20260109T154201Z
LAST-MODIFIED:20260109T154720Z
UID:10003106-1771441200-1771446600@projectsunapee.org
SUMMARY:Gals Who Give February Meeting
DESCRIPTION:Come join us! This is the first meeting of the Gals Who Give. We are a group of women who plan to get together 4 times a year to donate to local nonprofits. For more information about how the group works or to sign up please visit galswhogivenh.com.
URL:https://projectsunapee.org/event/gals-who-give-february-meeting/
LOCATION:The Livery\, 58 Main Street\, Sunapee\, NH\, 03782-2925\, United States
CATEGORIES:Sunapee Harbor
ATTACH;FMTTYPE=image/jpeg:https://projectsunapee.org/wp-content/uploads/2026/01/2022-livery.jpg
ORGANIZER;CN="Gals Who Give NH":MAILTO:galswhogivenh@gmail.com
END:VEVENT
BEGIN:VEVENT
DTSTART;TZID=America/New_York:20260220T160000
DTEND;TZID=America/New_York:20260220T180000
DTSTAMP:20260425T172907
CREATED:20260218T145920Z
LAST-MODIFIED:20260218T150321Z
UID:10004876-1771603200-1771610400@projectsunapee.org
SUMMARY:Prospect Hill Wine Tasting
DESCRIPTION:The countdown to spring is officially on! \nLonger days are here\, the bitter cold is (hopefully!) behind us\, and Friday the 20th marks exactly one month until the first day of Spring — so let’s celebrate! Join us this Friday from 4–6pm for a fun and cozy afternoon at the gallery. Our friends at Sunapee Cellar & Pantry will be sampling wine while you shop\, and we’ll have plenty of small bites to enjoy along the way. \nCome browse all the beautiful new art and furniture we’ve just brought in\, sip something wonderful\, and toast to the season ahead. \nWe can’t wait to see you!
URL:https://projectsunapee.org/event/prospect-hill-wine-tasting/
LOCATION:Prospect Hill Antiques\, 31 River Road\, Sunapee\, NH\, 03782
CATEGORIES:Sunapee Harbor
ATTACH;FMTTYPE=image/webp:https://projectsunapee.org/wp-content/uploads/2026/02/TcQQ0nDlu4ij-Feb20th-Image.webp
ORGANIZER;CN="Sunapee Cellar and Pantry":MAILTO:info@sunapeecellarandpantry.com
END:VEVENT
BEGIN:VEVENT
DTSTART;TZID=America/New_York:20260221T080000
DTEND;TZID=America/New_York:20260221T090000
DTSTAMP:20260425T172907
CREATED:20251015T173911Z
LAST-MODIFIED:20260114T173926Z
UID:10001240-1771660800-1771664400@projectsunapee.org
SUMMARY:Flow & Glow Yoga
DESCRIPTION:These vinyasa flow classes are designed to build flexibility\, stability\, strength\, balance\, focus and connect to self. We’ll link breath with flowing movements. All levels are welcome\, variations will be demonstrated. Beginner students will flow gently into modified postures and seasoned students can choose more advanced options. Class-goers will meet themselves on the mat\, free of judgment and full of acceptance. \n1 hour / $15
URL:https://projectsunapee.org/event/flow-glow-yoga-2/2026-02-21/
LOCATION:The Livery\, 58 Main Street\, Sunapee\, NH\, 03782-2925\, United States
CATEGORIES:Sunapee Harbor
ATTACH;FMTTYPE=image/webp:https://projectsunapee.org/wp-content/uploads/2025/10/yoga-livery.webp
END:VEVENT
BEGIN:VEVENT
DTSTART;TZID=America/New_York:20260224T100000
DTEND;TZID=America/New_York:20260224T110000
DTSTAMP:20260425T172907
CREATED:20260113T164450Z
LAST-MODIFIED:20260113T164450Z
UID:10003116-1771927200-1771930800@projectsunapee.org
SUMMARY:Nature Exploration Story Time (NEST) - Marvelous Moose
DESCRIPTION:Come join LSPA educators at the Center for Lake Studies to explore the natural world. Each Tuesday morning will be filled with hands on learning through sensory experiences\, guided exploration\, creative play\, art\, and music. LSPA’s story time is designed for young children and their caregivers. Come to one session or all – each program is organized around a different ecological theme. Come join the fun! This Tuesday morning we will be digging in to the marvelous world of moose.
URL:https://projectsunapee.org/event/nature-exploration-story-time-nest-marvelous-moose/
LOCATION:Lake Sunapee Protective Association\, 63 Main Street\, Sunapee\, NH\, 03782
CATEGORIES:Sunapee Harbor
ATTACH;FMTTYPE=image/webp:https://projectsunapee.org/wp-content/uploads/2026/01/Bigbullmoose.webp
ORGANIZER;CN="Lake Sunapee Protective Association":MAILTO:lspa@lakesunapee.org
END:VEVENT
BEGIN:VEVENT
DTSTART;TZID=America/New_York:20260225T173000
DTEND;TZID=America/New_York:20260225T183000
DTSTAMP:20260425T172907
CREATED:20250904T204506Z
LAST-MODIFIED:20260114T174025Z
UID:10000102-1772040600-1772044200@projectsunapee.org
SUMMARY:Flow & Glow Yoga
DESCRIPTION:These vinyasa flow classes are designed to build flexibility\, stability\, strength\, balance\, focus and connect to self. We’ll link breath with flowing movements. All levels are welcome\, variations will be demonstrated. Beginner students will flow gently into modified postures and seasoned students can choose more advanced options. Class-goers will meet themselves on the mat\, free of judgment and full of acceptance. \n1 hour / $15
URL:https://projectsunapee.org/event/flow-glow-yoga/2026-02-25/
LOCATION:The Livery\, 58 Main Street\, Sunapee\, NH\, 03782-2925\, United States
CATEGORIES:Sunapee Harbor
ATTACH;FMTTYPE=image/webp:https://projectsunapee.org/wp-content/uploads/2025/10/yoga-livery.webp
END:VEVENT
BEGIN:VEVENT
DTSTART;TZID=America/New_York:20260226T160000
DTEND;TZID=America/New_York:20260226T180000
DTSTAMP:20260425T172907
CREATED:20260224T181724Z
LAST-MODIFIED:20260224T181724Z
UID:10005021-1772121600-1772128800@projectsunapee.org
SUMMARY:Rosenthal Wine Tasting
DESCRIPTION:Rosenthal Wine Merchants import some of the best wines in the world. At this week’s wine tasting we are featuring 3 of their wines\, a Minervois\, a Gavi and an Erbaluce. In addition to those three\, we will be tasting the Gundlach Bundschu Mountain Cuvee. \nThis is a free event and very casual. Come anytime between 4pm and 6pm and stay for as long as you like. Of course we will be providing a well appointed charcuterie board to help to cleanse your palate. \nMake a night of it in Sunapee Harbor by using the tasting as a starting point to finish at Wildwood Smokehouse\, the Blue Canoe or Hoptimystic.\nhttps://sunapeecellarandpantry.com/rosenthal-wine-tasting-feb-26-4-6pm/
URL:https://projectsunapee.org/event/rosenthal-wine-tasting/
LOCATION:Sunapee Cellar and Pantry\, 5 Garnet Street\, Sunapee\, NH
CATEGORIES:Sunapee Harbor
ATTACH;FMTTYPE=image/webp:https://projectsunapee.org/wp-content/uploads/2026/02/Rgs1XbvDmTF4-Roso.webp
ORGANIZER;CN="Sunapee Cellar and Pantry":MAILTO:info@sunapeecellarandpantry.com
END:VEVENT
BEGIN:VEVENT
DTSTART;TZID=America/New_York:20260226T183000
DTEND;TZID=America/New_York:20260226T203000
DTSTAMP:20260425T172907
CREATED:20260121T195105Z
LAST-MODIFIED:20260121T195105Z
UID:10003817-1772130600-1772137800@projectsunapee.org
SUMMARY:Country Line Dancing at Hoptimystic Brewing
DESCRIPTION:Scuffin’ Boots Line Dancing is BACK at Hoptimystic Brewing Sunapee!\nJoin us Thursday 2/26 from 6:30–8:30pm for another awesome night of dancing with Scuffin’ Boots Line Dancing. This is a beginner-friendly line dancing class\, perfect whether it’s your first time or you’re just looking to brush up on the basics. Tickets are required to dance and last time this event SOLD OUT FAST… so don’t wait! \nLink to purchase tickets is above but you can also use: https://buytickets.at/hoptimysticbrewing/2029614
URL:https://projectsunapee.org/event/country-line-dancing-at-hoptimystic-brewing/
LOCATION:Hoptimystic Brewery\, 31 River Road\, Sunapee\, NH\, 03782
CATEGORIES:Sunapee Harbor
ATTACH;FMTTYPE=image/webp:https://projectsunapee.org/wp-content/uploads/2026/01/vkYKFEC3Zo3Z-line-dacing-2-26.webp
ORGANIZER;CN="Hoptimystic Brewing":MAILTO:hoptimysticbrewingNH@gmail.com
END:VEVENT
BEGIN:VEVENT
DTSTART;TZID=America/New_York:20260228T080000
DTEND;TZID=America/New_York:20260228T090000
DTSTAMP:20260425T172907
CREATED:20251015T173911Z
LAST-MODIFIED:20260114T173926Z
UID:10001241-1772265600-1772269200@projectsunapee.org
SUMMARY:Flow & Glow Yoga
DESCRIPTION:These vinyasa flow classes are designed to build flexibility\, stability\, strength\, balance\, focus and connect to self. We’ll link breath with flowing movements. All levels are welcome\, variations will be demonstrated. Beginner students will flow gently into modified postures and seasoned students can choose more advanced options. Class-goers will meet themselves on the mat\, free of judgment and full of acceptance. \n1 hour / $15
URL:https://projectsunapee.org/event/flow-glow-yoga-2/2026-02-28/
LOCATION:The Livery\, 58 Main Street\, Sunapee\, NH\, 03782-2925\, United States
CATEGORIES:Sunapee Harbor
ATTACH;FMTTYPE=image/webp:https://projectsunapee.org/wp-content/uploads/2025/10/yoga-livery.webp
END:VEVENT
END:VCALENDAR