BEGIN:VCALENDAR
VERSION:2.0
PRODID:-//Project Sunapee - ECPv6.15.20//NONSGML v1.0//EN
CALSCALE:GREGORIAN
METHOD:PUBLISH
X-WR-CALNAME:Project Sunapee
X-ORIGINAL-URL:https://projectsunapee.org
X-WR-CALDESC:Events for Project Sunapee
REFRESH-INTERVAL;VALUE=DURATION:PT1H
X-Robots-Tag:noindex
X-PUBLISHED-TTL:PT1H
BEGIN:VTIMEZONE
TZID:America/New_York
BEGIN:DAYLIGHT
TZOFFSETFROM:-0500
TZOFFSETTO:-0400
TZNAME:EDT
DTSTART:20250309T070000
END:DAYLIGHT
BEGIN:STANDARD
TZOFFSETFROM:-0400
TZOFFSETTO:-0500
TZNAME:EST
DTSTART:20251102T060000
END:STANDARD
BEGIN:DAYLIGHT
TZOFFSETFROM:-0500
TZOFFSETTO:-0400
TZNAME:EDT
DTSTART:20260308T070000
END:DAYLIGHT
BEGIN:STANDARD
TZOFFSETFROM:-0400
TZOFFSETTO:-0500
TZNAME:EST
DTSTART:20261101T060000
END:STANDARD
BEGIN:DAYLIGHT
TZOFFSETFROM:-0500
TZOFFSETTO:-0400
TZNAME:EDT
DTSTART:20270314T070000
END:DAYLIGHT
BEGIN:STANDARD
TZOFFSETFROM:-0400
TZOFFSETTO:-0500
TZNAME:EST
DTSTART:20271107T060000
END:STANDARD
END:VTIMEZONE
BEGIN:VEVENT
DTSTART;TZID=America/New_York:20260303T150000
DTEND;TZID=America/New_York:20260303T170000
DTSTAMP:20260425T154942
CREATED:20260113T164558Z
LAST-MODIFIED:20260113T164558Z
UID:10003117-1772550000-1772557200@projectsunapee.org
SUMMARY:Regional Lakes Meeting: Analyzing and Interpreting Trends in Water Quality Data
DESCRIPTION:This meeting is for members of regional lake and pond associations and anyone interested in learning more about how lake water quality data are collected\, analyzed\, and used. Teriko MacConnell\, LSPA’s Water Quality Lab Director at Colby-Sawyer College\, will provide an overview of LSPA’s long-standing involvement with the Volunteer Lake Assessment Program (VLAP) and explain what common water quality parameters tell us about lake health. Alyssa Spencer\, Burkehaven Fellow and GIS Analyst at LSPA\, will discuss how LSPA is modernizing the way long-term data are managed\, mapped\, and shared\, and how these tools help connect volunteer-collected data to broader lake\, watershed\, and statewide patterns. \nClick here to register.
URL:https://projectsunapee.org/event/regional-lakes-meeting-analyzing-and-interpreting-trends-in-water-quality-data/
LOCATION:Lake Sunapee Protective Association\, 63 Main Street\, Sunapee\, NH\, 03782
CATEGORIES:Sunapee Harbor
ATTACH;FMTTYPE=image/webp:https://projectsunapee.org/wp-content/uploads/2026/01/RegionalLakes_13NOV2024.webp
ORGANIZER;CN="Lake Sunapee Protective Association":MAILTO:lspa@lakesunapee.org
END:VEVENT
BEGIN:VEVENT
DTSTART;TZID=America/New_York:20260304T173000
DTEND;TZID=America/New_York:20260304T183000
DTSTAMP:20260425T154942
CREATED:20250904T204506Z
LAST-MODIFIED:20260114T174025Z
UID:10000103-1772645400-1772649000@projectsunapee.org
SUMMARY:Flow & Glow Yoga
DESCRIPTION:These vinyasa flow classes are designed to build flexibility\, stability\, strength\, balance\, focus and connect to self. We’ll link breath with flowing movements. All levels are welcome\, variations will be demonstrated. Beginner students will flow gently into modified postures and seasoned students can choose more advanced options. Class-goers will meet themselves on the mat\, free of judgment and full of acceptance. \n1 hour / $15
URL:https://projectsunapee.org/event/flow-glow-yoga/2026-03-04/
LOCATION:The Livery\, 58 Main Street\, Sunapee\, NH\, 03782-2925\, United States
CATEGORIES:Sunapee Harbor
ATTACH;FMTTYPE=image/webp:https://projectsunapee.org/wp-content/uploads/2025/10/yoga-livery.webp
END:VEVENT
BEGIN:VEVENT
DTSTART;TZID=America/New_York:20260305T180000
DTEND;TZID=America/New_York:20260305T200000
DTSTAMP:20260425T154942
CREATED:20260224T113543Z
LAST-MODIFIED:20260224T113800Z
UID:10004616-1772733600-1772740800@projectsunapee.org
SUMMARY:Trivia at Hoptimystic Brewing
DESCRIPTION:Thursdays are for trivia and happy hour! \nGrab a seat\, fuel up with some seriously delicious food from Fenton’s Landing\, and get ready to test your trivia skills. Seats will go fast so arrive early to claim your spot!
URL:https://projectsunapee.org/event/trivia-at-hoptimystic-brewing-2/2026-03-05/
LOCATION:Hoptimystic Brewery\, 31 River Road\, Sunapee\, NH\, 03782
CATEGORIES:Sunapee Harbor
ATTACH;FMTTYPE=image/webp:https://projectsunapee.org/wp-content/uploads/2026/02/oeop1zoxxo1g-IMG_4781.webp
ORGANIZER;CN="Hoptimystic Brewing":MAILTO:hoptimysticbrewingNH@gmail.com
END:VEVENT
BEGIN:VEVENT
DTSTART;TZID=America/New_York:20260307T080000
DTEND;TZID=America/New_York:20260307T090000
DTSTAMP:20260425T154942
CREATED:20251015T173911Z
LAST-MODIFIED:20260114T173926Z
UID:10001242-1772870400-1772874000@projectsunapee.org
SUMMARY:Flow & Glow Yoga
DESCRIPTION:These vinyasa flow classes are designed to build flexibility\, stability\, strength\, balance\, focus and connect to self. We’ll link breath with flowing movements. All levels are welcome\, variations will be demonstrated. Beginner students will flow gently into modified postures and seasoned students can choose more advanced options. Class-goers will meet themselves on the mat\, free of judgment and full of acceptance. \n1 hour / $15
URL:https://projectsunapee.org/event/flow-glow-yoga-2/2026-03-07/
LOCATION:The Livery\, 58 Main Street\, Sunapee\, NH\, 03782-2925\, United States
CATEGORIES:Sunapee Harbor
ATTACH;FMTTYPE=image/webp:https://projectsunapee.org/wp-content/uploads/2025/10/yoga-livery.webp
END:VEVENT
BEGIN:VEVENT
DTSTART;TZID=America/New_York:20260311T173000
DTEND;TZID=America/New_York:20260311T183000
DTSTAMP:20260425T154942
CREATED:20250904T204506Z
LAST-MODIFIED:20260114T174025Z
UID:10000104-1773250200-1773253800@projectsunapee.org
SUMMARY:Flow & Glow Yoga
DESCRIPTION:These vinyasa flow classes are designed to build flexibility\, stability\, strength\, balance\, focus and connect to self. We’ll link breath with flowing movements. All levels are welcome\, variations will be demonstrated. Beginner students will flow gently into modified postures and seasoned students can choose more advanced options. Class-goers will meet themselves on the mat\, free of judgment and full of acceptance. \n1 hour / $15
URL:https://projectsunapee.org/event/flow-glow-yoga/2026-03-11/
LOCATION:The Livery\, 58 Main Street\, Sunapee\, NH\, 03782-2925\, United States
CATEGORIES:Sunapee Harbor
ATTACH;FMTTYPE=image/webp:https://projectsunapee.org/wp-content/uploads/2025/10/yoga-livery.webp
END:VEVENT
BEGIN:VEVENT
DTSTART;TZID=America/New_York:20260314T080000
DTEND;TZID=America/New_York:20260314T090000
DTSTAMP:20260425T154942
CREATED:20251015T173911Z
LAST-MODIFIED:20260114T173926Z
UID:10001243-1773475200-1773478800@projectsunapee.org
SUMMARY:Flow & Glow Yoga
DESCRIPTION:These vinyasa flow classes are designed to build flexibility\, stability\, strength\, balance\, focus and connect to self. We’ll link breath with flowing movements. All levels are welcome\, variations will be demonstrated. Beginner students will flow gently into modified postures and seasoned students can choose more advanced options. Class-goers will meet themselves on the mat\, free of judgment and full of acceptance. \n1 hour / $15
URL:https://projectsunapee.org/event/flow-glow-yoga-2/2026-03-14/
LOCATION:The Livery\, 58 Main Street\, Sunapee\, NH\, 03782-2925\, United States
CATEGORIES:Sunapee Harbor
ATTACH;FMTTYPE=image/webp:https://projectsunapee.org/wp-content/uploads/2025/10/yoga-livery.webp
END:VEVENT
BEGIN:VEVENT
DTSTART;TZID=America/New_York:20260314T170000
DTEND;TZID=America/New_York:20260314T210000
DTSTAMP:20260425T154942
CREATED:20260223T184346Z
LAST-MODIFIED:20260223T184346Z
UID:10004891-1773507600-1773522000@projectsunapee.org
SUMMARY:Luck on Tap
DESCRIPTION:Join us at Hoptimystic Brewing for our St. Patrick’s Day celebration on Friday\, March 14 from 5–9PM! \nExpect a festive night full of:\n– Fresh beer & fun mocktails\n– Delicious food from Fenton’s\n– Live music by Temple Mountain\n– Costume contest/ Games/ Prizes \nGrab your friends\, wear your best St Patrick’s day costume (or just wear green!)\, and raise a pint with us for a celebration that’s pure gold. Assorted prizes from Hoptimsytic Brewing as well as Harborside Trading.
URL:https://projectsunapee.org/event/luck-on-tap/
LOCATION:Hoptimystic Brewery\, 31 River Road\, Sunapee\, NH\, 03782
CATEGORIES:Sunapee Harbor
ATTACH;FMTTYPE=image/webp:https://projectsunapee.org/wp-content/uploads/2026/02/irish.webp
ORGANIZER;CN="Hoptimystic Brewing":MAILTO:hoptimysticbrewingNH@gmail.com
END:VEVENT
BEGIN:VEVENT
DTSTART;TZID=America/New_York:20260314T173000
DTEND;TZID=America/New_York:20260314T173000
DTSTAMP:20260425T154942
CREATED:20260114T172935Z
LAST-MODIFIED:20260304T173630Z
UID:10003780-1773509400-1773509400@projectsunapee.org
SUMMARY:Winter Concert Series: Kalos
DESCRIPTION:Join us for a delightful evening of great music and fine dining featuring live entertainment by Kalos and a delicious dinner prepared by Chef Mary McDonald. \nDoors open at 5:30 PM\, dinner will be served at 6:00 PM\, and the concert begins at 7:00 PM. Reservations are required. \nDinner selections include Guinness Beef Stew OR Vegetarian Shepherd’s Pie made with Whiskey-stewed Lentils & Vegetables.  Served with Homemade Irish Soda Bread & Bourbon Glazed Carrots.  Apple Crisp with Vanilla Ice Cream & Coffee for Dessert. \nCost: $50 per person (includes dinner and concert)\nBYOB\nLimited to 80 guests \nKalos is drawn to water. Every performance is like stepping into a river—they never play a song the same way twice. They make music inspired by the maritime traditions of Scotland\, Ireland\, Scandinavia and North America. Their album titles—Harbour and Headland—honor the meeting point between the land and sea and they sing songs about shorelines\, seafarers and drownings. They revel in the driving danceability of Irish tunes\, but also take inspiration from the pastoral melodies and naturalistic metaphors of Scottish music. But while the music they write is forged in tradition\, it is nonetheless cast and tempered in new and unexpected ways. \nLEARN MORE/PURCHASE TICKETS
URL:https://projectsunapee.org/event/winter-concert-series-kalos/
LOCATION:The Livery\, 58 Main Street\, Sunapee\, NH\, 03782-2925\, United States
CATEGORIES:Music,Sunapee Harbor
ATTACH;FMTTYPE=image/webp:https://projectsunapee.org/wp-content/uploads/2026/01/172166bf-8717-4e3c-b08c-4c2c739b72ee.webp
ORGANIZER;CN="The Livery":MAILTO:info@thelivery.org
END:VEVENT
BEGIN:VEVENT
DTSTART;TZID=America/New_York:20260316T113000
DTEND;TZID=America/New_York:20260316T150000
DTSTAMP:20260425T154942
CREATED:20260220T133301Z
LAST-MODIFIED:20260220T133301Z
UID:10004877-1773660600-1773673200@projectsunapee.org
SUMMARY:Mah Jongg Winter Invitational
DESCRIPTION:Join us for a fun afternoon with fellow Mah Jongg players. A light lunch is included as well as door prizes and a raffle for a piece of custom-designed jewelry.\nSeating is limited and there is a $10 suggested donation to guarantee your spot. \nRegistration required by March 9th. \nTo register\, call Cathi at 603-863-7349 or email cact@aol.com\nPlease make checks payable to The Friends of the Abbott Library and bring your check with you or mail to:\nAlex Grout\, c/o Abbott Library\, PO Box 314\, Sunapee 03782 \nTHIS IS NOT A TEACHING EVENT\, YOU MUST BRING YOUR 2025 AMERICAN MJ CARD
URL:https://projectsunapee.org/event/mah-jongg-winter-invitational/
LOCATION:The Livery\, 58 Main Street\, Sunapee\, NH\, 03782-2925\, United States
CATEGORIES:Sunapee Harbor
ATTACH;FMTTYPE=image/webp:https://projectsunapee.org/wp-content/uploads/2026/02/mah.webp
ORGANIZER;CN="Abbott Library":MAILTO:info@abbottlibrary.org
END:VEVENT
BEGIN:VEVENT
DTSTART;TZID=America/New_York:20260318T173000
DTEND;TZID=America/New_York:20260318T183000
DTSTAMP:20260425T154942
CREATED:20250904T204506Z
LAST-MODIFIED:20260114T174025Z
UID:10000105-1773855000-1773858600@projectsunapee.org
SUMMARY:Flow & Glow Yoga
DESCRIPTION:These vinyasa flow classes are designed to build flexibility\, stability\, strength\, balance\, focus and connect to self. We’ll link breath with flowing movements. All levels are welcome\, variations will be demonstrated. Beginner students will flow gently into modified postures and seasoned students can choose more advanced options. Class-goers will meet themselves on the mat\, free of judgment and full of acceptance. \n1 hour / $15
URL:https://projectsunapee.org/event/flow-glow-yoga/2026-03-18/
LOCATION:The Livery\, 58 Main Street\, Sunapee\, NH\, 03782-2925\, United States
CATEGORIES:Sunapee Harbor
ATTACH;FMTTYPE=image/webp:https://projectsunapee.org/wp-content/uploads/2025/10/yoga-livery.webp
END:VEVENT
BEGIN:VEVENT
DTSTART;TZID=America/New_York:20260319T180000
DTEND;TZID=America/New_York:20260319T200000
DTSTAMP:20260425T154942
CREATED:20260224T113543Z
LAST-MODIFIED:20260224T113800Z
UID:10004892-1773943200-1773950400@projectsunapee.org
SUMMARY:Trivia at Hoptimystic Brewing
DESCRIPTION:Thursdays are for trivia and happy hour! \nGrab a seat\, fuel up with some seriously delicious food from Fenton’s Landing\, and get ready to test your trivia skills. Seats will go fast so arrive early to claim your spot!
URL:https://projectsunapee.org/event/trivia-at-hoptimystic-brewing-2/2026-03-19/
LOCATION:Hoptimystic Brewery\, 31 River Road\, Sunapee\, NH\, 03782
CATEGORIES:Sunapee Harbor
ATTACH;FMTTYPE=image/webp:https://projectsunapee.org/wp-content/uploads/2026/02/oeop1zoxxo1g-IMG_4781.webp
ORGANIZER;CN="Hoptimystic Brewing":MAILTO:hoptimysticbrewingNH@gmail.com
END:VEVENT
BEGIN:VEVENT
DTSTART;TZID=America/New_York:20260321T080000
DTEND;TZID=America/New_York:20260321T090000
DTSTAMP:20260425T154942
CREATED:20251015T173911Z
LAST-MODIFIED:20260114T173926Z
UID:10001244-1774080000-1774083600@projectsunapee.org
SUMMARY:Flow & Glow Yoga
DESCRIPTION:These vinyasa flow classes are designed to build flexibility\, stability\, strength\, balance\, focus and connect to self. We’ll link breath with flowing movements. All levels are welcome\, variations will be demonstrated. Beginner students will flow gently into modified postures and seasoned students can choose more advanced options. Class-goers will meet themselves on the mat\, free of judgment and full of acceptance. \n1 hour / $15
URL:https://projectsunapee.org/event/flow-glow-yoga-2/2026-03-21/
LOCATION:The Livery\, 58 Main Street\, Sunapee\, NH\, 03782-2925\, United States
CATEGORIES:Sunapee Harbor
ATTACH;FMTTYPE=image/webp:https://projectsunapee.org/wp-content/uploads/2025/10/yoga-livery.webp
END:VEVENT
BEGIN:VEVENT
DTSTART;TZID=America/New_York:20260321T173000
DTEND;TZID=America/New_York:20260321T203000
DTSTAMP:20260425T154942
CREATED:20260211T180649Z
LAST-MODIFIED:20260211T180649Z
UID:10004613-1774114200-1774125000@projectsunapee.org
SUMMARY:Caylin Costello
DESCRIPTION:Caylin Costello Band (CCB) is an eclectic female fronted rock band from New Hampshire that’s making serious strides in the Northeast music scene. Caylin Costello Band is led by a female powerhouse who is known across the East Coast for her voice and captivating high energy performances.
URL:https://projectsunapee.org/event/caylin-costello/
LOCATION:Hoptimystic Brewery\, 31 River Road\, Sunapee\, NH\, 03782
CATEGORIES:Sunapee Harbor
ATTACH;FMTTYPE=image/webp:https://projectsunapee.org/wp-content/uploads/2026/02/Screenshot_20260113_153339_Gallery-e1770833281606.webp
ORGANIZER;CN="Hoptimystic Brewing":MAILTO:hoptimysticbrewingNH@gmail.com
END:VEVENT
BEGIN:VEVENT
DTSTART;TZID=America/New_York:20260322T140000
DTEND;TZID=America/New_York:20260322T170000
DTSTAMP:20260425T154942
CREATED:20260226T162455Z
LAST-MODIFIED:20260226T162455Z
UID:10005022-1774188000-1774198800@projectsunapee.org
SUMMARY:Hoptimystic Book Club
DESCRIPTION:Dear Hoptimystic Book Club! (Sunapee Location) \nOur next book\, My Husband’s Wife by Alice Feeney\, has hit the shelves! Head on down to your local bookstore and grab a copy. We will be meeting at 2:00pm on March 22nd. \nBeth \nhttps://www.instagram.com/bethonthebookshelf/
URL:https://projectsunapee.org/event/hoptimystic-book-club/
LOCATION:Hoptimystic Brewery\, 31 River Road\, Sunapee\, NH\, 03782
CATEGORIES:Sunapee Harbor
ATTACH;FMTTYPE=image/webp:https://projectsunapee.org/wp-content/uploads/2026/02/FB_IMG_1771356335051.webp
ORGANIZER;CN="Hoptimystic Brewing":MAILTO:hoptimysticbrewingNH@gmail.com
END:VEVENT
BEGIN:VEVENT
DTSTART;TZID=America/New_York:20260324T100000
DTEND;TZID=America/New_York:20260324T110000
DTSTAMP:20260425T154942
CREATED:20260320T140103Z
LAST-MODIFIED:20260320T140103Z
UID:10005121-1774346400-1774350000@projectsunapee.org
SUMMARY:Nature Exploration Story Time - Sweet Spring
DESCRIPTION:Come join LSPA educators at the Center for Lake Studies to explore the natural world. Each Tuesday morning will be filled with hands-on learning through sensory experiences\, guided exploration\, creative play\, art\, and music. LSPA’s story time is designed for young children and their caregivers. Come to one session or all – each program is organized around a different ecological theme. Come join the fun! This Tuesday morning we will learn about the sweet properties of maples and the seasonal changes that affect them and other trees.
URL:https://projectsunapee.org/event/nature-exploration-story-time-sweet-spring/
LOCATION:Lake Sunapee Protective Association\, 63 Main Street\, Sunapee\, NH\, 03782
CATEGORIES:Sunapee Harbor
ATTACH;FMTTYPE=image/webp:https://projectsunapee.org/wp-content/uploads/2026/03/IMG_7414.webp
ORGANIZER;CN="Lake Sunapee Protective Association":MAILTO:lspa@lakesunapee.org
END:VEVENT
BEGIN:VEVENT
DTSTART;TZID=America/New_York:20260325T173000
DTEND;TZID=America/New_York:20260325T183000
DTSTAMP:20260425T154942
CREATED:20250904T204506Z
LAST-MODIFIED:20260114T174025Z
UID:10000106-1774459800-1774463400@projectsunapee.org
SUMMARY:Flow & Glow Yoga
DESCRIPTION:These vinyasa flow classes are designed to build flexibility\, stability\, strength\, balance\, focus and connect to self. We’ll link breath with flowing movements. All levels are welcome\, variations will be demonstrated. Beginner students will flow gently into modified postures and seasoned students can choose more advanced options. Class-goers will meet themselves on the mat\, free of judgment and full of acceptance. \n1 hour / $15
URL:https://projectsunapee.org/event/flow-glow-yoga/2026-03-25/
LOCATION:The Livery\, 58 Main Street\, Sunapee\, NH\, 03782-2925\, United States
CATEGORIES:Sunapee Harbor
ATTACH;FMTTYPE=image/webp:https://projectsunapee.org/wp-content/uploads/2025/10/yoga-livery.webp
END:VEVENT
BEGIN:VEVENT
DTSTART;TZID=America/New_York:20260326T160000
DTEND;TZID=America/New_York:20260326T190000
DTSTAMP:20260425T154942
CREATED:20260309T131219Z
LAST-MODIFIED:20260309T131446Z
UID:10005024-1774540800-1774551600@projectsunapee.org
SUMMARY:Sugar River Social
DESCRIPTION:Join us for the next Sugar River Social at Sunapee Cellar & Pantry on March 26 from 4–7 PM. Enjoy an evening of wine tasting\, charcuterie\, and great conversation with friends and neighbors while exploring a featured Spanish wine tasting. \nThe Sugar River Social series is hosted by Discover Sugar River Region\, the regional destination marketing organization (DMO) that promotes the communities\, businesses\, and experiences across the Sugar River Region. \nLearn more here:  \nSunapee Cellar and Pantry \nhttps://sunapeecellarandpantry.com/parajes-del-valle-spanish-wine-tasting/ \nDiscovery Sugar River Region\nhttps://sugarriverregion.org
URL:https://projectsunapee.org/event/sugar-river-social/
LOCATION:Sunapee Cellar and Pantry\, 5 Garnet Street\, Sunapee\, NH
CATEGORIES:Sunapee Harbor
ATTACH;FMTTYPE=image/webp:https://projectsunapee.org/wp-content/uploads/2026/03/SUGAR-RIVER-SOCIAL.webp
ORGANIZER;CN="Discover Sugar River Region":MAILTO:director@sugarriverregion.org
END:VEVENT
BEGIN:VEVENT
DTSTART;TZID=America/New_York:20260328T080000
DTEND;TZID=America/New_York:20260328T090000
DTSTAMP:20260425T154942
CREATED:20251015T173911Z
LAST-MODIFIED:20260114T173926Z
UID:10001245-1774684800-1774688400@projectsunapee.org
SUMMARY:Flow & Glow Yoga
DESCRIPTION:These vinyasa flow classes are designed to build flexibility\, stability\, strength\, balance\, focus and connect to self. We’ll link breath with flowing movements. All levels are welcome\, variations will be demonstrated. Beginner students will flow gently into modified postures and seasoned students can choose more advanced options. Class-goers will meet themselves on the mat\, free of judgment and full of acceptance. \n1 hour / $15
URL:https://projectsunapee.org/event/flow-glow-yoga-2/2026-03-28/
LOCATION:The Livery\, 58 Main Street\, Sunapee\, NH\, 03782-2925\, United States
CATEGORIES:Sunapee Harbor
ATTACH;FMTTYPE=image/webp:https://projectsunapee.org/wp-content/uploads/2025/10/yoga-livery.webp
END:VEVENT
BEGIN:VEVENT
DTSTART;TZID=America/New_York:20260328T170000
DTEND;TZID=America/New_York:20260328T210000
DTSTAMP:20260425T154942
CREATED:20260312T123511Z
LAST-MODIFIED:20260312T123511Z
UID:10005109-1774717200-1774731600@projectsunapee.org
SUMMARY:Keepin' it 90's - Ski Season Wrap Up
DESCRIPTION:Ski season isn’t over until we say it is. \nAfter you send it at The Slush Cup- Sunapee Mountain\, keep the party going at Keepin’ It 90’s at Hoptimystic Brewing. \nWe’re wrapping up the season the only way we know how… neon\, nostalgia\, and cold beer. Throw on your brightest windbreaker\, rock the retro ski suit\, dust off the baggy jeans\, and join us for a 90s throwback party that will be totally rad! \n– 90s vibes all night\n– Cold beer flowing\n– Throwback jams with Bobby Sheehan\n– Fuel with food from Fenton’s\n– Best dressed bragging rights \nWhether you conquered the pond skim or just came for the chaos\, be prepared to have a hella good time.
URL:https://projectsunapee.org/event/keepin-it-90s-ski-season-wrap-up/
LOCATION:Hoptimystic Brewery\, 31 River Road\, Sunapee\, NH\, 03782
CATEGORIES:Sunapee Harbor
ATTACH;FMTTYPE=image/webp:https://projectsunapee.org/wp-content/uploads/2026/03/WU3D6nBI1i9t-Keepin-it-90s-1-scaled-e1773318902542.webp
ORGANIZER;CN="Hoptimystic Brewing":MAILTO:hoptimysticbrewingNH@gmail.com
END:VEVENT
BEGIN:VEVENT
DTSTART;TZID=America/New_York:20260329T090000
DTEND;TZID=America/New_York:20260329T130000
DTSTAMP:20260425T154942
CREATED:20260312T122602Z
LAST-MODIFIED:20260318T160931Z
UID:10005108-1774774800-1774789200@projectsunapee.org
SUMMARY:Grand Reopening & Tour - Fenton's Landing
DESCRIPTION:Fenton’s Landing and Stacy’s Smoothies Tour – March 29th \nBe among the first to step inside the newly renovated Fenton’s Landing at 72 Main Street! Stop by for a special tour of the refreshed space and see what’s new. Start your morning with Sunday Brunch at Hoptimystic Brewery\, then head over for a tour of Fenton’s Landing and enjoy a free Latte\, Espresso\, or Cappuccino on us. \nFenton’s Landing Reopening \nWe’re excited to welcome you back with new spring hours and a beautiful newly renovated dining room. Enjoy your favorites including burgers\, nachos\, wings\, desserts\, a kids menu\, and more. \nHours \n\nThursday: 4–8 PM\nFriday: 4–8 PM\nSaturday: 12–8 PM\nSunday: 1–5 PM
URL:https://projectsunapee.org/event/grand-reopening-tour-fentons-landing/
LOCATION:The Landing\, 72 Main Street\, Sunapee\, NH\, 03782
CATEGORIES:Sunapee Harbor
ATTACH;FMTTYPE=image/webp:https://projectsunapee.org/wp-content/uploads/2026/03/daa3822a-ed09-4979-82d6-9c3960c1cb95-e1773850162653.webp
ORGANIZER;CN="Fenton's Landing":MAILTO:info@fentonslanding.com
END:VEVENT
BEGIN:VEVENT
DTSTART;TZID=America/New_York:20260331T100000
DTEND;TZID=America/New_York:20260331T110000
DTSTAMP:20260425T154942
CREATED:20260320T140202Z
LAST-MODIFIED:20260320T140354Z
UID:10005122-1774951200-1774954800@projectsunapee.org
SUMMARY:Nature Exploration Story Time - Muckin' About In Mud
DESCRIPTION:Come join LSPA educators at the Center for Lake Studies to explore the natural world. Each Tuesday morning will be filled with hands-on learning through sensory experiences\, guided exploration\, creative play\, art\, and music. LSPA’s story time is designed for young children and their caregivers. Come to one session or all – each program is organized around a different ecological theme. Come join the fun! This Tuesday morning we will be investigating seasonal changes that create squishy\, squashy\, mud\, and how animals use mud!
URL:https://projectsunapee.org/event/nature-exploration-story-time-muckin-about-in-mud/
LOCATION:Lake Sunapee Protective Association\, 63 Main Street\, Sunapee\, NH\, 03782
CATEGORIES:Sunapee Harbor
ATTACH;FMTTYPE=image/webp:https://projectsunapee.org/wp-content/uploads/2026/03/MudOut26about.webp
ORGANIZER;CN="Lake Sunapee Protective Association":MAILTO:lspa@lakesunapee.org
END:VEVENT
END:VCALENDAR