BEGIN:VCALENDAR
VERSION:2.0
PRODID:-//Project Sunapee - ECPv6.15.20//NONSGML v1.0//EN
CALSCALE:GREGORIAN
METHOD:PUBLISH
X-WR-CALNAME:Project Sunapee
X-ORIGINAL-URL:https://projectsunapee.org
X-WR-CALDESC:Events for Project Sunapee
REFRESH-INTERVAL;VALUE=DURATION:PT1H
X-Robots-Tag:noindex
X-PUBLISHED-TTL:PT1H
BEGIN:VTIMEZONE
TZID:America/New_York
BEGIN:DAYLIGHT
TZOFFSETFROM:-0500
TZOFFSETTO:-0400
TZNAME:EDT
DTSTART:20250309T070000
END:DAYLIGHT
BEGIN:STANDARD
TZOFFSETFROM:-0400
TZOFFSETTO:-0500
TZNAME:EST
DTSTART:20251102T060000
END:STANDARD
BEGIN:DAYLIGHT
TZOFFSETFROM:-0500
TZOFFSETTO:-0400
TZNAME:EDT
DTSTART:20260308T070000
END:DAYLIGHT
BEGIN:STANDARD
TZOFFSETFROM:-0400
TZOFFSETTO:-0500
TZNAME:EST
DTSTART:20261101T060000
END:STANDARD
BEGIN:DAYLIGHT
TZOFFSETFROM:-0500
TZOFFSETTO:-0400
TZNAME:EDT
DTSTART:20270314T070000
END:DAYLIGHT
BEGIN:STANDARD
TZOFFSETFROM:-0400
TZOFFSETTO:-0500
TZNAME:EST
DTSTART:20271107T060000
END:STANDARD
END:VTIMEZONE
BEGIN:VEVENT
DTSTART;TZID=America/New_York:20260502T080000
DTEND;TZID=America/New_York:20260502T090000
DTSTAMP:20260425T155454
CREATED:20251015T173911Z
LAST-MODIFIED:20260114T173926Z
UID:10001250-1777708800-1777712400@projectsunapee.org
SUMMARY:Flow & Glow Yoga
DESCRIPTION:These vinyasa flow classes are designed to build flexibility\, stability\, strength\, balance\, focus and connect to self. We’ll link breath with flowing movements. All levels are welcome\, variations will be demonstrated. Beginner students will flow gently into modified postures and seasoned students can choose more advanced options. Class-goers will meet themselves on the mat\, free of judgment and full of acceptance. \n1 hour / $15
URL:https://projectsunapee.org/event/flow-glow-yoga-2/2026-05-02/
LOCATION:The Livery\, 58 Main Street\, Sunapee\, NH\, 03782-2925\, United States
CATEGORIES:Sunapee Harbor
ATTACH;FMTTYPE=image/webp:https://projectsunapee.org/wp-content/uploads/2025/10/yoga-livery.webp
END:VEVENT
BEGIN:VEVENT
DTSTART;TZID=America/New_York:20260506T173000
DTEND;TZID=America/New_York:20260506T183000
DTSTAMP:20260425T155454
CREATED:20250904T204506Z
LAST-MODIFIED:20260114T174025Z
UID:10000112-1778088600-1778092200@projectsunapee.org
SUMMARY:Flow & Glow Yoga
DESCRIPTION:These vinyasa flow classes are designed to build flexibility\, stability\, strength\, balance\, focus and connect to self. We’ll link breath with flowing movements. All levels are welcome\, variations will be demonstrated. Beginner students will flow gently into modified postures and seasoned students can choose more advanced options. Class-goers will meet themselves on the mat\, free of judgment and full of acceptance. \n1 hour / $15
URL:https://projectsunapee.org/event/flow-glow-yoga/2026-05-06/
LOCATION:The Livery\, 58 Main Street\, Sunapee\, NH\, 03782-2925\, United States
CATEGORIES:Sunapee Harbor
ATTACH;FMTTYPE=image/webp:https://projectsunapee.org/wp-content/uploads/2025/10/yoga-livery.webp
END:VEVENT
BEGIN:VEVENT
DTSTART;TZID=America/New_York:20260507T160000
DTEND;TZID=America/New_York:20260507T200000
DTSTAMP:20260425T155454
CREATED:20260424T131043Z
LAST-MODIFIED:20260424T131043Z
UID:10005231-1778169600-1778184000@projectsunapee.org
SUMMARY:Nurse Appreciation Week @ Hoptimsytic
DESCRIPTION:Nurses Week at Hoptimystic Brewing \nMay 6th–12th is National Nurses Week! \nThat week we’re celebrating all the incredible nurses out there and the hard work they put in every single day. \nBring your work badge and enjoy:\n• 10% off 4-packs to go\n• Buy one 16oz beer\, get the second for just $1 \nIt’s our way of saying thank you…come unwind with us\, you’ve earned it
URL:https://projectsunapee.org/event/nurse-appreciation-week-hoptimsytic/2026-05-07/
LOCATION:Hoptimystic Brewery\, 31 River Road\, Sunapee\, NH\, 03782
CATEGORIES:Sunapee Harbor
ATTACH;FMTTYPE=image/webp:https://projectsunapee.org/wp-content/uploads/2026/04/OHBtSz7vzNM6-nurses-week-flyer.webp
ORGANIZER;CN="Hoptimystic Brewing":MAILTO:hoptimysticbrewingNH@gmail.com
END:VEVENT
BEGIN:VEVENT
DTSTART;TZID=America/New_York:20260507T183000
DTEND;TZID=America/New_York:20260507T203000
DTSTAMP:20260425T155454
CREATED:20260424T133151Z
LAST-MODIFIED:20260424T133151Z
UID:10005235-1778178600-1778185800@projectsunapee.org
SUMMARY:Line Dancing Class
DESCRIPTION:Grab Your Boots & Let’s Dance! \nJoin us on Thursday\, 5/7 from 6:30–8:30pm for a boot-scootin’ good time!\nScuffin Boots Line Dancing is taking over the taproom and teaching a beginner-friendly line dancing class. No experience needed\, just bring your energy and your best two-step! \nTickets:\n• $5 pre-event\n• $10 day-of (pending floor space)\nhttps://buytickets.at/hoptimysticbrewing/2165688 \nCome hungry! Food will be available for purchase from Fenton’s Landing\nDust off those boots\, round up your friends\, and get ready to dance the night away! \nLet’s line up\, step out\, and have some fun!
URL:https://projectsunapee.org/event/line-dancing-class-2/
LOCATION:Hoptimystic Brewery\, 31 River Road\, Sunapee\, NH\, 03782
CATEGORIES:Sunapee Harbor
ATTACH;FMTTYPE=image/webp:https://projectsunapee.org/wp-content/uploads/2026/04/dyVv4QO5PANy-ChatGPT-Image-Apr-14-2026-08_52_02-AM.webp
ORGANIZER;CN="Hoptimystic Brewing":MAILTO:hoptimysticbrewingNH@gmail.com
END:VEVENT
BEGIN:VEVENT
DTSTART;TZID=America/New_York:20260508T150000
DTEND;TZID=America/New_York:20260508T210000
DTSTAMP:20260425T155454
CREATED:20260424T131043Z
LAST-MODIFIED:20260424T131043Z
UID:10005232-1778252400-1778274000@projectsunapee.org
SUMMARY:Nurse Appreciation Week @ Hoptimsytic
DESCRIPTION:Nurses Week at Hoptimystic Brewing \nMay 6th–12th is National Nurses Week! \nThat week we’re celebrating all the incredible nurses out there and the hard work they put in every single day. \nBring your work badge and enjoy:\n• 10% off 4-packs to go\n• Buy one 16oz beer\, get the second for just $1 \nIt’s our way of saying thank you…come unwind with us\, you’ve earned it
URL:https://projectsunapee.org/event/nurse-appreciation-week-hoptimsytic/2026-05-08/
LOCATION:Hoptimystic Brewery\, 31 River Road\, Sunapee\, NH\, 03782
CATEGORIES:Sunapee Harbor
ATTACH;FMTTYPE=image/webp:https://projectsunapee.org/wp-content/uploads/2026/04/OHBtSz7vzNM6-nurses-week-flyer.webp
ORGANIZER;CN="Hoptimystic Brewing":MAILTO:hoptimysticbrewingNH@gmail.com
END:VEVENT
BEGIN:VEVENT
DTSTART;TZID=America/New_York:20260509T080000
DTEND;TZID=America/New_York:20260509T090000
DTSTAMP:20260425T155454
CREATED:20251015T173911Z
LAST-MODIFIED:20260114T173926Z
UID:10001251-1778313600-1778317200@projectsunapee.org
SUMMARY:Flow & Glow Yoga
DESCRIPTION:These vinyasa flow classes are designed to build flexibility\, stability\, strength\, balance\, focus and connect to self. We’ll link breath with flowing movements. All levels are welcome\, variations will be demonstrated. Beginner students will flow gently into modified postures and seasoned students can choose more advanced options. Class-goers will meet themselves on the mat\, free of judgment and full of acceptance. \n1 hour / $15
URL:https://projectsunapee.org/event/flow-glow-yoga-2/2026-05-09/
LOCATION:The Livery\, 58 Main Street\, Sunapee\, NH\, 03782-2925\, United States
CATEGORIES:Sunapee Harbor
ATTACH;FMTTYPE=image/webp:https://projectsunapee.org/wp-content/uploads/2025/10/yoga-livery.webp
END:VEVENT
BEGIN:VEVENT
DTSTART;TZID=America/New_York:20260509T120000
DTEND;TZID=America/New_York:20260509T210000
DTSTAMP:20260425T155454
CREATED:20260424T131043Z
LAST-MODIFIED:20260424T131043Z
UID:10005233-1778328000-1778360400@projectsunapee.org
SUMMARY:Nurse Appreciation Week @ Hoptimsytic
DESCRIPTION:Nurses Week at Hoptimystic Brewing \nMay 6th–12th is National Nurses Week! \nThat week we’re celebrating all the incredible nurses out there and the hard work they put in every single day. \nBring your work badge and enjoy:\n• 10% off 4-packs to go\n• Buy one 16oz beer\, get the second for just $1 \nIt’s our way of saying thank you…come unwind with us\, you’ve earned it
URL:https://projectsunapee.org/event/nurse-appreciation-week-hoptimsytic/2026-05-09/
LOCATION:Hoptimystic Brewery\, 31 River Road\, Sunapee\, NH\, 03782
CATEGORIES:Sunapee Harbor
ATTACH;FMTTYPE=image/webp:https://projectsunapee.org/wp-content/uploads/2026/04/OHBtSz7vzNM6-nurses-week-flyer.webp
ORGANIZER;CN="Hoptimystic Brewing":MAILTO:hoptimysticbrewingNH@gmail.com
END:VEVENT
BEGIN:VEVENT
DTSTART;TZID=America/New_York:20260510T100000
DTEND;TZID=America/New_York:20260510T120000
DTSTAMP:20260425T155454
CREATED:20260322T180808Z
LAST-MODIFIED:20260322T180808Z
UID:10005188-1778407200-1778414400@projectsunapee.org
SUMMARY:Mother's Day Cruises
DESCRIPTION:Now Booking: 2 of our Our Most Popular Cruises of the Season!\n\n\nReservations are officially open for our Mother’s Day Brunch & Dinner Cruises—and trust us\, these fill up fast!\n\n\nSkip the stress this year and treat Mom to something she’ll truly remember: great food\, stunning views\, and time together on beautiful Lake Sunapee.\n\n\nReserve your spot today: www.sunapeecruises.com
URL:https://projectsunapee.org/event/mothers-day-cruises/2026-05-10/1/
LOCATION:Sunapee Cruises\, Sunapee
CATEGORIES:Sunapee Harbor
ATTACH;FMTTYPE=image/webp:https://projectsunapee.org/wp-content/uploads/2026/03/655158826_1539718371494634_4795723932296349878_n.webp
END:VEVENT
BEGIN:VEVENT
DTSTART;TZID=America/New_York:20260510T120000
DTEND;TZID=America/New_York:20260510T190000
DTSTAMP:20260425T155454
CREATED:20260424T131043Z
LAST-MODIFIED:20260424T131043Z
UID:10005234-1778414400-1778439600@projectsunapee.org
SUMMARY:Nurse Appreciation Week @ Hoptimsytic
DESCRIPTION:Nurses Week at Hoptimystic Brewing \nMay 6th–12th is National Nurses Week! \nThat week we’re celebrating all the incredible nurses out there and the hard work they put in every single day. \nBring your work badge and enjoy:\n• 10% off 4-packs to go\n• Buy one 16oz beer\, get the second for just $1 \nIt’s our way of saying thank you…come unwind with us\, you’ve earned it
URL:https://projectsunapee.org/event/nurse-appreciation-week-hoptimsytic/2026-05-10/
LOCATION:Hoptimystic Brewery\, 31 River Road\, Sunapee\, NH\, 03782
CATEGORIES:Sunapee Harbor
ATTACH;FMTTYPE=image/webp:https://projectsunapee.org/wp-content/uploads/2026/04/OHBtSz7vzNM6-nurses-week-flyer.webp
ORGANIZER;CN="Hoptimystic Brewing":MAILTO:hoptimysticbrewingNH@gmail.com
END:VEVENT
BEGIN:VEVENT
DTSTART;TZID=America/New_York:20260510T160000
DTEND;TZID=America/New_York:20260510T180000
DTSTAMP:20260425T155454
CREATED:20260322T180808Z
LAST-MODIFIED:20260322T180808Z
UID:10005189-1778428800-1778436000@projectsunapee.org
SUMMARY:Mother's Day Cruises
DESCRIPTION:Now Booking: 2 of our Our Most Popular Cruises of the Season!\n\n\nReservations are officially open for our Mother’s Day Brunch & Dinner Cruises—and trust us\, these fill up fast!\n\n\nSkip the stress this year and treat Mom to something she’ll truly remember: great food\, stunning views\, and time together on beautiful Lake Sunapee.\n\n\nReserve your spot today: www.sunapeecruises.com
URL:https://projectsunapee.org/event/mothers-day-cruises/2026-05-10/2/
LOCATION:Sunapee Cruises\, Sunapee
CATEGORIES:Sunapee Harbor
ATTACH;FMTTYPE=image/webp:https://projectsunapee.org/wp-content/uploads/2026/03/655158826_1539718371494634_4795723932296349878_n.webp
END:VEVENT
BEGIN:VEVENT
DTSTART;TZID=America/New_York:20260513T173000
DTEND;TZID=America/New_York:20260513T183000
DTSTAMP:20260425T155454
CREATED:20250904T204506Z
LAST-MODIFIED:20260114T174025Z
UID:10000113-1778693400-1778697000@projectsunapee.org
SUMMARY:Flow & Glow Yoga
DESCRIPTION:These vinyasa flow classes are designed to build flexibility\, stability\, strength\, balance\, focus and connect to self. We’ll link breath with flowing movements. All levels are welcome\, variations will be demonstrated. Beginner students will flow gently into modified postures and seasoned students can choose more advanced options. Class-goers will meet themselves on the mat\, free of judgment and full of acceptance. \n1 hour / $15
URL:https://projectsunapee.org/event/flow-glow-yoga/2026-05-13/
LOCATION:The Livery\, 58 Main Street\, Sunapee\, NH\, 03782-2925\, United States
CATEGORIES:Sunapee Harbor
ATTACH;FMTTYPE=image/webp:https://projectsunapee.org/wp-content/uploads/2025/10/yoga-livery.webp
END:VEVENT
BEGIN:VEVENT
DTSTART;TZID=America/New_York:20260514T180000
DTEND;TZID=America/New_York:20260514T200000
DTSTAMP:20260425T155454
CREATED:20260224T113543Z
LAST-MODIFIED:20260224T113800Z
UID:10004896-1778781600-1778788800@projectsunapee.org
SUMMARY:Trivia at Hoptimystic Brewing
DESCRIPTION:Thursdays are for trivia and happy hour! \nGrab a seat\, fuel up with some seriously delicious food from Fenton’s Landing\, and get ready to test your trivia skills. Seats will go fast so arrive early to claim your spot!
URL:https://projectsunapee.org/event/trivia-at-hoptimystic-brewing-2/2026-05-14/
LOCATION:Hoptimystic Brewery\, 31 River Road\, Sunapee\, NH\, 03782
CATEGORIES:Sunapee Harbor
ATTACH;FMTTYPE=image/webp:https://projectsunapee.org/wp-content/uploads/2026/02/oeop1zoxxo1g-IMG_4781.webp
ORGANIZER;CN="Hoptimystic Brewing":MAILTO:hoptimysticbrewingNH@gmail.com
END:VEVENT
BEGIN:VEVENT
DTSTART;TZID=America/New_York:20260516T080000
DTEND;TZID=America/New_York:20260516T090000
DTSTAMP:20260425T155454
CREATED:20251015T173911Z
LAST-MODIFIED:20260114T173926Z
UID:10001252-1778918400-1778922000@projectsunapee.org
SUMMARY:Flow & Glow Yoga
DESCRIPTION:These vinyasa flow classes are designed to build flexibility\, stability\, strength\, balance\, focus and connect to self. We’ll link breath with flowing movements. All levels are welcome\, variations will be demonstrated. Beginner students will flow gently into modified postures and seasoned students can choose more advanced options. Class-goers will meet themselves on the mat\, free of judgment and full of acceptance. \n1 hour / $15
URL:https://projectsunapee.org/event/flow-glow-yoga-2/2026-05-16/
LOCATION:The Livery\, 58 Main Street\, Sunapee\, NH\, 03782-2925\, United States
CATEGORIES:Sunapee Harbor
ATTACH;FMTTYPE=image/webp:https://projectsunapee.org/wp-content/uploads/2025/10/yoga-livery.webp
END:VEVENT
BEGIN:VEVENT
DTSTART;TZID=America/New_York:20260520T173000
DTEND;TZID=America/New_York:20260520T183000
DTSTAMP:20260425T155454
CREATED:20250904T204506Z
LAST-MODIFIED:20260114T174025Z
UID:10000114-1779298200-1779301800@projectsunapee.org
SUMMARY:Flow & Glow Yoga
DESCRIPTION:These vinyasa flow classes are designed to build flexibility\, stability\, strength\, balance\, focus and connect to self. We’ll link breath with flowing movements. All levels are welcome\, variations will be demonstrated. Beginner students will flow gently into modified postures and seasoned students can choose more advanced options. Class-goers will meet themselves on the mat\, free of judgment and full of acceptance. \n1 hour / $15
URL:https://projectsunapee.org/event/flow-glow-yoga/2026-05-20/
LOCATION:The Livery\, 58 Main Street\, Sunapee\, NH\, 03782-2925\, United States
CATEGORIES:Sunapee Harbor
ATTACH;FMTTYPE=image/webp:https://projectsunapee.org/wp-content/uploads/2025/10/yoga-livery.webp
END:VEVENT
BEGIN:VEVENT
DTSTART;TZID=America/New_York:20260523T080000
DTEND;TZID=America/New_York:20260523T090000
DTSTAMP:20260425T155454
CREATED:20251015T173911Z
LAST-MODIFIED:20260114T173926Z
UID:10001253-1779523200-1779526800@projectsunapee.org
SUMMARY:Flow & Glow Yoga
DESCRIPTION:These vinyasa flow classes are designed to build flexibility\, stability\, strength\, balance\, focus and connect to self. We’ll link breath with flowing movements. All levels are welcome\, variations will be demonstrated. Beginner students will flow gently into modified postures and seasoned students can choose more advanced options. Class-goers will meet themselves on the mat\, free of judgment and full of acceptance. \n1 hour / $15
URL:https://projectsunapee.org/event/flow-glow-yoga-2/2026-05-23/
LOCATION:The Livery\, 58 Main Street\, Sunapee\, NH\, 03782-2925\, United States
CATEGORIES:Sunapee Harbor
ATTACH;FMTTYPE=image/webp:https://projectsunapee.org/wp-content/uploads/2025/10/yoga-livery.webp
END:VEVENT
BEGIN:VEVENT
DTSTART;TZID=America/New_York:20260523T090000
DTEND;TZID=America/New_York:20260523T120000
DTSTAMP:20260425T155454
CREATED:20260310T141747Z
LAST-MODIFIED:20260310T142052Z
UID:10005030-1779526800-1779537600@projectsunapee.org
SUMMARY:Sunapee Farmers Market
DESCRIPTION:Welcome to the Sunapee Farmers Market sponsored by Project Sunapee. Summer 2026 will be our sixth market year in historic Sunapee Harbor. Come join our vibrant market community in the summer enclave of Sunapee. \nOur vendors sell only items grown\, raised\, baked\, created\, or prepared within 75 miles of Sunapee. Our farm vendors offer their own fresh fruits and vegetables\, cheeses\, meats\, eggs\, honey and maple syrup. You’ll find all manner of baked goods\, sweet and savory\, from our prepared food vendors. There are items to stock your pantry\, like jams\, mustards and sauces. Each week we have a new artisan to offer a rich assortment of pottery\, jewelry\, wooden bowls\, and much more. \nThe market is sponsored by a nonprofit organization\, Project Sunapee. Project Sunapee is dedicated to the wellbeing of the Town of Sunapee by strengthening the sense of community\, encouraging economic vitality\, fostering education\, and supporting the preservation of the cultural\, historic\, and scenic assets of our community. The Sunapee Farmers’ Market was established for the purpose of providing a sales outlet for local farmers\, craftspeople\, bakers and producers of prepared foods. \nThe Sunapee Farmers Market is operated by the Sunapee Farmers’ Market Committee. \nContact us at farmersmarket@projectsunapee.org
URL:https://projectsunapee.org/event/sunapee-farmers-market/2026-05-23/
LOCATION:Sunapee Harbor\, Main Street\, Sunapee\, NH\, 03782-2925\, United States
CATEGORIES:Sunapee Harbor
ATTACH;FMTTYPE=image/png:https://projectsunapee.org/wp-content/uploads/2026/03/2024-SFM-yard-signs-final-Saturdays-scaled-e1773152178994.png
ORGANIZER;CN="Project Sunapee":MAILTO:info@projectsunapee.org
END:VEVENT
BEGIN:VEVENT
DTSTART;TZID=America/New_York:20260524T100000
DTEND;TZID=America/New_York:20260524T130000
DTSTAMP:20260425T155454
CREATED:20260226T163003Z
LAST-MODIFIED:20260226T163003Z
UID:10005023-1779616800-1779627600@projectsunapee.org
SUMMARY:Sunapee Harbor Poker Run
DESCRIPTION:Plans are in the works for the 2nd Annual Sunapee Harbor 5K Poker Run! \nSave the date: May 24th \nTime: 10am \nWe had an amazing turnout for our first race last year\, and we can’t wait to bring the fun back again in 2026! This event is all about community\, good times\, and giving back. \nThe goal: to raise funds that support FREE public music in the Harbor because live music makes everything better. \nLet’s make year two even bigger and better!
URL:https://projectsunapee.org/event/sunapee-harbor-poker-run/
LOCATION:Hoptimystic Brewery\, 31 River Road\, Sunapee\, NH\, 03782
CATEGORIES:Sunapee Harbor
ATTACH;FMTTYPE=image/webp:https://projectsunapee.org/wp-content/uploads/2026/02/FB_IMG_177135659543829.webp
END:VEVENT
BEGIN:VEVENT
DTSTART;TZID=America/New_York:20260524T130000
DTEND;TZID=America/New_York:20260524T150000
DTSTAMP:20260425T155454
CREATED:20260410T145339Z
LAST-MODIFIED:20260410T150358Z
UID:10005208-1779627600-1779634800@projectsunapee.org
SUMMARY:Rusty Bones at The Landing
DESCRIPTION:FREE MUSIC CONCERTS AT THE LANDING\n72 Main Street\, Sunapee Harbor \nSaturday night concerts are 5:30-8:30 \n5/24 RUSTY BONES – after Poker Race – daytime concert\n6/6 BACCHUS\n6/11 – JD & THE STONE MASONS\n6/20 – GULLY BOYS\n7/04 – VINCENT KING*\n7/18 – TOTAN’S TRANGERSE MASONS\n8/01 – 90 PROOF*\n8/22 – CONNIPTION FITS*\n9/26 – SUMMER SHAKEDOWN*\nMULTIPLE ARTISTS (NOON – 8 PM)\n10/10 – JD & THE STONE MASONS (1-4\nPM NICKS OTHER BAND (5-8 PM)*
URL:https://projectsunapee.org/event/rusty-bones-concert-schedule-at-the-landing/
LOCATION:The Landing\, 72 Main Street\, Sunapee\, NH\, 03782
CATEGORIES:Sunapee Harbor
ATTACH;FMTTYPE=image/webp:https://projectsunapee.org/wp-content/uploads/2026/04/OhUM4tVJe56O-Summer-Music-visitsunapeeharbor.com-4-e1775832786417.webp
END:VEVENT
BEGIN:VEVENT
DTSTART;TZID=America/New_York:20260527T173000
DTEND;TZID=America/New_York:20260527T183000
DTSTAMP:20260425T155454
CREATED:20250904T204506Z
LAST-MODIFIED:20260114T174025Z
UID:10000115-1779903000-1779906600@projectsunapee.org
SUMMARY:Flow & Glow Yoga
DESCRIPTION:These vinyasa flow classes are designed to build flexibility\, stability\, strength\, balance\, focus and connect to self. We’ll link breath with flowing movements. All levels are welcome\, variations will be demonstrated. Beginner students will flow gently into modified postures and seasoned students can choose more advanced options. Class-goers will meet themselves on the mat\, free of judgment and full of acceptance. \n1 hour / $15
URL:https://projectsunapee.org/event/flow-glow-yoga/2026-05-27/
LOCATION:The Livery\, 58 Main Street\, Sunapee\, NH\, 03782-2925\, United States
CATEGORIES:Sunapee Harbor
ATTACH;FMTTYPE=image/webp:https://projectsunapee.org/wp-content/uploads/2025/10/yoga-livery.webp
END:VEVENT
BEGIN:VEVENT
DTSTART;TZID=America/New_York:20260528T180000
DTEND;TZID=America/New_York:20260528T200000
DTSTAMP:20260425T155454
CREATED:20260224T113543Z
LAST-MODIFIED:20260224T113800Z
UID:10004897-1779991200-1779998400@projectsunapee.org
SUMMARY:Trivia at Hoptimystic Brewing
DESCRIPTION:Thursdays are for trivia and happy hour! \nGrab a seat\, fuel up with some seriously delicious food from Fenton’s Landing\, and get ready to test your trivia skills. Seats will go fast so arrive early to claim your spot!
URL:https://projectsunapee.org/event/trivia-at-hoptimystic-brewing-2/2026-05-28/
LOCATION:Hoptimystic Brewery\, 31 River Road\, Sunapee\, NH\, 03782
CATEGORIES:Sunapee Harbor
ATTACH;FMTTYPE=image/webp:https://projectsunapee.org/wp-content/uploads/2026/02/oeop1zoxxo1g-IMG_4781.webp
ORGANIZER;CN="Hoptimystic Brewing":MAILTO:hoptimysticbrewingNH@gmail.com
END:VEVENT
BEGIN:VEVENT
DTSTART;TZID=America/New_York:20260529T173000
DTEND;TZID=America/New_York:20260529T203000
DTSTAMP:20260425T155454
CREATED:20260322T172445Z
LAST-MODIFIED:20260323T125453Z
UID:10005129-1780075800-1780086600@projectsunapee.org
SUMMARY:Spring into Summer
DESCRIPTION:Get Ready to Spring into Summer in Sunapee Harbor! \nMark your calendars for a vibrant evening in Sunapee Harbor! Friends and neighbors are invited to gather on Friday\, May 29th\, from 5:30 PM to 8:30 PM\, come rain or shine\, for an unforgettable celebration where you can EAT\, SHOP\, and PLAY! \nFeel the energy with live music at Flander’s Stage\, featuring JD and The Stonemasons. Get ready for a lively performance of Irish American Roots Music from New England’s most rollicking traditional band! \nExplore and Win! Grab your “Spring into Summer” postcard (it’s coming in the mail!) and bring it with you. As you wander through the harbor\, visit at least 15 of our 22 participating businesses and non-profits to have your postcard stamped. Once your postcard is complete\, drop it off at the Project Sunapee table (located near Flander’s Stage) for a chance to win one of five $100 “Sunapee Cash” prizes! This “Sunapee Cash” can be spent at any of the participating “Spring into Summer” locations\, giving you more reasons to explore and support our local community. \nIt’s the perfect opportunity to visit familiar spots\, discover new businesses offering samples\, discounts\, and coupons\, and learn more about the vital non-profits that enrich Sunapee. This is truly an evening not to be missed! \nProject Sunapee
URL:https://projectsunapee.org/event/spring-into-summer/
LOCATION:Sunapee Harbor\, Main Street\, Sunapee\, NH\, 03782-2925\, United States
CATEGORIES:Sunapee Harbor
ATTACH;FMTTYPE=image/webp:https://projectsunapee.org/wp-content/uploads/2026/03/box-spring-into-summer-2026-e1774200274155.webp
ORGANIZER;CN="Project Sunapee":MAILTO:info@projectsunapee.org
END:VEVENT
BEGIN:VEVENT
DTSTART;TZID=America/New_York:20260530T080000
DTEND;TZID=America/New_York:20260530T090000
DTSTAMP:20260425T155454
CREATED:20251015T173911Z
LAST-MODIFIED:20260114T173926Z
UID:10001254-1780128000-1780131600@projectsunapee.org
SUMMARY:Flow & Glow Yoga
DESCRIPTION:These vinyasa flow classes are designed to build flexibility\, stability\, strength\, balance\, focus and connect to self. We’ll link breath with flowing movements. All levels are welcome\, variations will be demonstrated. Beginner students will flow gently into modified postures and seasoned students can choose more advanced options. Class-goers will meet themselves on the mat\, free of judgment and full of acceptance. \n1 hour / $15
URL:https://projectsunapee.org/event/flow-glow-yoga-2/2026-05-30/
LOCATION:The Livery\, 58 Main Street\, Sunapee\, NH\, 03782-2925\, United States
CATEGORIES:Sunapee Harbor
ATTACH;FMTTYPE=image/webp:https://projectsunapee.org/wp-content/uploads/2025/10/yoga-livery.webp
END:VEVENT
BEGIN:VEVENT
DTSTART;TZID=America/New_York:20260530T090000
DTEND;TZID=America/New_York:20260530T120000
DTSTAMP:20260425T155454
CREATED:20260310T141747Z
LAST-MODIFIED:20260310T142052Z
UID:10005031-1780131600-1780142400@projectsunapee.org
SUMMARY:Sunapee Farmers Market
DESCRIPTION:Welcome to the Sunapee Farmers Market sponsored by Project Sunapee. Summer 2026 will be our sixth market year in historic Sunapee Harbor. Come join our vibrant market community in the summer enclave of Sunapee. \nOur vendors sell only items grown\, raised\, baked\, created\, or prepared within 75 miles of Sunapee. Our farm vendors offer their own fresh fruits and vegetables\, cheeses\, meats\, eggs\, honey and maple syrup. You’ll find all manner of baked goods\, sweet and savory\, from our prepared food vendors. There are items to stock your pantry\, like jams\, mustards and sauces. Each week we have a new artisan to offer a rich assortment of pottery\, jewelry\, wooden bowls\, and much more. \nThe market is sponsored by a nonprofit organization\, Project Sunapee. Project Sunapee is dedicated to the wellbeing of the Town of Sunapee by strengthening the sense of community\, encouraging economic vitality\, fostering education\, and supporting the preservation of the cultural\, historic\, and scenic assets of our community. The Sunapee Farmers’ Market was established for the purpose of providing a sales outlet for local farmers\, craftspeople\, bakers and producers of prepared foods. \nThe Sunapee Farmers Market is operated by the Sunapee Farmers’ Market Committee. \nContact us at farmersmarket@projectsunapee.org
URL:https://projectsunapee.org/event/sunapee-farmers-market/2026-05-30/
LOCATION:Sunapee Harbor\, Main Street\, Sunapee\, NH\, 03782-2925\, United States
CATEGORIES:Sunapee Harbor
ATTACH;FMTTYPE=image/png:https://projectsunapee.org/wp-content/uploads/2026/03/2024-SFM-yard-signs-final-Saturdays-scaled-e1773152178994.png
ORGANIZER;CN="Project Sunapee":MAILTO:info@projectsunapee.org
END:VEVENT
END:VCALENDAR