BEGIN:VCALENDAR
VERSION:2.0
PRODID:-//Project Sunapee - ECPv6.15.20//NONSGML v1.0//EN
CALSCALE:GREGORIAN
METHOD:PUBLISH
X-WR-CALNAME:Project Sunapee
X-ORIGINAL-URL:https://projectsunapee.org
X-WR-CALDESC:Events for Project Sunapee
REFRESH-INTERVAL;VALUE=DURATION:PT1H
X-Robots-Tag:noindex
X-PUBLISHED-TTL:PT1H
BEGIN:VTIMEZONE
TZID:America/New_York
BEGIN:DAYLIGHT
TZOFFSETFROM:-0500
TZOFFSETTO:-0400
TZNAME:EDT
DTSTART:20250309T070000
END:DAYLIGHT
BEGIN:STANDARD
TZOFFSETFROM:-0400
TZOFFSETTO:-0500
TZNAME:EST
DTSTART:20251102T060000
END:STANDARD
BEGIN:DAYLIGHT
TZOFFSETFROM:-0500
TZOFFSETTO:-0400
TZNAME:EDT
DTSTART:20260308T070000
END:DAYLIGHT
BEGIN:STANDARD
TZOFFSETFROM:-0400
TZOFFSETTO:-0500
TZNAME:EST
DTSTART:20261101T060000
END:STANDARD
BEGIN:DAYLIGHT
TZOFFSETFROM:-0500
TZOFFSETTO:-0400
TZNAME:EDT
DTSTART:20270314T070000
END:DAYLIGHT
BEGIN:STANDARD
TZOFFSETFROM:-0400
TZOFFSETTO:-0500
TZNAME:EST
DTSTART:20271107T060000
END:STANDARD
END:VTIMEZONE
BEGIN:VEVENT
DTSTART;TZID=America/New_York:20260701T173000
DTEND;TZID=America/New_York:20260701T183000
DTSTAMP:20260425T185606
CREATED:20250904T204506Z
LAST-MODIFIED:20260114T174025Z
UID:10000120-1782927000-1782930600@projectsunapee.org
SUMMARY:Flow & Glow Yoga
DESCRIPTION:These vinyasa flow classes are designed to build flexibility\, stability\, strength\, balance\, focus and connect to self. We’ll link breath with flowing movements. All levels are welcome\, variations will be demonstrated. Beginner students will flow gently into modified postures and seasoned students can choose more advanced options. Class-goers will meet themselves on the mat\, free of judgment and full of acceptance. \n1 hour / $15
URL:https://projectsunapee.org/event/flow-glow-yoga/2026-07-01/
LOCATION:The Livery\, 58 Main Street\, Sunapee\, NH\, 03782-2925\, United States
CATEGORIES:Sunapee Harbor
ATTACH;FMTTYPE=image/webp:https://projectsunapee.org/wp-content/uploads/2025/10/yoga-livery.webp
END:VEVENT
BEGIN:VEVENT
DTSTART;TZID=America/New_York:20260702T173000
DTEND;TZID=America/New_York:20260702T203000
DTSTAMP:20260425T185606
CREATED:20260410T151613Z
LAST-MODIFIED:20260410T151741Z
UID:10005220-1783013400-1783024200@projectsunapee.org
SUMMARY:Kevin Dion - Live Music
DESCRIPTION:
URL:https://projectsunapee.org/event/kevin-dion-live-music/
LOCATION:Hoptimystic Brewery\, 31 River Road\, Sunapee\, NH\, 03782
CATEGORIES:Sunapee Harbor
ATTACH;FMTTYPE=image/webp:https://projectsunapee.org/wp-content/uploads/2026/04/kevin-dion.webp
ORGANIZER;CN="Hoptimystic Brewing":MAILTO:hoptimysticbrewingNH@gmail.com
END:VEVENT
BEGIN:VEVENT
DTSTART;TZID=America/New_York:20260702T190000
DTEND;TZID=America/New_York:20260702T210000
DTSTAMP:20260425T185606
CREATED:20260410T161842Z
LAST-MODIFIED:20260410T162258Z
UID:10005222-1783018800-1783026000@projectsunapee.org
SUMMARY:The Faceted  History of Sunapee
DESCRIPTION:Becky Rylander will use maps and old photos to trace Sunapee’s rich history from farming community to industrial hub and tourism mecca. \nAll events are free and at the Flanders-Osborne Museum in Sunapee Harbor unless noted otherwise.
URL:https://projectsunapee.org/event/the-faceted-history-of-sunapee/
LOCATION:Flanders-Osborne Museum\, 74 Main Street\, Sunapee\, NH\, 03782
CATEGORIES:Sunapee Harbor
ATTACH;FMTTYPE=image/webp:https://projectsunapee.org/wp-content/uploads/2026/04/sunapee-map.webp
ORGANIZER;CN="Sunapee Historical Society":MAILTO:sunapeehistory@gmail.com
END:VEVENT
BEGIN:VEVENT
DTSTART;TZID=America/New_York:20260704T080000
DTEND;TZID=America/New_York:20260704T090000
DTSTAMP:20260425T185606
CREATED:20251015T173911Z
LAST-MODIFIED:20260114T173926Z
UID:10001259-1783152000-1783155600@projectsunapee.org
SUMMARY:Flow & Glow Yoga
DESCRIPTION:These vinyasa flow classes are designed to build flexibility\, stability\, strength\, balance\, focus and connect to self. We’ll link breath with flowing movements. All levels are welcome\, variations will be demonstrated. Beginner students will flow gently into modified postures and seasoned students can choose more advanced options. Class-goers will meet themselves on the mat\, free of judgment and full of acceptance. \n1 hour / $15
URL:https://projectsunapee.org/event/flow-glow-yoga-2/2026-07-04/
LOCATION:The Livery\, 58 Main Street\, Sunapee\, NH\, 03782-2925\, United States
CATEGORIES:Sunapee Harbor
ATTACH;FMTTYPE=image/webp:https://projectsunapee.org/wp-content/uploads/2025/10/yoga-livery.webp
END:VEVENT
BEGIN:VEVENT
DTSTART;TZID=America/New_York:20260704T090000
DTEND;TZID=America/New_York:20260704T120000
DTSTAMP:20260425T185606
CREATED:20260310T141747Z
LAST-MODIFIED:20260310T142052Z
UID:10005036-1783155600-1783166400@projectsunapee.org
SUMMARY:Sunapee Farmers Market
DESCRIPTION:Welcome to the Sunapee Farmers Market sponsored by Project Sunapee. Summer 2026 will be our sixth market year in historic Sunapee Harbor. Come join our vibrant market community in the summer enclave of Sunapee. \nOur vendors sell only items grown\, raised\, baked\, created\, or prepared within 75 miles of Sunapee. Our farm vendors offer their own fresh fruits and vegetables\, cheeses\, meats\, eggs\, honey and maple syrup. You’ll find all manner of baked goods\, sweet and savory\, from our prepared food vendors. There are items to stock your pantry\, like jams\, mustards and sauces. Each week we have a new artisan to offer a rich assortment of pottery\, jewelry\, wooden bowls\, and much more. \nThe market is sponsored by a nonprofit organization\, Project Sunapee. Project Sunapee is dedicated to the wellbeing of the Town of Sunapee by strengthening the sense of community\, encouraging economic vitality\, fostering education\, and supporting the preservation of the cultural\, historic\, and scenic assets of our community. The Sunapee Farmers’ Market was established for the purpose of providing a sales outlet for local farmers\, craftspeople\, bakers and producers of prepared foods. \nThe Sunapee Farmers Market is operated by the Sunapee Farmers’ Market Committee. \nContact us at farmersmarket@projectsunapee.org
URL:https://projectsunapee.org/event/sunapee-farmers-market/2026-07-04/
LOCATION:Sunapee Harbor\, Main Street\, Sunapee\, NH\, 03782-2925\, United States
CATEGORIES:Sunapee Harbor
ATTACH;FMTTYPE=image/png:https://projectsunapee.org/wp-content/uploads/2026/03/2024-SFM-yard-signs-final-Saturdays-scaled-e1773152178994.png
ORGANIZER;CN="Project Sunapee":MAILTO:info@projectsunapee.org
END:VEVENT
BEGIN:VEVENT
DTSTART;TZID=America/New_York:20260704T173000
DTEND;TZID=America/New_York:20260704T203000
DTSTAMP:20260425T185606
CREATED:20260410T145817Z
LAST-MODIFIED:20260410T150323Z
UID:10005212-1783186200-1783197000@projectsunapee.org
SUMMARY:Live Music at The Landing
DESCRIPTION:FREE MUSIC CONCERTS AT THE LANDING\n72 Main Street\, Sunapee Harbor \n6/6 BACCHUS\n6/11 – JD & THE STONE MASONS\n6/20 – GULLY BOYS\n7/04 – VINCENT KING*\n7/18 – TOTAN’S TRANGERSE MASONS\n8/01 – 90 PROOF*\n8/22 – CONNIPTION FITS*
URL:https://projectsunapee.org/event/bacchus-at-the-landing/2026-07-04/
LOCATION:The Landing\, 72 Main Street\, Sunapee\, NH\, 03782
CATEGORIES:Sunapee Harbor
ATTACH;FMTTYPE=image/webp:https://projectsunapee.org/wp-content/uploads/2026/04/OhUM4tVJe56O-Summer-Music-visitsunapeeharbor.com-4-e1775832786417.webp
END:VEVENT
BEGIN:VEVENT
DTSTART;TZID=America/New_York:20260706T173000
DTEND;TZID=America/New_York:20260706T193000
DTSTAMP:20260425T185606
CREATED:20260410T162602Z
LAST-MODIFIED:20260415T174444Z
UID:10005223-1783359000-1783366200@projectsunapee.org
SUMMARY:History Cruise Aboard the MV Mt. Sunapee
DESCRIPTION:Explore early lake shore development from Gardner Bay to Georges Mills with the Sunapee Historical Society. Light snacks and cash bar provided. \n\nTickets @ $50/person \nReservations Required:  (603) 763-9872 or sunapeehistory@gmail.com \nLocation:  Sunapee Harbor Pier
URL:https://projectsunapee.org/event/history-cruise-aboard-the-mv-mt-sunapee/
LOCATION:Sunapee Cruises\, Sunapee
CATEGORIES:Sunapee Harbor
ATTACH;FMTTYPE=image/jpeg:https://projectsunapee.org/wp-content/uploads/2025/06/WaterSki_1959_06.jpg
ORGANIZER;CN="Sunapee Historical Society":MAILTO:sunapeehistory@gmail.com
END:VEVENT
BEGIN:VEVENT
DTSTART;TZID=America/New_York:20260708T173000
DTEND;TZID=America/New_York:20260708T183000
DTSTAMP:20260425T185606
CREATED:20250904T204506Z
LAST-MODIFIED:20260114T174025Z
UID:10000121-1783531800-1783535400@projectsunapee.org
SUMMARY:Flow & Glow Yoga
DESCRIPTION:These vinyasa flow classes are designed to build flexibility\, stability\, strength\, balance\, focus and connect to self. We’ll link breath with flowing movements. All levels are welcome\, variations will be demonstrated. Beginner students will flow gently into modified postures and seasoned students can choose more advanced options. Class-goers will meet themselves on the mat\, free of judgment and full of acceptance. \n1 hour / $15
URL:https://projectsunapee.org/event/flow-glow-yoga/2026-07-08/
LOCATION:The Livery\, 58 Main Street\, Sunapee\, NH\, 03782-2925\, United States
CATEGORIES:Sunapee Harbor
ATTACH;FMTTYPE=image/webp:https://projectsunapee.org/wp-content/uploads/2025/10/yoga-livery.webp
END:VEVENT
BEGIN:VEVENT
DTSTART;TZID=America/New_York:20260709T173000
DTEND;TZID=America/New_York:20260709T203000
DTSTAMP:20260425T185606
CREATED:20260410T145817Z
LAST-MODIFIED:20260410T150323Z
UID:10005213-1783618200-1783629000@projectsunapee.org
SUMMARY:Live Music at The Landing
DESCRIPTION:FREE MUSIC CONCERTS AT THE LANDING\n72 Main Street\, Sunapee Harbor \n6/6 BACCHUS\n6/11 – JD & THE STONE MASONS\n6/20 – GULLY BOYS\n7/04 – VINCENT KING*\n7/18 – TOTAN’S TRANGERSE MASONS\n8/01 – 90 PROOF*\n8/22 – CONNIPTION FITS*
URL:https://projectsunapee.org/event/bacchus-at-the-landing/2026-07-09/
LOCATION:The Landing\, 72 Main Street\, Sunapee\, NH\, 03782
CATEGORIES:Sunapee Harbor
ATTACH;FMTTYPE=image/webp:https://projectsunapee.org/wp-content/uploads/2026/04/OhUM4tVJe56O-Summer-Music-visitsunapeeharbor.com-4-e1775832786417.webp
END:VEVENT
BEGIN:VEVENT
DTSTART;TZID=America/New_York:20260709T180000
DTEND;TZID=America/New_York:20260709T200000
DTSTAMP:20260425T185606
CREATED:20260224T113543Z
LAST-MODIFIED:20260224T113800Z
UID:10004900-1783620000-1783627200@projectsunapee.org
SUMMARY:Trivia at Hoptimystic Brewing
DESCRIPTION:Thursdays are for trivia and happy hour! \nGrab a seat\, fuel up with some seriously delicious food from Fenton’s Landing\, and get ready to test your trivia skills. Seats will go fast so arrive early to claim your spot!
URL:https://projectsunapee.org/event/trivia-at-hoptimystic-brewing-2/2026-07-09/
LOCATION:Hoptimystic Brewery\, 31 River Road\, Sunapee\, NH\, 03782
CATEGORIES:Sunapee Harbor
ATTACH;FMTTYPE=image/webp:https://projectsunapee.org/wp-content/uploads/2026/02/oeop1zoxxo1g-IMG_4781.webp
ORGANIZER;CN="Hoptimystic Brewing":MAILTO:hoptimysticbrewingNH@gmail.com
END:VEVENT
BEGIN:VEVENT
DTSTART;TZID=America/New_York:20260711T080000
DTEND;TZID=America/New_York:20260711T090000
DTSTAMP:20260425T185606
CREATED:20251015T173911Z
LAST-MODIFIED:20260114T173926Z
UID:10001260-1783756800-1783760400@projectsunapee.org
SUMMARY:Flow & Glow Yoga
DESCRIPTION:These vinyasa flow classes are designed to build flexibility\, stability\, strength\, balance\, focus and connect to self. We’ll link breath with flowing movements. All levels are welcome\, variations will be demonstrated. Beginner students will flow gently into modified postures and seasoned students can choose more advanced options. Class-goers will meet themselves on the mat\, free of judgment and full of acceptance. \n1 hour / $15
URL:https://projectsunapee.org/event/flow-glow-yoga-2/2026-07-11/
LOCATION:The Livery\, 58 Main Street\, Sunapee\, NH\, 03782-2925\, United States
CATEGORIES:Sunapee Harbor
ATTACH;FMTTYPE=image/webp:https://projectsunapee.org/wp-content/uploads/2025/10/yoga-livery.webp
END:VEVENT
BEGIN:VEVENT
DTSTART;TZID=America/New_York:20260711T090000
DTEND;TZID=America/New_York:20260711T120000
DTSTAMP:20260425T185606
CREATED:20260310T141747Z
LAST-MODIFIED:20260310T142052Z
UID:10005037-1783760400-1783771200@projectsunapee.org
SUMMARY:Sunapee Farmers Market
DESCRIPTION:Welcome to the Sunapee Farmers Market sponsored by Project Sunapee. Summer 2026 will be our sixth market year in historic Sunapee Harbor. Come join our vibrant market community in the summer enclave of Sunapee. \nOur vendors sell only items grown\, raised\, baked\, created\, or prepared within 75 miles of Sunapee. Our farm vendors offer their own fresh fruits and vegetables\, cheeses\, meats\, eggs\, honey and maple syrup. You’ll find all manner of baked goods\, sweet and savory\, from our prepared food vendors. There are items to stock your pantry\, like jams\, mustards and sauces. Each week we have a new artisan to offer a rich assortment of pottery\, jewelry\, wooden bowls\, and much more. \nThe market is sponsored by a nonprofit organization\, Project Sunapee. Project Sunapee is dedicated to the wellbeing of the Town of Sunapee by strengthening the sense of community\, encouraging economic vitality\, fostering education\, and supporting the preservation of the cultural\, historic\, and scenic assets of our community. The Sunapee Farmers’ Market was established for the purpose of providing a sales outlet for local farmers\, craftspeople\, bakers and producers of prepared foods. \nThe Sunapee Farmers Market is operated by the Sunapee Farmers’ Market Committee. \nContact us at farmersmarket@projectsunapee.org
URL:https://projectsunapee.org/event/sunapee-farmers-market/2026-07-11/
LOCATION:Sunapee Harbor\, Main Street\, Sunapee\, NH\, 03782-2925\, United States
CATEGORIES:Sunapee Harbor
ATTACH;FMTTYPE=image/png:https://projectsunapee.org/wp-content/uploads/2026/03/2024-SFM-yard-signs-final-Saturdays-scaled-e1773152178994.png
ORGANIZER;CN="Project Sunapee":MAILTO:info@projectsunapee.org
END:VEVENT
BEGIN:VEVENT
DTSTART;TZID=America/New_York:20260712T113000
DTEND;TZID=America/New_York:20260712T133000
DTSTAMP:20260425T185606
CREATED:20260322T170154Z
LAST-MODIFIED:20260322T171513Z
UID:10005127-1783855800-1783863000@projectsunapee.org
SUMMARY:Teddy Bear Picnic
DESCRIPTION:If you go down to Sunapee Harbor today\, you’re in for a big surprise. Bring your Teddy\, a blanket & picnic. Entertainment\, prizes & the Traditional Teddy Parade. Everyone welcome. Free. \nProject Sunapee
URL:https://projectsunapee.org/event/teddy-bear-picnic/
LOCATION:Sunapee Harbor\, Main Street\, Sunapee\, NH\, 03782-2925\, United States
CATEGORIES:Sunapee Harbor
ATTACH;FMTTYPE=image/webp:https://projectsunapee.org/wp-content/uploads/2026/03/box-tedd-bear-2026-e1774199707837.webp
ORGANIZER;CN="Project Sunapee":MAILTO:info@projectsunapee.org
END:VEVENT
BEGIN:VEVENT
DTSTART;TZID=America/New_York:20260714T180000
DTEND;TZID=America/New_York:20260714T200000
DTSTAMP:20260425T185606
CREATED:20260312T175732Z
LAST-MODIFIED:20260312T175840Z
UID:10005110-1784052000-1784059200@projectsunapee.org
SUMMARY:Musical Dinner Cruise
DESCRIPTION:Join Opera North for an intimate 2-hour\, buffet dinner cruise on Lake Sunapee. As you enjoy a delicious meal and the stunning scenery on a summer evening\, your guide will point out key sites\, like John Hays’ The Fells\, on our “epic journey” (in keeping with our Summerfest 2026 theme) through the lake’s history. \nThe highlight of the evening is a serenade of songs sung by some of our Summerfest 2026 Resident Artists\, accompanied by Evans Haile. Voices drift across the water\, rippling into a gorgeous summer sunset — it’s an experience like no other\, which is why we always sell out. This year we’re limiting attendance to 65 to ensure everyone’s comfort on the boat. \nMake your reservation today — and start looking forward to summer! \nTuesday\, July 14 \n6pm departure\, 8pm return \nSunapee Cruises\, 1 Lake Ave\, Sunapee\, NH \nTickets: $125 per person\nPURCHASE TICKETS \n(includes served dinner and one drink ticket) \nCash bar
URL:https://projectsunapee.org/event/musical-dinner-cruise/
LOCATION:Sunapee Cruises\, Sunapee
CATEGORIES:Sunapee Harbor
ATTACH;FMTTYPE=image/webp:https://projectsunapee.org/wp-content/uploads/2026/03/SunapeeCruise-e1773338246560.webp
END:VEVENT
BEGIN:VEVENT
DTSTART;TZID=America/New_York:20260715T173000
DTEND;TZID=America/New_York:20260715T183000
DTSTAMP:20260425T185606
CREATED:20250904T204506Z
LAST-MODIFIED:20260114T174025Z
UID:10000122-1784136600-1784140200@projectsunapee.org
SUMMARY:Flow & Glow Yoga
DESCRIPTION:These vinyasa flow classes are designed to build flexibility\, stability\, strength\, balance\, focus and connect to self. We’ll link breath with flowing movements. All levels are welcome\, variations will be demonstrated. Beginner students will flow gently into modified postures and seasoned students can choose more advanced options. Class-goers will meet themselves on the mat\, free of judgment and full of acceptance. \n1 hour / $15
URL:https://projectsunapee.org/event/flow-glow-yoga/2026-07-15/
LOCATION:The Livery\, 58 Main Street\, Sunapee\, NH\, 03782-2925\, United States
CATEGORIES:Sunapee Harbor
ATTACH;FMTTYPE=image/webp:https://projectsunapee.org/wp-content/uploads/2025/10/yoga-livery.webp
END:VEVENT
BEGIN:VEVENT
DTSTART;TZID=America/New_York:20260716T190000
DTEND;TZID=America/New_York:20260716T203000
DTSTAMP:20260425T185606
CREATED:20260410T162824Z
LAST-MODIFIED:20260410T162824Z
UID:10005224-1784228400-1784233800@projectsunapee.org
SUMMARY:Life in Sunapee at the time of the American Revolution
DESCRIPTION:Becky Rylander and Barbara Chalmers will explore the lives of our first settlers as they carved our town out of the wilderness. \nAll events are free and at the Flanders-Osborne Museum in Sunapee Harbor unless noted otherwise.
URL:https://projectsunapee.org/event/life-in-sunapee-at-the-time-of-the-american-revolution/
LOCATION:Flanders-Osborne Museum\, 74 Main Street\, Sunapee\, NH\, 03782
CATEGORIES:Sunapee Harbor
ATTACH;FMTTYPE=image/jpeg:https://projectsunapee.org/wp-content/uploads/2025/09/thumbnail_Harbor-Flanders-house-labeled.jpg
ORGANIZER;CN="Sunapee Historical Society":MAILTO:sunapeehistory@gmail.com
END:VEVENT
BEGIN:VEVENT
DTSTART;TZID=America/New_York:20260718T080000
DTEND;TZID=America/New_York:20260718T090000
DTSTAMP:20260425T185606
CREATED:20251015T173911Z
LAST-MODIFIED:20260114T173926Z
UID:10001261-1784361600-1784365200@projectsunapee.org
SUMMARY:Flow & Glow Yoga
DESCRIPTION:These vinyasa flow classes are designed to build flexibility\, stability\, strength\, balance\, focus and connect to self. We’ll link breath with flowing movements. All levels are welcome\, variations will be demonstrated. Beginner students will flow gently into modified postures and seasoned students can choose more advanced options. Class-goers will meet themselves on the mat\, free of judgment and full of acceptance. \n1 hour / $15
URL:https://projectsunapee.org/event/flow-glow-yoga-2/2026-07-18/
LOCATION:The Livery\, 58 Main Street\, Sunapee\, NH\, 03782-2925\, United States
CATEGORIES:Sunapee Harbor
ATTACH;FMTTYPE=image/webp:https://projectsunapee.org/wp-content/uploads/2025/10/yoga-livery.webp
END:VEVENT
BEGIN:VEVENT
DTSTART;TZID=America/New_York:20260718T090000
DTEND;TZID=America/New_York:20260718T120000
DTSTAMP:20260425T185606
CREATED:20260310T141747Z
LAST-MODIFIED:20260310T142052Z
UID:10005038-1784365200-1784376000@projectsunapee.org
SUMMARY:Sunapee Farmers Market
DESCRIPTION:Welcome to the Sunapee Farmers Market sponsored by Project Sunapee. Summer 2026 will be our sixth market year in historic Sunapee Harbor. Come join our vibrant market community in the summer enclave of Sunapee. \nOur vendors sell only items grown\, raised\, baked\, created\, or prepared within 75 miles of Sunapee. Our farm vendors offer their own fresh fruits and vegetables\, cheeses\, meats\, eggs\, honey and maple syrup. You’ll find all manner of baked goods\, sweet and savory\, from our prepared food vendors. There are items to stock your pantry\, like jams\, mustards and sauces. Each week we have a new artisan to offer a rich assortment of pottery\, jewelry\, wooden bowls\, and much more. \nThe market is sponsored by a nonprofit organization\, Project Sunapee. Project Sunapee is dedicated to the wellbeing of the Town of Sunapee by strengthening the sense of community\, encouraging economic vitality\, fostering education\, and supporting the preservation of the cultural\, historic\, and scenic assets of our community. The Sunapee Farmers’ Market was established for the purpose of providing a sales outlet for local farmers\, craftspeople\, bakers and producers of prepared foods. \nThe Sunapee Farmers Market is operated by the Sunapee Farmers’ Market Committee. \nContact us at farmersmarket@projectsunapee.org
URL:https://projectsunapee.org/event/sunapee-farmers-market/2026-07-18/
LOCATION:Sunapee Harbor\, Main Street\, Sunapee\, NH\, 03782-2925\, United States
CATEGORIES:Sunapee Harbor
ATTACH;FMTTYPE=image/png:https://projectsunapee.org/wp-content/uploads/2026/03/2024-SFM-yard-signs-final-Saturdays-scaled-e1773152178994.png
ORGANIZER;CN="Project Sunapee":MAILTO:info@projectsunapee.org
END:VEVENT
BEGIN:VEVENT
DTSTART;TZID=America/New_York:20260718T173000
DTEND;TZID=America/New_York:20260718T203000
DTSTAMP:20260425T185606
CREATED:20260410T145817Z
LAST-MODIFIED:20260410T150323Z
UID:10005214-1784395800-1784406600@projectsunapee.org
SUMMARY:Live Music at The Landing
DESCRIPTION:FREE MUSIC CONCERTS AT THE LANDING\n72 Main Street\, Sunapee Harbor \n6/6 BACCHUS\n6/11 – JD & THE STONE MASONS\n6/20 – GULLY BOYS\n7/04 – VINCENT KING*\n7/18 – TOTAN’S TRANGERSE MASONS\n8/01 – 90 PROOF*\n8/22 – CONNIPTION FITS*
URL:https://projectsunapee.org/event/bacchus-at-the-landing/2026-07-18/
LOCATION:The Landing\, 72 Main Street\, Sunapee\, NH\, 03782
CATEGORIES:Sunapee Harbor
ATTACH;FMTTYPE=image/webp:https://projectsunapee.org/wp-content/uploads/2026/04/OhUM4tVJe56O-Summer-Music-visitsunapeeharbor.com-4-e1775832786417.webp
END:VEVENT
BEGIN:VEVENT
DTSTART;TZID=America/New_York:20260722T173000
DTEND;TZID=America/New_York:20260722T183000
DTSTAMP:20260425T185606
CREATED:20250904T204506Z
LAST-MODIFIED:20260114T174025Z
UID:10000123-1784741400-1784745000@projectsunapee.org
SUMMARY:Flow & Glow Yoga
DESCRIPTION:These vinyasa flow classes are designed to build flexibility\, stability\, strength\, balance\, focus and connect to self. We’ll link breath with flowing movements. All levels are welcome\, variations will be demonstrated. Beginner students will flow gently into modified postures and seasoned students can choose more advanced options. Class-goers will meet themselves on the mat\, free of judgment and full of acceptance. \n1 hour / $15
URL:https://projectsunapee.org/event/flow-glow-yoga/2026-07-22/
LOCATION:The Livery\, 58 Main Street\, Sunapee\, NH\, 03782-2925\, United States
CATEGORIES:Sunapee Harbor
ATTACH;FMTTYPE=image/webp:https://projectsunapee.org/wp-content/uploads/2025/10/yoga-livery.webp
END:VEVENT
BEGIN:VEVENT
DTSTART;TZID=America/New_York:20260723T180000
DTEND;TZID=America/New_York:20260723T200000
DTSTAMP:20260425T185606
CREATED:20260224T113543Z
LAST-MODIFIED:20260224T113800Z
UID:10004901-1784829600-1784836800@projectsunapee.org
SUMMARY:Trivia at Hoptimystic Brewing
DESCRIPTION:Thursdays are for trivia and happy hour! \nGrab a seat\, fuel up with some seriously delicious food from Fenton’s Landing\, and get ready to test your trivia skills. Seats will go fast so arrive early to claim your spot!
URL:https://projectsunapee.org/event/trivia-at-hoptimystic-brewing-2/2026-07-23/
LOCATION:Hoptimystic Brewery\, 31 River Road\, Sunapee\, NH\, 03782
CATEGORIES:Sunapee Harbor
ATTACH;FMTTYPE=image/webp:https://projectsunapee.org/wp-content/uploads/2026/02/oeop1zoxxo1g-IMG_4781.webp
ORGANIZER;CN="Hoptimystic Brewing":MAILTO:hoptimysticbrewingNH@gmail.com
END:VEVENT
BEGIN:VEVENT
DTSTART;TZID=America/New_York:20260723T190000
DTEND;TZID=America/New_York:20260723T203000
DTSTAMP:20260425T185606
CREATED:20260410T163120Z
LAST-MODIFIED:20260410T163201Z
UID:10005225-1784833200-1784838600@projectsunapee.org
SUMMARY:Redcoats and Rebels
DESCRIPTION:Mary Adams\, from NH Historical Society\, will tell the story of New Hampshire’s often unsung contributions to our independence. \nAll events are free and at the Flanders-Osborne Museum in Sunapee Harbor unless noted otherwise. \nNew Hampshire often gets overlooked in the narrative of the American Revolution\, overshadowed by its noisy neighbor to the south. Nowadays\, few people know about Paul Revere’s first ride\, which was to Portsmouth in December 1774 to warn the patriots that the British were coming to reinforce Fort William and Mary\, five months before the Redcoats marched on Concord and Lexington. Nor do they know that two-thirds of the troops at the Battle of Bunker Hill were from New Hampshire. Most people are also unaware that New Hampshire’s Provincial Congress adopted the first state constitution in January 1776\, making no mention of royal authority and essentially declaring independence from Great Britain six months before anyone else. And this is just the beginning of New Hampshire’s revolutionary story. \nSponsored by NH Humanities
URL:https://projectsunapee.org/event/redcoats-and-rebels/
LOCATION:Flanders-Osborne Museum\, 74 Main Street\, Sunapee\, NH\, 03782
CATEGORIES:Sunapee Harbor
ATTACH;FMTTYPE=image/webp:https://projectsunapee.org/wp-content/uploads/2026/04/GSS-AmRev-graphic-e1770494283668.webp
ORGANIZER;CN="Sunapee Historical Society":MAILTO:sunapeehistory@gmail.com
END:VEVENT
BEGIN:VEVENT
DTSTART;TZID=America/New_York:20260725T080000
DTEND;TZID=America/New_York:20260725T090000
DTSTAMP:20260425T185606
CREATED:20251015T173911Z
LAST-MODIFIED:20260114T173926Z
UID:10001262-1784966400-1784970000@projectsunapee.org
SUMMARY:Flow & Glow Yoga
DESCRIPTION:These vinyasa flow classes are designed to build flexibility\, stability\, strength\, balance\, focus and connect to self. We’ll link breath with flowing movements. All levels are welcome\, variations will be demonstrated. Beginner students will flow gently into modified postures and seasoned students can choose more advanced options. Class-goers will meet themselves on the mat\, free of judgment and full of acceptance. \n1 hour / $15
URL:https://projectsunapee.org/event/flow-glow-yoga-2/2026-07-25/
LOCATION:The Livery\, 58 Main Street\, Sunapee\, NH\, 03782-2925\, United States
CATEGORIES:Sunapee Harbor
ATTACH;FMTTYPE=image/webp:https://projectsunapee.org/wp-content/uploads/2025/10/yoga-livery.webp
END:VEVENT
BEGIN:VEVENT
DTSTART;TZID=America/New_York:20260725T090000
DTEND;TZID=America/New_York:20260725T120000
DTSTAMP:20260425T185606
CREATED:20260310T141747Z
LAST-MODIFIED:20260310T142052Z
UID:10005039-1784970000-1784980800@projectsunapee.org
SUMMARY:Sunapee Farmers Market
DESCRIPTION:Welcome to the Sunapee Farmers Market sponsored by Project Sunapee. Summer 2026 will be our sixth market year in historic Sunapee Harbor. Come join our vibrant market community in the summer enclave of Sunapee. \nOur vendors sell only items grown\, raised\, baked\, created\, or prepared within 75 miles of Sunapee. Our farm vendors offer their own fresh fruits and vegetables\, cheeses\, meats\, eggs\, honey and maple syrup. You’ll find all manner of baked goods\, sweet and savory\, from our prepared food vendors. There are items to stock your pantry\, like jams\, mustards and sauces. Each week we have a new artisan to offer a rich assortment of pottery\, jewelry\, wooden bowls\, and much more. \nThe market is sponsored by a nonprofit organization\, Project Sunapee. Project Sunapee is dedicated to the wellbeing of the Town of Sunapee by strengthening the sense of community\, encouraging economic vitality\, fostering education\, and supporting the preservation of the cultural\, historic\, and scenic assets of our community. The Sunapee Farmers’ Market was established for the purpose of providing a sales outlet for local farmers\, craftspeople\, bakers and producers of prepared foods. \nThe Sunapee Farmers Market is operated by the Sunapee Farmers’ Market Committee. \nContact us at farmersmarket@projectsunapee.org
URL:https://projectsunapee.org/event/sunapee-farmers-market/2026-07-25/
LOCATION:Sunapee Harbor\, Main Street\, Sunapee\, NH\, 03782-2925\, United States
CATEGORIES:Sunapee Harbor
ATTACH;FMTTYPE=image/png:https://projectsunapee.org/wp-content/uploads/2026/03/2024-SFM-yard-signs-final-Saturdays-scaled-e1773152178994.png
ORGANIZER;CN="Project Sunapee":MAILTO:info@projectsunapee.org
END:VEVENT
BEGIN:VEVENT
DTSTART;TZID=America/New_York:20260729T173000
DTEND;TZID=America/New_York:20260729T183000
DTSTAMP:20260425T185606
CREATED:20250904T204506Z
LAST-MODIFIED:20260114T174025Z
UID:10000124-1785346200-1785349800@projectsunapee.org
SUMMARY:Flow & Glow Yoga
DESCRIPTION:These vinyasa flow classes are designed to build flexibility\, stability\, strength\, balance\, focus and connect to self. We’ll link breath with flowing movements. All levels are welcome\, variations will be demonstrated. Beginner students will flow gently into modified postures and seasoned students can choose more advanced options. Class-goers will meet themselves on the mat\, free of judgment and full of acceptance. \n1 hour / $15
URL:https://projectsunapee.org/event/flow-glow-yoga/2026-07-29/
LOCATION:The Livery\, 58 Main Street\, Sunapee\, NH\, 03782-2925\, United States
CATEGORIES:Sunapee Harbor
ATTACH;FMTTYPE=image/webp:https://projectsunapee.org/wp-content/uploads/2025/10/yoga-livery.webp
END:VEVENT
END:VCALENDAR