BEGIN:VCALENDAR
VERSION:2.0
PRODID:-//Project Sunapee - ECPv6.15.20//NONSGML v1.0//EN
CALSCALE:GREGORIAN
METHOD:PUBLISH
X-ORIGINAL-URL:https://projectsunapee.org
X-WR-CALDESC:Events for Project Sunapee
REFRESH-INTERVAL;VALUE=DURATION:PT1H
X-Robots-Tag:noindex
X-PUBLISHED-TTL:PT1H
BEGIN:VTIMEZONE
TZID:America/New_York
BEGIN:DAYLIGHT
TZOFFSETFROM:-0500
TZOFFSETTO:-0400
TZNAME:EDT
DTSTART:20250309T070000
END:DAYLIGHT
BEGIN:STANDARD
TZOFFSETFROM:-0400
TZOFFSETTO:-0500
TZNAME:EST
DTSTART:20251102T060000
END:STANDARD
BEGIN:DAYLIGHT
TZOFFSETFROM:-0500
TZOFFSETTO:-0400
TZNAME:EDT
DTSTART:20260308T070000
END:DAYLIGHT
BEGIN:STANDARD
TZOFFSETFROM:-0400
TZOFFSETTO:-0500
TZNAME:EST
DTSTART:20261101T060000
END:STANDARD
BEGIN:DAYLIGHT
TZOFFSETFROM:-0500
TZOFFSETTO:-0400
TZNAME:EDT
DTSTART:20270314T070000
END:DAYLIGHT
BEGIN:STANDARD
TZOFFSETFROM:-0400
TZOFFSETTO:-0500
TZNAME:EST
DTSTART:20271107T060000
END:STANDARD
END:VTIMEZONE
BEGIN:VEVENT
DTSTART;TZID=America/New_York:20260902T173000
DTEND;TZID=America/New_York:20260902T183000
DTSTAMP:20260425T212946
CREATED:20250904T204506Z
LAST-MODIFIED:20260114T174025Z
UID:10000129-1788370200-1788373800@projectsunapee.org
SUMMARY:Flow & Glow Yoga
DESCRIPTION:These vinyasa flow classes are designed to build flexibility\, stability\, strength\, balance\, focus and connect to self. We’ll link breath with flowing movements. All levels are welcome\, variations will be demonstrated. Beginner students will flow gently into modified postures and seasoned students can choose more advanced options. Class-goers will meet themselves on the mat\, free of judgment and full of acceptance. \n1 hour / $15
URL:https://projectsunapee.org/event/flow-glow-yoga/2026-09-02/
LOCATION:The Livery\, 58 Main Street\, Sunapee\, NH\, 03782-2925\, United States
CATEGORIES:Sunapee Harbor
ATTACH;FMTTYPE=image/webp:https://projectsunapee.org/wp-content/uploads/2025/10/yoga-livery.webp
END:VEVENT
BEGIN:VEVENT
DTSTART;TZID=America/New_York:20260903T180000
DTEND;TZID=America/New_York:20260903T200000
DTSTAMP:20260425T212946
CREATED:20260224T113543Z
LAST-MODIFIED:20260224T113800Z
UID:10004904-1788458400-1788465600@projectsunapee.org
SUMMARY:Trivia at Hoptimystic Brewing
DESCRIPTION:Thursdays are for trivia and happy hour! \nGrab a seat\, fuel up with some seriously delicious food from Fenton’s Landing\, and get ready to test your trivia skills. Seats will go fast so arrive early to claim your spot!
URL:https://projectsunapee.org/event/trivia-at-hoptimystic-brewing-2/2026-09-03/
LOCATION:Hoptimystic Brewery\, 31 River Road\, Sunapee\, NH\, 03782
CATEGORIES:Sunapee Harbor
ATTACH;FMTTYPE=image/webp:https://projectsunapee.org/wp-content/uploads/2026/02/oeop1zoxxo1g-IMG_4781.webp
ORGANIZER;CN="Hoptimystic Brewing":MAILTO:hoptimysticbrewingNH@gmail.com
END:VEVENT
BEGIN:VEVENT
DTSTART;TZID=America/New_York:20260905T080000
DTEND;TZID=America/New_York:20260905T090000
DTSTAMP:20260425T212946
CREATED:20251015T173911Z
LAST-MODIFIED:20260114T173926Z
UID:10001268-1788595200-1788598800@projectsunapee.org
SUMMARY:Flow & Glow Yoga
DESCRIPTION:These vinyasa flow classes are designed to build flexibility\, stability\, strength\, balance\, focus and connect to self. We’ll link breath with flowing movements. All levels are welcome\, variations will be demonstrated. Beginner students will flow gently into modified postures and seasoned students can choose more advanced options. Class-goers will meet themselves on the mat\, free of judgment and full of acceptance. \n1 hour / $15
URL:https://projectsunapee.org/event/flow-glow-yoga-2/2026-09-05/
LOCATION:The Livery\, 58 Main Street\, Sunapee\, NH\, 03782-2925\, United States
CATEGORIES:Sunapee Harbor
ATTACH;FMTTYPE=image/webp:https://projectsunapee.org/wp-content/uploads/2025/10/yoga-livery.webp
END:VEVENT
BEGIN:VEVENT
DTSTART;TZID=America/New_York:20260905T090000
DTEND;TZID=America/New_York:20260905T120000
DTSTAMP:20260425T212946
CREATED:20260310T141747Z
LAST-MODIFIED:20260310T142052Z
UID:10005045-1788598800-1788609600@projectsunapee.org
SUMMARY:Sunapee Farmers Market
DESCRIPTION:Welcome to the Sunapee Farmers Market sponsored by Project Sunapee. Summer 2026 will be our sixth market year in historic Sunapee Harbor. Come join our vibrant market community in the summer enclave of Sunapee. \nOur vendors sell only items grown\, raised\, baked\, created\, or prepared within 75 miles of Sunapee. Our farm vendors offer their own fresh fruits and vegetables\, cheeses\, meats\, eggs\, honey and maple syrup. You’ll find all manner of baked goods\, sweet and savory\, from our prepared food vendors. There are items to stock your pantry\, like jams\, mustards and sauces. Each week we have a new artisan to offer a rich assortment of pottery\, jewelry\, wooden bowls\, and much more. \nThe market is sponsored by a nonprofit organization\, Project Sunapee. Project Sunapee is dedicated to the wellbeing of the Town of Sunapee by strengthening the sense of community\, encouraging economic vitality\, fostering education\, and supporting the preservation of the cultural\, historic\, and scenic assets of our community. The Sunapee Farmers’ Market was established for the purpose of providing a sales outlet for local farmers\, craftspeople\, bakers and producers of prepared foods. \nThe Sunapee Farmers Market is operated by the Sunapee Farmers’ Market Committee. \nContact us at farmersmarket@projectsunapee.org
URL:https://projectsunapee.org/event/sunapee-farmers-market/2026-09-05/
LOCATION:Sunapee Harbor\, Main Street\, Sunapee\, NH\, 03782-2925\, United States
CATEGORIES:Sunapee Harbor
ATTACH;FMTTYPE=image/png:https://projectsunapee.org/wp-content/uploads/2026/03/2024-SFM-yard-signs-final-Saturdays-scaled-e1773152178994.png
ORGANIZER;CN="Project Sunapee":MAILTO:info@projectsunapee.org
END:VEVENT
BEGIN:VEVENT
DTSTART;TZID=America/New_York:20260909T173000
DTEND;TZID=America/New_York:20260909T183000
DTSTAMP:20260425T212946
CREATED:20250904T204506Z
LAST-MODIFIED:20260114T174025Z
UID:10000130-1788975000-1788978600@projectsunapee.org
SUMMARY:Flow & Glow Yoga
DESCRIPTION:These vinyasa flow classes are designed to build flexibility\, stability\, strength\, balance\, focus and connect to self. We’ll link breath with flowing movements. All levels are welcome\, variations will be demonstrated. Beginner students will flow gently into modified postures and seasoned students can choose more advanced options. Class-goers will meet themselves on the mat\, free of judgment and full of acceptance. \n1 hour / $15
URL:https://projectsunapee.org/event/flow-glow-yoga/2026-09-09/
LOCATION:The Livery\, 58 Main Street\, Sunapee\, NH\, 03782-2925\, United States
CATEGORIES:Sunapee Harbor
ATTACH;FMTTYPE=image/webp:https://projectsunapee.org/wp-content/uploads/2025/10/yoga-livery.webp
END:VEVENT
BEGIN:VEVENT
DTSTART;TZID=America/New_York:20260912T080000
DTEND;TZID=America/New_York:20260912T090000
DTSTAMP:20260425T212946
CREATED:20251015T173911Z
LAST-MODIFIED:20260114T173926Z
UID:10001269-1789200000-1789203600@projectsunapee.org
SUMMARY:Flow & Glow Yoga
DESCRIPTION:These vinyasa flow classes are designed to build flexibility\, stability\, strength\, balance\, focus and connect to self. We’ll link breath with flowing movements. All levels are welcome\, variations will be demonstrated. Beginner students will flow gently into modified postures and seasoned students can choose more advanced options. Class-goers will meet themselves on the mat\, free of judgment and full of acceptance. \n1 hour / $15
URL:https://projectsunapee.org/event/flow-glow-yoga-2/2026-09-12/
LOCATION:The Livery\, 58 Main Street\, Sunapee\, NH\, 03782-2925\, United States
CATEGORIES:Sunapee Harbor
ATTACH;FMTTYPE=image/webp:https://projectsunapee.org/wp-content/uploads/2025/10/yoga-livery.webp
END:VEVENT
BEGIN:VEVENT
DTSTART;TZID=America/New_York:20260912T090000
DTEND;TZID=America/New_York:20260912T120000
DTSTAMP:20260425T212946
CREATED:20260310T141747Z
LAST-MODIFIED:20260310T142052Z
UID:10005046-1789203600-1789214400@projectsunapee.org
SUMMARY:Sunapee Farmers Market
DESCRIPTION:Welcome to the Sunapee Farmers Market sponsored by Project Sunapee. Summer 2026 will be our sixth market year in historic Sunapee Harbor. Come join our vibrant market community in the summer enclave of Sunapee. \nOur vendors sell only items grown\, raised\, baked\, created\, or prepared within 75 miles of Sunapee. Our farm vendors offer their own fresh fruits and vegetables\, cheeses\, meats\, eggs\, honey and maple syrup. You’ll find all manner of baked goods\, sweet and savory\, from our prepared food vendors. There are items to stock your pantry\, like jams\, mustards and sauces. Each week we have a new artisan to offer a rich assortment of pottery\, jewelry\, wooden bowls\, and much more. \nThe market is sponsored by a nonprofit organization\, Project Sunapee. Project Sunapee is dedicated to the wellbeing of the Town of Sunapee by strengthening the sense of community\, encouraging economic vitality\, fostering education\, and supporting the preservation of the cultural\, historic\, and scenic assets of our community. The Sunapee Farmers’ Market was established for the purpose of providing a sales outlet for local farmers\, craftspeople\, bakers and producers of prepared foods. \nThe Sunapee Farmers Market is operated by the Sunapee Farmers’ Market Committee. \nContact us at farmersmarket@projectsunapee.org
URL:https://projectsunapee.org/event/sunapee-farmers-market/2026-09-12/
LOCATION:Sunapee Harbor\, Main Street\, Sunapee\, NH\, 03782-2925\, United States
CATEGORIES:Sunapee Harbor
ATTACH;FMTTYPE=image/png:https://projectsunapee.org/wp-content/uploads/2026/03/2024-SFM-yard-signs-final-Saturdays-scaled-e1773152178994.png
ORGANIZER;CN="Project Sunapee":MAILTO:info@projectsunapee.org
END:VEVENT
BEGIN:VEVENT
DTSTART;TZID=America/New_York:20260916T173000
DTEND;TZID=America/New_York:20260916T183000
DTSTAMP:20260425T212946
CREATED:20250904T204506Z
LAST-MODIFIED:20260114T174025Z
UID:10000131-1789579800-1789583400@projectsunapee.org
SUMMARY:Flow & Glow Yoga
DESCRIPTION:These vinyasa flow classes are designed to build flexibility\, stability\, strength\, balance\, focus and connect to self. We’ll link breath with flowing movements. All levels are welcome\, variations will be demonstrated. Beginner students will flow gently into modified postures and seasoned students can choose more advanced options. Class-goers will meet themselves on the mat\, free of judgment and full of acceptance. \n1 hour / $15
URL:https://projectsunapee.org/event/flow-glow-yoga/2026-09-16/
LOCATION:The Livery\, 58 Main Street\, Sunapee\, NH\, 03782-2925\, United States
CATEGORIES:Sunapee Harbor
ATTACH;FMTTYPE=image/webp:https://projectsunapee.org/wp-content/uploads/2025/10/yoga-livery.webp
END:VEVENT
BEGIN:VEVENT
DTSTART;TZID=America/New_York:20260917T180000
DTEND;TZID=America/New_York:20260917T200000
DTSTAMP:20260425T212946
CREATED:20260224T113543Z
LAST-MODIFIED:20260224T113800Z
UID:10004905-1789668000-1789675200@projectsunapee.org
SUMMARY:Trivia at Hoptimystic Brewing
DESCRIPTION:Thursdays are for trivia and happy hour! \nGrab a seat\, fuel up with some seriously delicious food from Fenton’s Landing\, and get ready to test your trivia skills. Seats will go fast so arrive early to claim your spot!
URL:https://projectsunapee.org/event/trivia-at-hoptimystic-brewing-2/2026-09-17/
LOCATION:Hoptimystic Brewery\, 31 River Road\, Sunapee\, NH\, 03782
CATEGORIES:Sunapee Harbor
ATTACH;FMTTYPE=image/webp:https://projectsunapee.org/wp-content/uploads/2026/02/oeop1zoxxo1g-IMG_4781.webp
ORGANIZER;CN="Hoptimystic Brewing":MAILTO:hoptimysticbrewingNH@gmail.com
END:VEVENT
BEGIN:VEVENT
DTSTART;TZID=America/New_York:20260919T080000
DTEND;TZID=America/New_York:20260919T090000
DTSTAMP:20260425T212946
CREATED:20251015T173911Z
LAST-MODIFIED:20260114T173926Z
UID:10001270-1789804800-1789808400@projectsunapee.org
SUMMARY:Flow & Glow Yoga
DESCRIPTION:These vinyasa flow classes are designed to build flexibility\, stability\, strength\, balance\, focus and connect to self. We’ll link breath with flowing movements. All levels are welcome\, variations will be demonstrated. Beginner students will flow gently into modified postures and seasoned students can choose more advanced options. Class-goers will meet themselves on the mat\, free of judgment and full of acceptance. \n1 hour / $15
URL:https://projectsunapee.org/event/flow-glow-yoga-2/2026-09-19/
LOCATION:The Livery\, 58 Main Street\, Sunapee\, NH\, 03782-2925\, United States
CATEGORIES:Sunapee Harbor
ATTACH;FMTTYPE=image/webp:https://projectsunapee.org/wp-content/uploads/2025/10/yoga-livery.webp
END:VEVENT
BEGIN:VEVENT
DTSTART;TZID=America/New_York:20260919T090000
DTEND;TZID=America/New_York:20260919T120000
DTSTAMP:20260425T212946
CREATED:20260310T141747Z
LAST-MODIFIED:20260310T142052Z
UID:10005047-1789808400-1789819200@projectsunapee.org
SUMMARY:Sunapee Farmers Market
DESCRIPTION:Welcome to the Sunapee Farmers Market sponsored by Project Sunapee. Summer 2026 will be our sixth market year in historic Sunapee Harbor. Come join our vibrant market community in the summer enclave of Sunapee. \nOur vendors sell only items grown\, raised\, baked\, created\, or prepared within 75 miles of Sunapee. Our farm vendors offer their own fresh fruits and vegetables\, cheeses\, meats\, eggs\, honey and maple syrup. You’ll find all manner of baked goods\, sweet and savory\, from our prepared food vendors. There are items to stock your pantry\, like jams\, mustards and sauces. Each week we have a new artisan to offer a rich assortment of pottery\, jewelry\, wooden bowls\, and much more. \nThe market is sponsored by a nonprofit organization\, Project Sunapee. Project Sunapee is dedicated to the wellbeing of the Town of Sunapee by strengthening the sense of community\, encouraging economic vitality\, fostering education\, and supporting the preservation of the cultural\, historic\, and scenic assets of our community. The Sunapee Farmers’ Market was established for the purpose of providing a sales outlet for local farmers\, craftspeople\, bakers and producers of prepared foods. \nThe Sunapee Farmers Market is operated by the Sunapee Farmers’ Market Committee. \nContact us at farmersmarket@projectsunapee.org
URL:https://projectsunapee.org/event/sunapee-farmers-market/2026-09-19/
LOCATION:Sunapee Harbor\, Main Street\, Sunapee\, NH\, 03782-2925\, United States
CATEGORIES:Sunapee Harbor
ATTACH;FMTTYPE=image/png:https://projectsunapee.org/wp-content/uploads/2026/03/2024-SFM-yard-signs-final-Saturdays-scaled-e1773152178994.png
ORGANIZER;CN="Project Sunapee":MAILTO:info@projectsunapee.org
END:VEVENT
BEGIN:VEVENT
DTSTART;TZID=America/New_York:20260923T173000
DTEND;TZID=America/New_York:20260923T183000
DTSTAMP:20260425T212946
CREATED:20250904T204506Z
LAST-MODIFIED:20260114T174025Z
UID:10000132-1790184600-1790188200@projectsunapee.org
SUMMARY:Flow & Glow Yoga
DESCRIPTION:These vinyasa flow classes are designed to build flexibility\, stability\, strength\, balance\, focus and connect to self. We’ll link breath with flowing movements. All levels are welcome\, variations will be demonstrated. Beginner students will flow gently into modified postures and seasoned students can choose more advanced options. Class-goers will meet themselves on the mat\, free of judgment and full of acceptance. \n1 hour / $15
URL:https://projectsunapee.org/event/flow-glow-yoga/2026-09-23/
LOCATION:The Livery\, 58 Main Street\, Sunapee\, NH\, 03782-2925\, United States
CATEGORIES:Sunapee Harbor
ATTACH;FMTTYPE=image/webp:https://projectsunapee.org/wp-content/uploads/2025/10/yoga-livery.webp
END:VEVENT
BEGIN:VEVENT
DTSTART;TZID=America/New_York:20260926T080000
DTEND;TZID=America/New_York:20260926T090000
DTSTAMP:20260425T212946
CREATED:20251015T173911Z
LAST-MODIFIED:20260114T173926Z
UID:10001271-1790409600-1790413200@projectsunapee.org
SUMMARY:Flow & Glow Yoga
DESCRIPTION:These vinyasa flow classes are designed to build flexibility\, stability\, strength\, balance\, focus and connect to self. We’ll link breath with flowing movements. All levels are welcome\, variations will be demonstrated. Beginner students will flow gently into modified postures and seasoned students can choose more advanced options. Class-goers will meet themselves on the mat\, free of judgment and full of acceptance. \n1 hour / $15
URL:https://projectsunapee.org/event/flow-glow-yoga-2/2026-09-26/
LOCATION:The Livery\, 58 Main Street\, Sunapee\, NH\, 03782-2925\, United States
CATEGORIES:Sunapee Harbor
ATTACH;FMTTYPE=image/webp:https://projectsunapee.org/wp-content/uploads/2025/10/yoga-livery.webp
END:VEVENT
BEGIN:VEVENT
DTSTART;TZID=America/New_York:20260926T090000
DTEND;TZID=America/New_York:20260926T120000
DTSTAMP:20260425T212946
CREATED:20260310T141747Z
LAST-MODIFIED:20260310T142052Z
UID:10005048-1790413200-1790424000@projectsunapee.org
SUMMARY:Sunapee Farmers Market
DESCRIPTION:Welcome to the Sunapee Farmers Market sponsored by Project Sunapee. Summer 2026 will be our sixth market year in historic Sunapee Harbor. Come join our vibrant market community in the summer enclave of Sunapee. \nOur vendors sell only items grown\, raised\, baked\, created\, or prepared within 75 miles of Sunapee. Our farm vendors offer their own fresh fruits and vegetables\, cheeses\, meats\, eggs\, honey and maple syrup. You’ll find all manner of baked goods\, sweet and savory\, from our prepared food vendors. There are items to stock your pantry\, like jams\, mustards and sauces. Each week we have a new artisan to offer a rich assortment of pottery\, jewelry\, wooden bowls\, and much more. \nThe market is sponsored by a nonprofit organization\, Project Sunapee. Project Sunapee is dedicated to the wellbeing of the Town of Sunapee by strengthening the sense of community\, encouraging economic vitality\, fostering education\, and supporting the preservation of the cultural\, historic\, and scenic assets of our community. The Sunapee Farmers’ Market was established for the purpose of providing a sales outlet for local farmers\, craftspeople\, bakers and producers of prepared foods. \nThe Sunapee Farmers Market is operated by the Sunapee Farmers’ Market Committee. \nContact us at farmersmarket@projectsunapee.org
URL:https://projectsunapee.org/event/sunapee-farmers-market/2026-09-26/
LOCATION:Sunapee Harbor\, Main Street\, Sunapee\, NH\, 03782-2925\, United States
CATEGORIES:Sunapee Harbor
ATTACH;FMTTYPE=image/png:https://projectsunapee.org/wp-content/uploads/2026/03/2024-SFM-yard-signs-final-Saturdays-scaled-e1773152178994.png
ORGANIZER;CN="Project Sunapee":MAILTO:info@projectsunapee.org
END:VEVENT
BEGIN:VEVENT
DTSTART;TZID=America/New_York:20260926T120000
DTEND;TZID=America/New_York:20260926T200000
DTSTAMP:20260425T212946
CREATED:20260410T150528Z
LAST-MODIFIED:20260410T150528Z
UID:10005217-1790424000-1790452800@projectsunapee.org
SUMMARY:Summer Shakedown
DESCRIPTION:This event takes place at The Landing in Sunapee Harbor with multiple artistis participating!
URL:https://projectsunapee.org/event/summer-shakedown/
LOCATION:The Landing\, 72 Main Street\, Sunapee\, NH\, 03782
CATEGORIES:Sunapee Harbor
ATTACH;FMTTYPE=image/webp:https://projectsunapee.org/wp-content/uploads/2026/04/OhUM4tVJe56O-Summer-Music-visitsunapeeharbor.com-4-e1775832786417.webp
END:VEVENT
BEGIN:VEVENT
DTSTART;TZID=America/New_York:20260930T173000
DTEND;TZID=America/New_York:20260930T183000
DTSTAMP:20260425T212946
CREATED:20250904T204506Z
LAST-MODIFIED:20260114T174025Z
UID:10000133-1790789400-1790793000@projectsunapee.org
SUMMARY:Flow & Glow Yoga
DESCRIPTION:These vinyasa flow classes are designed to build flexibility\, stability\, strength\, balance\, focus and connect to self. We’ll link breath with flowing movements. All levels are welcome\, variations will be demonstrated. Beginner students will flow gently into modified postures and seasoned students can choose more advanced options. Class-goers will meet themselves on the mat\, free of judgment and full of acceptance. \n1 hour / $15
URL:https://projectsunapee.org/event/flow-glow-yoga/2026-09-30/
LOCATION:The Livery\, 58 Main Street\, Sunapee\, NH\, 03782-2925\, United States
CATEGORIES:Sunapee Harbor
ATTACH;FMTTYPE=image/webp:https://projectsunapee.org/wp-content/uploads/2025/10/yoga-livery.webp
END:VEVENT
END:VCALENDAR