BEGIN:VCALENDAR
VERSION:2.0
PRODID:-//Project Sunapee - ECPv6.15.20//NONSGML v1.0//EN
CALSCALE:GREGORIAN
METHOD:PUBLISH
X-ORIGINAL-URL:https://projectsunapee.org
X-WR-CALDESC:Events for Project Sunapee
REFRESH-INTERVAL;VALUE=DURATION:PT1H
X-Robots-Tag:noindex
X-PUBLISHED-TTL:PT1H
BEGIN:VTIMEZONE
TZID:America/New_York
BEGIN:DAYLIGHT
TZOFFSETFROM:-0500
TZOFFSETTO:-0400
TZNAME:EDT
DTSTART:20250309T070000
END:DAYLIGHT
BEGIN:STANDARD
TZOFFSETFROM:-0400
TZOFFSETTO:-0500
TZNAME:EST
DTSTART:20251102T060000
END:STANDARD
BEGIN:DAYLIGHT
TZOFFSETFROM:-0500
TZOFFSETTO:-0400
TZNAME:EDT
DTSTART:20260308T070000
END:DAYLIGHT
BEGIN:STANDARD
TZOFFSETFROM:-0400
TZOFFSETTO:-0500
TZNAME:EST
DTSTART:20261101T060000
END:STANDARD
BEGIN:DAYLIGHT
TZOFFSETFROM:-0500
TZOFFSETTO:-0400
TZNAME:EDT
DTSTART:20270314T070000
END:DAYLIGHT
BEGIN:STANDARD
TZOFFSETFROM:-0400
TZOFFSETTO:-0500
TZNAME:EST
DTSTART:20271107T060000
END:STANDARD
END:VTIMEZONE
BEGIN:VEVENT
DTSTART;TZID=America/New_York:20261001T180000
DTEND;TZID=America/New_York:20261001T200000
DTSTAMP:20260426T001123
CREATED:20260224T113543Z
LAST-MODIFIED:20260224T113800Z
UID:10004906-1790877600-1790884800@projectsunapee.org
SUMMARY:Trivia at Hoptimystic Brewing
DESCRIPTION:Thursdays are for trivia and happy hour! \nGrab a seat\, fuel up with some seriously delicious food from Fenton’s Landing\, and get ready to test your trivia skills. Seats will go fast so arrive early to claim your spot!
URL:https://projectsunapee.org/event/trivia-at-hoptimystic-brewing-2/2026-10-01/
LOCATION:Hoptimystic Brewery\, 31 River Road\, Sunapee\, NH\, 03782
CATEGORIES:Sunapee Harbor
ATTACH;FMTTYPE=image/webp:https://projectsunapee.org/wp-content/uploads/2026/02/oeop1zoxxo1g-IMG_4781.webp
ORGANIZER;CN="Hoptimystic Brewing":MAILTO:hoptimysticbrewingNH@gmail.com
END:VEVENT
BEGIN:VEVENT
DTSTART;TZID=America/New_York:20261003T080000
DTEND;TZID=America/New_York:20261003T090000
DTSTAMP:20260426T001123
CREATED:20251015T173911Z
LAST-MODIFIED:20260114T173926Z
UID:10001272-1791014400-1791018000@projectsunapee.org
SUMMARY:Flow & Glow Yoga
DESCRIPTION:These vinyasa flow classes are designed to build flexibility\, stability\, strength\, balance\, focus and connect to self. We’ll link breath with flowing movements. All levels are welcome\, variations will be demonstrated. Beginner students will flow gently into modified postures and seasoned students can choose more advanced options. Class-goers will meet themselves on the mat\, free of judgment and full of acceptance. \n1 hour / $15
URL:https://projectsunapee.org/event/flow-glow-yoga-2/2026-10-03/
LOCATION:The Livery\, 58 Main Street\, Sunapee\, NH\, 03782-2925\, United States
CATEGORIES:Sunapee Harbor
ATTACH;FMTTYPE=image/webp:https://projectsunapee.org/wp-content/uploads/2025/10/yoga-livery.webp
END:VEVENT
BEGIN:VEVENT
DTSTART;TZID=America/New_York:20261003T090000
DTEND;TZID=America/New_York:20261003T120000
DTSTAMP:20260426T001123
CREATED:20260310T141747Z
LAST-MODIFIED:20260310T142052Z
UID:10005049-1791018000-1791028800@projectsunapee.org
SUMMARY:Sunapee Farmers Market
DESCRIPTION:Welcome to the Sunapee Farmers Market sponsored by Project Sunapee. Summer 2026 will be our sixth market year in historic Sunapee Harbor. Come join our vibrant market community in the summer enclave of Sunapee. \nOur vendors sell only items grown\, raised\, baked\, created\, or prepared within 75 miles of Sunapee. Our farm vendors offer their own fresh fruits and vegetables\, cheeses\, meats\, eggs\, honey and maple syrup. You’ll find all manner of baked goods\, sweet and savory\, from our prepared food vendors. There are items to stock your pantry\, like jams\, mustards and sauces. Each week we have a new artisan to offer a rich assortment of pottery\, jewelry\, wooden bowls\, and much more. \nThe market is sponsored by a nonprofit organization\, Project Sunapee. Project Sunapee is dedicated to the wellbeing of the Town of Sunapee by strengthening the sense of community\, encouraging economic vitality\, fostering education\, and supporting the preservation of the cultural\, historic\, and scenic assets of our community. The Sunapee Farmers’ Market was established for the purpose of providing a sales outlet for local farmers\, craftspeople\, bakers and producers of prepared foods. \nThe Sunapee Farmers Market is operated by the Sunapee Farmers’ Market Committee. \nContact us at farmersmarket@projectsunapee.org
URL:https://projectsunapee.org/event/sunapee-farmers-market/2026-10-03/
LOCATION:Sunapee Harbor\, Main Street\, Sunapee\, NH\, 03782-2925\, United States
CATEGORIES:Sunapee Harbor
ATTACH;FMTTYPE=image/png:https://projectsunapee.org/wp-content/uploads/2026/03/2024-SFM-yard-signs-final-Saturdays-scaled-e1773152178994.png
ORGANIZER;CN="Project Sunapee":MAILTO:info@projectsunapee.org
END:VEVENT
BEGIN:VEVENT
DTSTART;TZID=America/New_York:20261007T173000
DTEND;TZID=America/New_York:20261007T183000
DTSTAMP:20260426T001123
CREATED:20250904T204506Z
LAST-MODIFIED:20260114T174025Z
UID:10000134-1791394200-1791397800@projectsunapee.org
SUMMARY:Flow & Glow Yoga
DESCRIPTION:These vinyasa flow classes are designed to build flexibility\, stability\, strength\, balance\, focus and connect to self. We’ll link breath with flowing movements. All levels are welcome\, variations will be demonstrated. Beginner students will flow gently into modified postures and seasoned students can choose more advanced options. Class-goers will meet themselves on the mat\, free of judgment and full of acceptance. \n1 hour / $15
URL:https://projectsunapee.org/event/flow-glow-yoga/2026-10-07/
LOCATION:The Livery\, 58 Main Street\, Sunapee\, NH\, 03782-2925\, United States
CATEGORIES:Sunapee Harbor
ATTACH;FMTTYPE=image/webp:https://projectsunapee.org/wp-content/uploads/2025/10/yoga-livery.webp
END:VEVENT
BEGIN:VEVENT
DTSTART;TZID=America/New_York:20261010T080000
DTEND;TZID=America/New_York:20261010T090000
DTSTAMP:20260426T001123
CREATED:20251015T173911Z
LAST-MODIFIED:20260114T173926Z
UID:10001273-1791619200-1791622800@projectsunapee.org
SUMMARY:Flow & Glow Yoga
DESCRIPTION:These vinyasa flow classes are designed to build flexibility\, stability\, strength\, balance\, focus and connect to self. We’ll link breath with flowing movements. All levels are welcome\, variations will be demonstrated. Beginner students will flow gently into modified postures and seasoned students can choose more advanced options. Class-goers will meet themselves on the mat\, free of judgment and full of acceptance. \n1 hour / $15
URL:https://projectsunapee.org/event/flow-glow-yoga-2/2026-10-10/
LOCATION:The Livery\, 58 Main Street\, Sunapee\, NH\, 03782-2925\, United States
CATEGORIES:Sunapee Harbor
ATTACH;FMTTYPE=image/webp:https://projectsunapee.org/wp-content/uploads/2025/10/yoga-livery.webp
END:VEVENT
BEGIN:VEVENT
DTSTART;TZID=America/New_York:20261010T090000
DTEND;TZID=America/New_York:20261010T120000
DTSTAMP:20260426T001123
CREATED:20260310T141747Z
LAST-MODIFIED:20260310T142052Z
UID:10005050-1791622800-1791633600@projectsunapee.org
SUMMARY:Sunapee Farmers Market
DESCRIPTION:Welcome to the Sunapee Farmers Market sponsored by Project Sunapee. Summer 2026 will be our sixth market year in historic Sunapee Harbor. Come join our vibrant market community in the summer enclave of Sunapee. \nOur vendors sell only items grown\, raised\, baked\, created\, or prepared within 75 miles of Sunapee. Our farm vendors offer their own fresh fruits and vegetables\, cheeses\, meats\, eggs\, honey and maple syrup. You’ll find all manner of baked goods\, sweet and savory\, from our prepared food vendors. There are items to stock your pantry\, like jams\, mustards and sauces. Each week we have a new artisan to offer a rich assortment of pottery\, jewelry\, wooden bowls\, and much more. \nThe market is sponsored by a nonprofit organization\, Project Sunapee. Project Sunapee is dedicated to the wellbeing of the Town of Sunapee by strengthening the sense of community\, encouraging economic vitality\, fostering education\, and supporting the preservation of the cultural\, historic\, and scenic assets of our community. The Sunapee Farmers’ Market was established for the purpose of providing a sales outlet for local farmers\, craftspeople\, bakers and producers of prepared foods. \nThe Sunapee Farmers Market is operated by the Sunapee Farmers’ Market Committee. \nContact us at farmersmarket@projectsunapee.org
URL:https://projectsunapee.org/event/sunapee-farmers-market/2026-10-10/
LOCATION:Sunapee Harbor\, Main Street\, Sunapee\, NH\, 03782-2925\, United States
CATEGORIES:Sunapee Harbor
ATTACH;FMTTYPE=image/png:https://projectsunapee.org/wp-content/uploads/2026/03/2024-SFM-yard-signs-final-Saturdays-scaled-e1773152178994.png
ORGANIZER;CN="Project Sunapee":MAILTO:info@projectsunapee.org
END:VEVENT
BEGIN:VEVENT
DTSTART;TZID=America/New_York:20261010T130000
DTEND;TZID=America/New_York:20261010T200000
DTSTAMP:20260426T001123
CREATED:20260410T150757Z
LAST-MODIFIED:20260410T150757Z
UID:10005218-1791637200-1791662400@projectsunapee.org
SUMMARY:JD & The Stonemasons / Nicks Other Band
DESCRIPTION:JD & The Stonemasons from 1 – 4 pm. \nNicks Other Band from 5 – 8 pm.
URL:https://projectsunapee.org/event/jd-the-stonemasons-nicks-other-band/
LOCATION:The Landing\, 72 Main Street\, Sunapee\, NH\, 03782
CATEGORIES:Sunapee Harbor
ATTACH;FMTTYPE=image/webp:https://projectsunapee.org/wp-content/uploads/2026/04/OhUM4tVJe56O-Summer-Music-visitsunapeeharbor.com-4-e1775832786417.webp
END:VEVENT
BEGIN:VEVENT
DTSTART;TZID=America/New_York:20261014T173000
DTEND;TZID=America/New_York:20261014T183000
DTSTAMP:20260426T001123
CREATED:20250904T204506Z
LAST-MODIFIED:20260114T174025Z
UID:10000135-1791999000-1792002600@projectsunapee.org
SUMMARY:Flow & Glow Yoga
DESCRIPTION:These vinyasa flow classes are designed to build flexibility\, stability\, strength\, balance\, focus and connect to self. We’ll link breath with flowing movements. All levels are welcome\, variations will be demonstrated. Beginner students will flow gently into modified postures and seasoned students can choose more advanced options. Class-goers will meet themselves on the mat\, free of judgment and full of acceptance. \n1 hour / $15
URL:https://projectsunapee.org/event/flow-glow-yoga/2026-10-14/
LOCATION:The Livery\, 58 Main Street\, Sunapee\, NH\, 03782-2925\, United States
CATEGORIES:Sunapee Harbor
ATTACH;FMTTYPE=image/webp:https://projectsunapee.org/wp-content/uploads/2025/10/yoga-livery.webp
END:VEVENT
BEGIN:VEVENT
DTSTART;TZID=America/New_York:20261015T180000
DTEND;TZID=America/New_York:20261015T200000
DTSTAMP:20260426T001123
CREATED:20260224T113543Z
LAST-MODIFIED:20260224T113800Z
UID:10004907-1792087200-1792094400@projectsunapee.org
SUMMARY:Trivia at Hoptimystic Brewing
DESCRIPTION:Thursdays are for trivia and happy hour! \nGrab a seat\, fuel up with some seriously delicious food from Fenton’s Landing\, and get ready to test your trivia skills. Seats will go fast so arrive early to claim your spot!
URL:https://projectsunapee.org/event/trivia-at-hoptimystic-brewing-2/2026-10-15/
LOCATION:Hoptimystic Brewery\, 31 River Road\, Sunapee\, NH\, 03782
CATEGORIES:Sunapee Harbor
ATTACH;FMTTYPE=image/webp:https://projectsunapee.org/wp-content/uploads/2026/02/oeop1zoxxo1g-IMG_4781.webp
ORGANIZER;CN="Hoptimystic Brewing":MAILTO:hoptimysticbrewingNH@gmail.com
END:VEVENT
BEGIN:VEVENT
DTSTART;TZID=America/New_York:20261017T080000
DTEND;TZID=America/New_York:20261017T090000
DTSTAMP:20260426T001123
CREATED:20251015T173911Z
LAST-MODIFIED:20260114T173926Z
UID:10001274-1792224000-1792227600@projectsunapee.org
SUMMARY:Flow & Glow Yoga
DESCRIPTION:These vinyasa flow classes are designed to build flexibility\, stability\, strength\, balance\, focus and connect to self. We’ll link breath with flowing movements. All levels are welcome\, variations will be demonstrated. Beginner students will flow gently into modified postures and seasoned students can choose more advanced options. Class-goers will meet themselves on the mat\, free of judgment and full of acceptance. \n1 hour / $15
URL:https://projectsunapee.org/event/flow-glow-yoga-2/2026-10-17/
LOCATION:The Livery\, 58 Main Street\, Sunapee\, NH\, 03782-2925\, United States
CATEGORIES:Sunapee Harbor
ATTACH;FMTTYPE=image/webp:https://projectsunapee.org/wp-content/uploads/2025/10/yoga-livery.webp
END:VEVENT
BEGIN:VEVENT
DTSTART;TZID=America/New_York:20261017T090000
DTEND;TZID=America/New_York:20261017T120000
DTSTAMP:20260426T001123
CREATED:20260310T141747Z
LAST-MODIFIED:20260310T142052Z
UID:10005051-1792227600-1792238400@projectsunapee.org
SUMMARY:Sunapee Farmers Market
DESCRIPTION:Welcome to the Sunapee Farmers Market sponsored by Project Sunapee. Summer 2026 will be our sixth market year in historic Sunapee Harbor. Come join our vibrant market community in the summer enclave of Sunapee. \nOur vendors sell only items grown\, raised\, baked\, created\, or prepared within 75 miles of Sunapee. Our farm vendors offer their own fresh fruits and vegetables\, cheeses\, meats\, eggs\, honey and maple syrup. You’ll find all manner of baked goods\, sweet and savory\, from our prepared food vendors. There are items to stock your pantry\, like jams\, mustards and sauces. Each week we have a new artisan to offer a rich assortment of pottery\, jewelry\, wooden bowls\, and much more. \nThe market is sponsored by a nonprofit organization\, Project Sunapee. Project Sunapee is dedicated to the wellbeing of the Town of Sunapee by strengthening the sense of community\, encouraging economic vitality\, fostering education\, and supporting the preservation of the cultural\, historic\, and scenic assets of our community. The Sunapee Farmers’ Market was established for the purpose of providing a sales outlet for local farmers\, craftspeople\, bakers and producers of prepared foods. \nThe Sunapee Farmers Market is operated by the Sunapee Farmers’ Market Committee. \nContact us at farmersmarket@projectsunapee.org
URL:https://projectsunapee.org/event/sunapee-farmers-market/2026-10-17/
LOCATION:Sunapee Harbor\, Main Street\, Sunapee\, NH\, 03782-2925\, United States
CATEGORIES:Sunapee Harbor
ATTACH;FMTTYPE=image/png:https://projectsunapee.org/wp-content/uploads/2026/03/2024-SFM-yard-signs-final-Saturdays-scaled-e1773152178994.png
ORGANIZER;CN="Project Sunapee":MAILTO:info@projectsunapee.org
END:VEVENT
BEGIN:VEVENT
DTSTART;TZID=America/New_York:20261021T173000
DTEND;TZID=America/New_York:20261021T183000
DTSTAMP:20260426T001123
CREATED:20250904T204506Z
LAST-MODIFIED:20260114T174025Z
UID:10000136-1792603800-1792607400@projectsunapee.org
SUMMARY:Flow & Glow Yoga
DESCRIPTION:These vinyasa flow classes are designed to build flexibility\, stability\, strength\, balance\, focus and connect to self. We’ll link breath with flowing movements. All levels are welcome\, variations will be demonstrated. Beginner students will flow gently into modified postures and seasoned students can choose more advanced options. Class-goers will meet themselves on the mat\, free of judgment and full of acceptance. \n1 hour / $15
URL:https://projectsunapee.org/event/flow-glow-yoga/2026-10-21/
LOCATION:The Livery\, 58 Main Street\, Sunapee\, NH\, 03782-2925\, United States
CATEGORIES:Sunapee Harbor
ATTACH;FMTTYPE=image/webp:https://projectsunapee.org/wp-content/uploads/2025/10/yoga-livery.webp
END:VEVENT
BEGIN:VEVENT
DTSTART;TZID=America/New_York:20261024T080000
DTEND;TZID=America/New_York:20261024T090000
DTSTAMP:20260426T001123
CREATED:20251015T173911Z
LAST-MODIFIED:20260114T173926Z
UID:10001275-1792828800-1792832400@projectsunapee.org
SUMMARY:Flow & Glow Yoga
DESCRIPTION:These vinyasa flow classes are designed to build flexibility\, stability\, strength\, balance\, focus and connect to self. We’ll link breath with flowing movements. All levels are welcome\, variations will be demonstrated. Beginner students will flow gently into modified postures and seasoned students can choose more advanced options. Class-goers will meet themselves on the mat\, free of judgment and full of acceptance. \n1 hour / $15
URL:https://projectsunapee.org/event/flow-glow-yoga-2/2026-10-24/
LOCATION:The Livery\, 58 Main Street\, Sunapee\, NH\, 03782-2925\, United States
CATEGORIES:Sunapee Harbor
ATTACH;FMTTYPE=image/webp:https://projectsunapee.org/wp-content/uploads/2025/10/yoga-livery.webp
END:VEVENT
BEGIN:VEVENT
DTSTART;TZID=America/New_York:20261024T090000
DTEND;TZID=America/New_York:20261024T120000
DTSTAMP:20260426T001123
CREATED:20260310T141747Z
LAST-MODIFIED:20260310T142052Z
UID:10005052-1792832400-1792843200@projectsunapee.org
SUMMARY:Sunapee Farmers Market
DESCRIPTION:Welcome to the Sunapee Farmers Market sponsored by Project Sunapee. Summer 2026 will be our sixth market year in historic Sunapee Harbor. Come join our vibrant market community in the summer enclave of Sunapee. \nOur vendors sell only items grown\, raised\, baked\, created\, or prepared within 75 miles of Sunapee. Our farm vendors offer their own fresh fruits and vegetables\, cheeses\, meats\, eggs\, honey and maple syrup. You’ll find all manner of baked goods\, sweet and savory\, from our prepared food vendors. There are items to stock your pantry\, like jams\, mustards and sauces. Each week we have a new artisan to offer a rich assortment of pottery\, jewelry\, wooden bowls\, and much more. \nThe market is sponsored by a nonprofit organization\, Project Sunapee. Project Sunapee is dedicated to the wellbeing of the Town of Sunapee by strengthening the sense of community\, encouraging economic vitality\, fostering education\, and supporting the preservation of the cultural\, historic\, and scenic assets of our community. The Sunapee Farmers’ Market was established for the purpose of providing a sales outlet for local farmers\, craftspeople\, bakers and producers of prepared foods. \nThe Sunapee Farmers Market is operated by the Sunapee Farmers’ Market Committee. \nContact us at farmersmarket@projectsunapee.org
URL:https://projectsunapee.org/event/sunapee-farmers-market/2026-10-24/
LOCATION:Sunapee Harbor\, Main Street\, Sunapee\, NH\, 03782-2925\, United States
CATEGORIES:Sunapee Harbor
ATTACH;FMTTYPE=image/png:https://projectsunapee.org/wp-content/uploads/2026/03/2024-SFM-yard-signs-final-Saturdays-scaled-e1773152178994.png
ORGANIZER;CN="Project Sunapee":MAILTO:info@projectsunapee.org
END:VEVENT
BEGIN:VEVENT
DTSTART;TZID=America/New_York:20261028T173000
DTEND;TZID=America/New_York:20261028T183000
DTSTAMP:20260426T001123
CREATED:20250904T204506Z
LAST-MODIFIED:20260114T174025Z
UID:10000137-1793208600-1793212200@projectsunapee.org
SUMMARY:Flow & Glow Yoga
DESCRIPTION:These vinyasa flow classes are designed to build flexibility\, stability\, strength\, balance\, focus and connect to self. We’ll link breath with flowing movements. All levels are welcome\, variations will be demonstrated. Beginner students will flow gently into modified postures and seasoned students can choose more advanced options. Class-goers will meet themselves on the mat\, free of judgment and full of acceptance. \n1 hour / $15
URL:https://projectsunapee.org/event/flow-glow-yoga/2026-10-28/
LOCATION:The Livery\, 58 Main Street\, Sunapee\, NH\, 03782-2925\, United States
CATEGORIES:Sunapee Harbor
ATTACH;FMTTYPE=image/webp:https://projectsunapee.org/wp-content/uploads/2025/10/yoga-livery.webp
END:VEVENT
BEGIN:VEVENT
DTSTART;TZID=America/New_York:20261029T180000
DTEND;TZID=America/New_York:20261029T200000
DTSTAMP:20260426T001123
CREATED:20260224T113543Z
LAST-MODIFIED:20260224T113800Z
UID:10004908-1793296800-1793304000@projectsunapee.org
SUMMARY:Trivia at Hoptimystic Brewing
DESCRIPTION:Thursdays are for trivia and happy hour! \nGrab a seat\, fuel up with some seriously delicious food from Fenton’s Landing\, and get ready to test your trivia skills. Seats will go fast so arrive early to claim your spot!
URL:https://projectsunapee.org/event/trivia-at-hoptimystic-brewing-2/2026-10-29/
LOCATION:Hoptimystic Brewery\, 31 River Road\, Sunapee\, NH\, 03782
CATEGORIES:Sunapee Harbor
ATTACH;FMTTYPE=image/webp:https://projectsunapee.org/wp-content/uploads/2026/02/oeop1zoxxo1g-IMG_4781.webp
ORGANIZER;CN="Hoptimystic Brewing":MAILTO:hoptimysticbrewingNH@gmail.com
END:VEVENT
BEGIN:VEVENT
DTSTART;TZID=America/New_York:20261031T080000
DTEND;TZID=America/New_York:20261031T090000
DTSTAMP:20260426T001123
CREATED:20251015T173911Z
LAST-MODIFIED:20260114T173926Z
UID:10001276-1793433600-1793437200@projectsunapee.org
SUMMARY:Flow & Glow Yoga
DESCRIPTION:These vinyasa flow classes are designed to build flexibility\, stability\, strength\, balance\, focus and connect to self. We’ll link breath with flowing movements. All levels are welcome\, variations will be demonstrated. Beginner students will flow gently into modified postures and seasoned students can choose more advanced options. Class-goers will meet themselves on the mat\, free of judgment and full of acceptance. \n1 hour / $15
URL:https://projectsunapee.org/event/flow-glow-yoga-2/2026-10-31/
LOCATION:The Livery\, 58 Main Street\, Sunapee\, NH\, 03782-2925\, United States
CATEGORIES:Sunapee Harbor
ATTACH;FMTTYPE=image/webp:https://projectsunapee.org/wp-content/uploads/2025/10/yoga-livery.webp
END:VEVENT
BEGIN:VEVENT
DTSTART;TZID=America/New_York:20261031T090000
DTEND;TZID=America/New_York:20261031T120000
DTSTAMP:20260426T001123
CREATED:20260310T141747Z
LAST-MODIFIED:20260310T142052Z
UID:10005053-1793437200-1793448000@projectsunapee.org
SUMMARY:Sunapee Farmers Market
DESCRIPTION:Welcome to the Sunapee Farmers Market sponsored by Project Sunapee. Summer 2026 will be our sixth market year in historic Sunapee Harbor. Come join our vibrant market community in the summer enclave of Sunapee. \nOur vendors sell only items grown\, raised\, baked\, created\, or prepared within 75 miles of Sunapee. Our farm vendors offer their own fresh fruits and vegetables\, cheeses\, meats\, eggs\, honey and maple syrup. You’ll find all manner of baked goods\, sweet and savory\, from our prepared food vendors. There are items to stock your pantry\, like jams\, mustards and sauces. Each week we have a new artisan to offer a rich assortment of pottery\, jewelry\, wooden bowls\, and much more. \nThe market is sponsored by a nonprofit organization\, Project Sunapee. Project Sunapee is dedicated to the wellbeing of the Town of Sunapee by strengthening the sense of community\, encouraging economic vitality\, fostering education\, and supporting the preservation of the cultural\, historic\, and scenic assets of our community. The Sunapee Farmers’ Market was established for the purpose of providing a sales outlet for local farmers\, craftspeople\, bakers and producers of prepared foods. \nThe Sunapee Farmers Market is operated by the Sunapee Farmers’ Market Committee. \nContact us at farmersmarket@projectsunapee.org
URL:https://projectsunapee.org/event/sunapee-farmers-market/2026-10-31/
LOCATION:Sunapee Harbor\, Main Street\, Sunapee\, NH\, 03782-2925\, United States
CATEGORIES:Sunapee Harbor
ATTACH;FMTTYPE=image/png:https://projectsunapee.org/wp-content/uploads/2026/03/2024-SFM-yard-signs-final-Saturdays-scaled-e1773152178994.png
ORGANIZER;CN="Project Sunapee":MAILTO:info@projectsunapee.org
END:VEVENT
END:VCALENDAR