BEGIN:VCALENDAR
VERSION:2.0
PRODID:-//Project Sunapee - ECPv6.15.20//NONSGML v1.0//EN
CALSCALE:GREGORIAN
METHOD:PUBLISH
X-WR-CALNAME:Project Sunapee
X-ORIGINAL-URL:https://projectsunapee.org
X-WR-CALDESC:Events for Project Sunapee
REFRESH-INTERVAL;VALUE=DURATION:PT1H
X-Robots-Tag:noindex
X-PUBLISHED-TTL:PT1H
BEGIN:VTIMEZONE
TZID:America/New_York
BEGIN:DAYLIGHT
TZOFFSETFROM:-0500
TZOFFSETTO:-0400
TZNAME:EDT
DTSTART:20250309T070000
END:DAYLIGHT
BEGIN:STANDARD
TZOFFSETFROM:-0400
TZOFFSETTO:-0500
TZNAME:EST
DTSTART:20251102T060000
END:STANDARD
BEGIN:DAYLIGHT
TZOFFSETFROM:-0500
TZOFFSETTO:-0400
TZNAME:EDT
DTSTART:20260308T070000
END:DAYLIGHT
BEGIN:STANDARD
TZOFFSETFROM:-0400
TZOFFSETTO:-0500
TZNAME:EST
DTSTART:20261101T060000
END:STANDARD
BEGIN:DAYLIGHT
TZOFFSETFROM:-0500
TZOFFSETTO:-0400
TZNAME:EDT
DTSTART:20270314T070000
END:DAYLIGHT
BEGIN:STANDARD
TZOFFSETFROM:-0400
TZOFFSETTO:-0500
TZNAME:EST
DTSTART:20271107T060000
END:STANDARD
END:VTIMEZONE
BEGIN:VEVENT
DTSTART;TZID=America/New_York:20260524T100000
DTEND;TZID=America/New_York:20260524T130000
DTSTAMP:20260425T185801
CREATED:20260226T163003Z
LAST-MODIFIED:20260226T163003Z
UID:10005023-1779616800-1779627600@projectsunapee.org
SUMMARY:Sunapee Harbor Poker Run
DESCRIPTION:Plans are in the works for the 2nd Annual Sunapee Harbor 5K Poker Run! \nSave the date: May 24th \nTime: 10am \nWe had an amazing turnout for our first race last year\, and we can’t wait to bring the fun back again in 2026! This event is all about community\, good times\, and giving back. \nThe goal: to raise funds that support FREE public music in the Harbor because live music makes everything better. \nLet’s make year two even bigger and better!
URL:https://projectsunapee.org/event/sunapee-harbor-poker-run/
LOCATION:Hoptimystic Brewery\, 31 River Road\, Sunapee\, NH\, 03782
CATEGORIES:Sunapee Harbor
ATTACH;FMTTYPE=image/webp:https://projectsunapee.org/wp-content/uploads/2026/02/FB_IMG_177135659543829.webp
END:VEVENT
BEGIN:VEVENT
DTSTART;TZID=America/New_York:20260524T130000
DTEND;TZID=America/New_York:20260524T150000
DTSTAMP:20260425T185801
CREATED:20260410T145339Z
LAST-MODIFIED:20260410T150358Z
UID:10005208-1779627600-1779634800@projectsunapee.org
SUMMARY:Rusty Bones at The Landing
DESCRIPTION:FREE MUSIC CONCERTS AT THE LANDING\n72 Main Street\, Sunapee Harbor \nSaturday night concerts are 5:30-8:30 \n5/24 RUSTY BONES – after Poker Race – daytime concert\n6/6 BACCHUS\n6/11 – JD & THE STONE MASONS\n6/20 – GULLY BOYS\n7/04 – VINCENT KING*\n7/18 – TOTAN’S TRANGERSE MASONS\n8/01 – 90 PROOF*\n8/22 – CONNIPTION FITS*\n9/26 – SUMMER SHAKEDOWN*\nMULTIPLE ARTISTS (NOON – 8 PM)\n10/10 – JD & THE STONE MASONS (1-4\nPM NICKS OTHER BAND (5-8 PM)*
URL:https://projectsunapee.org/event/rusty-bones-concert-schedule-at-the-landing/
LOCATION:The Landing\, 72 Main Street\, Sunapee\, NH\, 03782
CATEGORIES:Sunapee Harbor
ATTACH;FMTTYPE=image/webp:https://projectsunapee.org/wp-content/uploads/2026/04/OhUM4tVJe56O-Summer-Music-visitsunapeeharbor.com-4-e1775832786417.webp
END:VEVENT
END:VCALENDAR