BEGIN:VCALENDAR
VERSION:2.0
PRODID:-//Project Sunapee - ECPv6.15.20//NONSGML v1.0//EN
CALSCALE:GREGORIAN
METHOD:PUBLISH
X-WR-CALNAME:Project Sunapee
X-ORIGINAL-URL:https://projectsunapee.org
X-WR-CALDESC:Events for Project Sunapee
REFRESH-INTERVAL;VALUE=DURATION:PT1H
X-Robots-Tag:noindex
X-PUBLISHED-TTL:PT1H
BEGIN:VTIMEZONE
TZID:America/New_York
BEGIN:DAYLIGHT
TZOFFSETFROM:-0500
TZOFFSETTO:-0400
TZNAME:EDT
DTSTART:20250309T070000
END:DAYLIGHT
BEGIN:STANDARD
TZOFFSETFROM:-0400
TZOFFSETTO:-0500
TZNAME:EST
DTSTART:20251102T060000
END:STANDARD
BEGIN:DAYLIGHT
TZOFFSETFROM:-0500
TZOFFSETTO:-0400
TZNAME:EDT
DTSTART:20260308T070000
END:DAYLIGHT
BEGIN:STANDARD
TZOFFSETFROM:-0400
TZOFFSETTO:-0500
TZNAME:EST
DTSTART:20261101T060000
END:STANDARD
BEGIN:DAYLIGHT
TZOFFSETFROM:-0500
TZOFFSETTO:-0400
TZNAME:EDT
DTSTART:20270314T070000
END:DAYLIGHT
BEGIN:STANDARD
TZOFFSETFROM:-0400
TZOFFSETTO:-0500
TZNAME:EST
DTSTART:20271107T060000
END:STANDARD
END:VTIMEZONE
BEGIN:VEVENT
DTSTART;TZID=America/New_York:20260425T080000
DTEND;TZID=America/New_York:20260425T090000
DTSTAMP:20260425T141928
CREATED:20251015T173911Z
LAST-MODIFIED:20260114T173926Z
UID:10001249-1777104000-1777107600@projectsunapee.org
SUMMARY:Flow & Glow Yoga
DESCRIPTION:These vinyasa flow classes are designed to build flexibility\, stability\, strength\, balance\, focus and connect to self. We’ll link breath with flowing movements. All levels are welcome\, variations will be demonstrated. Beginner students will flow gently into modified postures and seasoned students can choose more advanced options. Class-goers will meet themselves on the mat\, free of judgment and full of acceptance. \n1 hour / $15
URL:https://projectsunapee.org/event/flow-glow-yoga-2/2026-04-25/
LOCATION:The Livery\, 58 Main Street\, Sunapee\, NH\, 03782-2925\, United States
CATEGORIES:Sunapee Harbor
ATTACH;FMTTYPE=image/webp:https://projectsunapee.org/wp-content/uploads/2025/10/yoga-livery.webp
END:VEVENT
BEGIN:VEVENT
DTSTART;TZID=America/New_York:20260426T140000
DTEND;TZID=America/New_York:20260426T160000
DTSTAMP:20260425T141928
CREATED:20260401T172532Z
LAST-MODIFIED:20260401T172558Z
UID:10005191-1777212000-1777219200@projectsunapee.org
SUMMARY:Book Club at Hoptimystic Brewing
DESCRIPTION:We can’t wait to get together to discuss The Witches Guide to Magical Innkeeping by Sangu Mandanna! Come ready to chat about this cozy fantasy. \nCome prepared! Please bring a Read With Jenna recommendation with you. We’ll be choosing our next book club pick together at the conclusion of our discussion on The Witches Guide to Magical Innkeeping by Sangu Mandanna. \nLink to the full list of Read With Jenna: https://www.today.com/shop/read-with-jenna?page=1\nBrought to you by Beth on the Bookshelf (@bethonthebookshelf)
URL:https://projectsunapee.org/event/book-club-at-hoptimystic-brewing/
LOCATION:Hoptimystic Brewery\, 31 River Road\, Sunapee\, NH\, 03782
CATEGORIES:Sunapee Harbor
ATTACH;FMTTYPE=image/webp:https://projectsunapee.org/wp-content/uploads/2026/04/hbc.webp
ORGANIZER;CN="Hoptimystic Brewing":MAILTO:hoptimysticbrewingNH@gmail.com
END:VEVENT
BEGIN:VEVENT
DTSTART;TZID=America/New_York:20260429T173000
DTEND;TZID=America/New_York:20260429T183000
DTSTAMP:20260425T141928
CREATED:20250904T204506Z
LAST-MODIFIED:20260114T174025Z
UID:10000111-1777483800-1777487400@projectsunapee.org
SUMMARY:Flow & Glow Yoga
DESCRIPTION:These vinyasa flow classes are designed to build flexibility\, stability\, strength\, balance\, focus and connect to self. We’ll link breath with flowing movements. All levels are welcome\, variations will be demonstrated. Beginner students will flow gently into modified postures and seasoned students can choose more advanced options. Class-goers will meet themselves on the mat\, free of judgment and full of acceptance. \n1 hour / $15
URL:https://projectsunapee.org/event/flow-glow-yoga/2026-04-29/
LOCATION:The Livery\, 58 Main Street\, Sunapee\, NH\, 03782-2925\, United States
CATEGORIES:Sunapee Harbor
ATTACH;FMTTYPE=image/webp:https://projectsunapee.org/wp-content/uploads/2025/10/yoga-livery.webp
END:VEVENT
BEGIN:VEVENT
DTSTART;TZID=America/New_York:20260430T160000
DTEND;TZID=America/New_York:20260430T180000
DTSTAMP:20260425T141928
CREATED:20260424T130258Z
LAST-MODIFIED:20260424T130258Z
UID:10005230-1777564800-1777572000@projectsunapee.org
SUMMARY:Rose and Red Wine Tasting
DESCRIPTION:Rose season is sneaking up on us and this week we are tasting two new roses as well as a Cabernet and a Merlot. Join us from 4-6pm on Thursday\, April 30. \nWe will begin with an Oregon Rose\, then move on to an Italian Rose from Abruzzo region. From there we travel to California for a Merlot and Cabernet Sauvignon. Some details at link below. \nThis is a free event and very casual. Come anytime between 4pm and 6pm and stay for as long as you like. Of course we will be providing a well appointed charcuterie board to help to cleanse your palate. \nhttps://sunapeecellarandpantry.com/rose-and-red-wine-tasting-april-30/
URL:https://projectsunapee.org/event/rose-and-red-wine-tasting/
LOCATION:Sunapee Cellar and Pantry\, 5 Garnet Street\, Sunapee\, NH
CATEGORIES:Sunapee Harbor
ATTACH;FMTTYPE=image/webp:https://projectsunapee.org/wp-content/uploads/2026/04/ldnCA2omL9sS-AFJ-REVEAL-WEB_book-2-e1777035854409.webp
ORGANIZER;CN="Sunapee Cellar and Pantry":MAILTO:info@sunapeecellarandpantry.com
END:VEVENT
BEGIN:VEVENT
DTSTART;TZID=America/New_York:20260430T180000
DTEND;TZID=America/New_York:20260430T200000
DTSTAMP:20260425T141928
CREATED:20260224T113543Z
LAST-MODIFIED:20260224T113800Z
UID:10004895-1777572000-1777579200@projectsunapee.org
SUMMARY:Trivia at Hoptimystic Brewing
DESCRIPTION:Thursdays are for trivia and happy hour! \nGrab a seat\, fuel up with some seriously delicious food from Fenton’s Landing\, and get ready to test your trivia skills. Seats will go fast so arrive early to claim your spot!
URL:https://projectsunapee.org/event/trivia-at-hoptimystic-brewing-2/2026-04-30/
LOCATION:Hoptimystic Brewery\, 31 River Road\, Sunapee\, NH\, 03782
CATEGORIES:Sunapee Harbor
ATTACH;FMTTYPE=image/webp:https://projectsunapee.org/wp-content/uploads/2026/02/oeop1zoxxo1g-IMG_4781.webp
ORGANIZER;CN="Hoptimystic Brewing":MAILTO:hoptimysticbrewingNH@gmail.com
END:VEVENT
END:VCALENDAR