BEGIN:VCALENDAR
VERSION:2.0
PRODID:-//Project Sunapee - ECPv6.15.20//NONSGML v1.0//EN
CALSCALE:GREGORIAN
METHOD:PUBLISH
X-ORIGINAL-URL:https://projectsunapee.org
X-WR-CALDESC:Events for Project Sunapee
REFRESH-INTERVAL;VALUE=DURATION:PT1H
X-Robots-Tag:noindex
X-PUBLISHED-TTL:PT1H
BEGIN:VTIMEZONE
TZID:America/New_York
BEGIN:DAYLIGHT
TZOFFSETFROM:-0500
TZOFFSETTO:-0400
TZNAME:EDT
DTSTART:20240310T070000
END:DAYLIGHT
BEGIN:STANDARD
TZOFFSETFROM:-0400
TZOFFSETTO:-0500
TZNAME:EST
DTSTART:20241103T060000
END:STANDARD
BEGIN:DAYLIGHT
TZOFFSETFROM:-0500
TZOFFSETTO:-0400
TZNAME:EDT
DTSTART:20250309T070000
END:DAYLIGHT
BEGIN:STANDARD
TZOFFSETFROM:-0400
TZOFFSETTO:-0500
TZNAME:EST
DTSTART:20251102T060000
END:STANDARD
BEGIN:DAYLIGHT
TZOFFSETFROM:-0500
TZOFFSETTO:-0400
TZNAME:EDT
DTSTART:20260308T070000
END:DAYLIGHT
BEGIN:STANDARD
TZOFFSETFROM:-0400
TZOFFSETTO:-0500
TZNAME:EST
DTSTART:20261101T060000
END:STANDARD
END:VTIMEZONE
BEGIN:VEVENT
DTSTART;TZID=America/New_York:20251001T170000
DTEND;TZID=America/New_York:20251001T190000
DTSTAMP:20260424T104633
CREATED:20250926T135317Z
LAST-MODIFIED:20250926T135317Z
UID:10000565-1759338000-1759345200@projectsunapee.org
SUMMARY:SCHOLASTIC BOOK FAIR
DESCRIPTION:Get ready—the Scholastic Book Fair is coming to our school! This is a great opportunity to build your child’s home library with new books they’ll dive into again and again.The easiest way to let your child shop the Fair independently is by creating an eWallet. It’s easy to set up and easy for others to add funds. \nCreate an eWallet\, and you’ll also have the opportunity to contribute to Share the Fair – the giving program that supports students at our school who need help buying books. Consider participating so that no child leaves the Fair empty-handed! \nHere’s everything else you need to know about the Book Fair: \nDates: Sept. 29 – Oct. 3 – During library classes\, students will have the opportunity to shop at the Fair \nFamily Event schedule and location: Oct. 1\, 5:00-7:00 pm \nFor full details\, and to create an eWallet\, visit our school’s Book Fair homepage: https://www.scholastic.com/bf/sunapeecentralelementarysch1 \nMore than ever\, we need to get students reading. Studies prove* that children with more books at home have higher-level reading skills\, and attain more years of education overall. \nLastly\, this is a great opportunity to be a Book Fair volunteer! When you give your time\, it helps make our Fair an unforgettable reading experience where every purchase benefits our school directly.
URL:https://projectsunapee.org/event/scholastic-book-fair/
LOCATION:NH
CATEGORIES:Sunapee School District
ATTACH;FMTTYPE=image/jpeg:https://projectsunapee.org/wp-content/uploads/2025/09/scholastic.jpg
END:VEVENT
BEGIN:VEVENT
DTSTART;TZID=America/New_York:20250927T120000
DTEND;TZID=America/New_York:20250927T210000
DTSTAMP:20260424T104633
CREATED:20250905T193655Z
LAST-MODIFIED:20250915T174013Z
UID:10000556-1758974400-1759006800@projectsunapee.org
SUMMARY:Sunapee Summer Shakedown!
DESCRIPTION:Join us at Hoptimystic Brewing Sunapee on Saturday\, September 27th from 12–9PM for an all-day celebration you won’t want to miss! \nLive Music Lineup:\nBoomsoss\nNick Bredice\nSammy “B” Blanchette \nFood by Fenton’s Landing featuring:\nLobster Rolls • Kielbasa •  Smash Burgers. \nCome for the music\, stay for the food\, and sip on your favorite brews with friends by the lake. \nLet’s send summer off the right way!
URL:https://projectsunapee.org/event/bossmoss-at-hoptimystic-brewing-sunapee/
LOCATION:Hoptimystic Brewery\, 31 River Road\, Sunapee\, NH\, 03782
CATEGORIES:Music,Sunapee Harbor
ATTACH;FMTTYPE=image/jpeg:https://projectsunapee.org/wp-content/uploads/2025/09/VpAI8990WSsV-sunapee-shakedown.jpg
ORGANIZER;CN="Hoptimystic Brewing":MAILTO:hoptimysticbrewingNH@gmail.com
END:VEVENT
BEGIN:VEVENT
DTSTART;TZID=America/New_York:20250926T190000
DTEND;TZID=America/New_York:20250926T210000
DTSTAMP:20260424T104633
CREATED:20250904T190808Z
LAST-MODIFIED:20250904T203402Z
UID:10000013-1758913200-1758920400@projectsunapee.org
SUMMARY:Sunapee CoffeeHouse - Gus & Jean
DESCRIPTION:Performing together for over 25 years\, Gus & Jean are a husband-and-wife duo based in Southern NH/ME known for their creative interpretations\, seamless harmonies\, and undeniable chemistry. From classic hits to contemporary favorites\, their wide-ranging setlist spans James Taylor to Whitney Houston to Ed Sheeran\, connecting with listeners of all ages. \nTheir dynamic sound has earned them a growing social media following with over 23K views and the attention of industry figures\, including the NH Music Collective\, Boston’s Mix 104.1 radio host Kennedy of Karson and Kennedy\, and Grammy-winning artist Lisa Loeb. \nLast year marked their breakout year. In the summer of 2024\, they were a featured artist for Play Music on the Porch Day\, an annual world-wide event. They also recorded their debut EP of acoustic covers\, Live at The Studio Portland in Portland\, Maine. That fall\, they showcased their original music\, placing second in the preliminary rounds of the NH Music Collective’s 2024 Singer-Songwriter Contest. \nWhether captivating large crowds on the 92.5 The River stage at the Manchester Citywide Arts Festival or creating intimate vibes at venues like The Shaskeen in Manchester\, NH and Patrick’s Pub in Gilford\, NH\, Gus & Jean deliver performances that leave audiences singing long after the last note.
URL:https://projectsunapee.org/event/sunapee-coffeehouse-gus-jean/
LOCATION:Lake Sunapee United Methodist Church\, 9 Lower Main Street\, Sunapee\, NH\, 03782
CATEGORIES:Music
ATTACH;FMTTYPE=image/jpeg:https://projectsunapee.org/wp-content/uploads/2025/09/GusAndJean2-w200.jpg
END:VEVENT
BEGIN:VEVENT
DTSTART;TZID=America/New_York:20250923T100000
DTEND;TZID=America/New_York:20250923T110000
DTSTAMP:20260424T104633
CREATED:20250904T203609Z
LAST-MODIFIED:20250904T203609Z
UID:10000077-1758621600-1758625200@projectsunapee.org
SUMMARY:Nature Exploration Story Time - Apples\, Apples\, Apples!
DESCRIPTION:Come join LSPA educators at the Center for Lake Studies to explore the natural world. Each Tuesday morning will be filled with hands on learning through sensory experiences\, guided exploration\, creative play\, art\, and music. LSPA’s story time is designed for young children and their caregivers. Come to one summer Tuesday or all – each program is organized around a different ecological theme. Come join the fun! This Tuesday morning we will be exploring the many animals that rely on the fruits and nuts of autumn\, but especially apples!
URL:https://projectsunapee.org/event/nature-exploration-story-time-apples-apples-apples/
LOCATION:Lake Sunapee Protective Association\, 63 Main Street\, Sunapee\, NH\, 03782
CATEGORIES:Sunapee Harbor
ATTACH;FMTTYPE=image/webp:https://projectsunapee.org/wp-content/uploads/2025/09/a-b-emAhFqEnlA0-unsplash_apple.webp
ORGANIZER;CN="Lake Sunapee Protective Association":MAILTO:lspa@lakesunapee.org
END:VEVENT
BEGIN:VEVENT
DTSTART;TZID=America/New_York:20250921T143000
DTEND;TZID=America/New_York:20250921T143000
DTSTAMP:20260424T104633
CREATED:20250903T171048Z
LAST-MODIFIED:20250926T131956Z
UID:10000003-1758465000-1758465000@projectsunapee.org
SUMMARY:Stories from the Grave
DESCRIPTION:Reservations Required: (603) 763-9872 or sunapeehistory@gmail.com \nVisit with several residents of Lower Village Cemetery & learn about theirlives. \nPark in school lot\, corner of Lower Main and North Road. \n(Suggested\nDonation: $15/person) Rain Date: Sunday\, September 28th.
URL:https://projectsunapee.org/event/stories-from-the-grave/
LOCATION:Sunapee\, NH
CATEGORIES:Service
ATTACH;FMTTYPE=image/jpeg:https://projectsunapee.org/wp-content/uploads/2025/09/514409763_23959900926952136_7922227576734147243_n.jpg
ORGANIZER;CN="Sunapee Historical Society":MAILTO:sunapeehistory@gmail.com
END:VEVENT
BEGIN:VEVENT
DTSTART;TZID=America/New_York:20250921T120000
DTEND;TZID=America/New_York:20250921T190000
DTSTAMP:20260424T104633
CREATED:20250905T193026Z
LAST-MODIFIED:20250915T151003Z
UID:10000554-1758456000-1758481200@projectsunapee.org
SUMMARY:Oktoberfest at Hoptimystic Brewing
DESCRIPTION:Prost! Oktoberfest is coming to Hoptimystic Brewing – Sunapee!\nJoin us on Sunday\, September 21st from 12–7 PM for a day full of German-inspired fun! \nAuthentic German brats by Ramblin Man Provisions \nClassic Oktoberfest-style games \nRelease of our once a year Moktoberfest beer \nThrow on your lederhosen\, grab your friends\, and let’s raise a stein to fall at the lake!
URL:https://projectsunapee.org/event/oktoberfest-at-hoptimystic-brewing/
LOCATION:Hoptimystic Brewery\, 31 River Road\, Sunapee\, NH\, 03782
CATEGORIES:Sunapee Harbor
ATTACH;FMTTYPE=image/jpeg:https://projectsunapee.org/wp-content/uploads/2025/09/539307157_122137439264815767_1810989674531416124_n.jpg
ORGANIZER;CN="Hoptimystic Brewing":MAILTO:hoptimysticbrewingNH@gmail.com
END:VEVENT
BEGIN:VEVENT
DTSTART;TZID=America/New_York:20250920T150000
DTEND;TZID=America/New_York:20250920T150000
DTSTAMP:20260424T104633
CREATED:20250903T203449Z
LAST-MODIFIED:20250904T203410Z
UID:10000009-1758380400-1758380400@projectsunapee.org
SUMMARY:Bruce Marshall
DESCRIPTION:Bruce Marshall’s music career spans five decades and the singer\, songwriter\, guitarist has been a full time musician his entire adult life. With an affinity early on for blues\, rock and 60’s pop\, he honed his chops in the gin mills of NE and put out his first record in ‘87 with Bruce Marshall and the Clue. \nHe went National with guitarist Toy Caldwell of the Marshall Tucker Band in ‘89\, touring the US with Charlie Daniels\, Lynyrd Skynyrd and the Outlaws. Bruce has won an ASCAP Songwriters award and represented NE in the International Blues Challenge in 2008 and 2010. He recently inked a recording and Publishing deal with the Verdict Music label with Sony distribution and released the Bruce Marshall Group’s “Vintage to Verdict” in 2023\, his 8th CD. \nThe Bruce Marshall Group has been performing since 1991\, his duo with James Montgomery has been together since 1992 and his Marshall Tucker tribute band The Shadow Riders has been out since 2018. \nHis songs have been recorded by Gary Lewis and the Playboys\, Kenny Neal\, Micah Willis\, James Montgomery\, Michael Allman and others. \nBruce continues to perform over 175 shows a year\, both as solo act and bandleader. He’s currently in the studio working on his next Verdict Music label release.
URL:https://projectsunapee.org/event/bruce-marshall/
LOCATION:Flander’s Stage in Sunapee Harbor\, Sunapee Harbor\, Sunapee\, NH\, 03782
CATEGORIES:Music,Sunapee Harbor
ATTACH;FMTTYPE=image/jpeg:https://projectsunapee.org/wp-content/uploads/2025/09/bm.jpg
END:VEVENT
BEGIN:VEVENT
DTSTART;TZID=America/New_York:20250920T090000
DTEND;TZID=America/New_York:20250920T140000
DTSTAMP:20260424T104633
CREATED:20250903T201454Z
LAST-MODIFIED:20250903T201600Z
UID:10000005-1758358800-1758376800@projectsunapee.org
SUMMARY:Vendor Craft & Bake Sale
DESCRIPTION:Join us for a Vendor Craft & Bake Sale full of creativity\, community\, and sweet treats! Saturday\, September 20th at the Lake Sunapee United Methodist Church. \nWant to be a vendor? Contact Cathi Terry at 603-863-7349 or cact@aol.com to reserve your spot! \nAnd for all you talented bakers out there — Bake Sale Donations Needed! \nDrop off your delicious goodies between 8–9 AM the morning of the event.
URL:https://projectsunapee.org/event/vendor-craft-bake-sale/
LOCATION:Sunapee\, NH
ATTACH;FMTTYPE=image/png:https://projectsunapee.org/wp-content/uploads/2025/09/sunapee-seniors.png
END:VEVENT
BEGIN:VEVENT
DTSTART;TZID=America/New_York:20250918T183000
DTEND;TZID=America/New_York:20250918T183000
DTSTAMP:20260424T104633
CREATED:20250912T123751Z
LAST-MODIFIED:20250912T123821Z
UID:10000557-1758220200-1758220200@projectsunapee.org
SUMMARY:Sunapee Master Plan Public Hearing
DESCRIPTION:The Master Plan is Sunapee’s official long-term vision for the next 10+ years. It guides decisions on housing\, transportation\, recreation\, natural resources\, and community priorities. Your input ensures the plan reflects the needs and values of our residents. \nFIND THE MOST UP-TO-DATE MASTER PLAN HERE. \nEvent Agenda:\nOverview of the Master Plan – Learn what’s proposed and how it affects our community.\nPublic Comment & Feedback – Share your ideas\, concerns\, and suggestions.\nQ&A with Town Officials – Get answers and clarity on key issues.\nSweet Treats – Enjoy free Apple Cider & Cider Donuts after the hearing while connecting with neighbors. \nWhy Attend?\nYour voice directly influences Sunapee’s future.\nHear what’s planned and ensure all perspectives are considered.\nBuild connections with neighbors and local leaders.
URL:https://projectsunapee.org/event/sunapee-master-plan-public-hearing/
LOCATION:The Livery\, 58 Main Street\, Sunapee\, NH\, 03782-2925\, United States
CATEGORIES:Sunapee Harbor
ATTACH;FMTTYPE=image/jpeg:https://projectsunapee.org/wp-content/uploads/2025/09/2025_09_18_sunapee_master_plan_public_hearing_1.png.jpeg
END:VEVENT
BEGIN:VEVENT
DTSTART;TZID=America/New_York:20250918T160000
DTEND;TZID=America/New_York:20250918T160000
DTSTAMP:20260424T104633
CREATED:20250915T171712Z
LAST-MODIFIED:20250915T172048Z
UID:10000558-1758211200-1758211200@projectsunapee.org
SUMMARY:Wine Tasting - Sunapee Cellar and Pantry
DESCRIPTION:Join us from 4–6pm at your lakeside wine shop for a relaxed tasting as we ease into the fall season. \nWe’ll be pouring a red and white wines including a chardonnay\, a lively Pinot Noir\, a and a bright\, expressive red blend from Paso Robles and a Willamette Valley Pinot Gris—each chosen to highlight a different side of the season’s flavors. \nIt’s an easygoing chance to taste something new\, trade impressions with fellow wine lovers\, and savor the last notes of summer along the harbor.
URL:https://projectsunapee.org/event/wine-tasting-sunapee-cellar-and-pantry/
LOCATION:Sunapee Cellar and Pantry\, 5 Garnet Street\, Sunapee\, NH
CATEGORIES:Sunapee Harbor
ATTACH;FMTTYPE=image/jpeg:https://projectsunapee.org/wp-content/uploads/2025/09/wine-sm.jpg
ORGANIZER;CN="Sunapee Cellar and Pantry":MAILTO:info@sunapeecellarandpantry.com
END:VEVENT
BEGIN:VEVENT
DTSTART;TZID=America/New_York:20250917T173000
DTEND;TZID=America/New_York:20250917T173000
DTSTAMP:20260424T104633
CREATED:20250905T125018Z
LAST-MODIFIED:20250905T125407Z
UID:10000339-1758130200-1758130200@projectsunapee.org
SUMMARY:Beat The Libraries - Trivia Night
DESCRIPTION:Do you think you can beat a librarian at Trivia? Join Abbott Library staff and Hoptimystic Brewing- Sunapee for our first ever Trivia Night!\nGame will begin at 5:30 PM. Join individually or with a team of up to six players! For questions\, contact the library at 603.763.5513 or at info@abbottlibrary.org.
URL:https://projectsunapee.org/event/beat-the-libraries-trivia-night/
LOCATION:Hoptimystic Brewery\, 31 River Road\, Sunapee\, NH\, 03782
CATEGORIES:Sunapee Harbor
ATTACH;FMTTYPE=image/jpeg:https://projectsunapee.org/wp-content/uploads/2025/09/540506990_1188090960030716_4490144214135545575_n.jpg
ORGANIZER;CN="Abbott Library":MAILTO:info@abbottlibrary.org
END:VEVENT
BEGIN:VEVENT
DTSTART;TZID=America/New_York:20250916T100000
DTEND;TZID=America/New_York:20250916T100000
DTSTAMP:20260424T104633
CREATED:20250904T203158Z
LAST-MODIFIED:20250904T203308Z
UID:10000076-1758016800-1758016800@projectsunapee.org
SUMMARY:Nature Exploration Story Time - Monarchs and Migration
DESCRIPTION:Come join LSPA educators at the Center for Lake Studies to explore the natural world. Each Tuesday morning will be filled with hands on learning through sensory experiences\, guided exploration\, creative play\, art\, and music. LSPA’s story time is designed for young children and their caregivers. Come to one session or all – each program is organized around a different ecological theme. Come join the fun! This Tuesday morning we will be exploring animals that migrate and the amazing monarch butterfly!
URL:https://projectsunapee.org/event/nature-exploration-story-time-monarchs-and-migration/
LOCATION:Lake Sunapee Protective Association\, 63 Main Street\, Sunapee\, NH\, 03782
CATEGORIES:Sunapee Harbor
ATTACH;FMTTYPE=image/webp:https://projectsunapee.org/wp-content/uploads/2025/09/Monarch-JoePyeWeed.webp
ORGANIZER;CN="Lake Sunapee Protective Association":MAILTO:lspa@lakesunapee.org
END:VEVENT
BEGIN:VEVENT
DTSTART;TZID=America/New_York:20250914T160000
DTEND;TZID=America/New_York:20250914T160000
DTSTAMP:20260424T104633
CREATED:20250904T185240Z
LAST-MODIFIED:20250904T185538Z
UID:10000011-1757865600-1757865600@projectsunapee.org
SUMMARY:Singularly Sunapee
DESCRIPTION:The Lake Sunapee Wine Society invites you to a Singularly Sunapee event as we partner with Sunapee Cellar & Pantry\, Mary McDonald\, and The Livery for an end of summer wine tasting. \nLOCATION: The Livery Main Hall\, 58 Main Street\, Sunapee\nDATE: Sunday\, September 14\, 2025\nTIME: Doors open at 4:00 pm\nCOST: $60 per person\, all inclusive\nRSVP by: Saturday\, September 6\, 2025 \nThis event will feature four wines\, presented by Michael Cantone of Ruby Wines\, a family owned and operated Wine and Spirits Importer and Distributor serving Massachusetts and New Hampshire. \nDuc de Valmer\, Brut (France)\nErbaluche Di Caluso La Torrazza (Italy)\nLa Raia\, Pleo Gavi (Italy)\nKen Forrester Petit Pinotage (South Africa)\nMary McDonald of Simple Goodness Catering will prepare hors d’oeuvres paired with each wine. \nRegistration and payment are required by Saturday\, September 6\, 2025.\nCapacity is limited. Please email with the number in your party if you plan to attend.\nPlease send a list of names of those in your party and a check for $60 per person\,\npayable to Lake Sunapee Wine Society\, to:\nLSWS – Paul Kinson\nPO Box 1522\nGrantham\, NH 03753 \nQuestions? Please contact sunapeewine2020@gmail.
URL:https://projectsunapee.org/event/singularly-sunapee/
LOCATION:The Livery\, 58 Main Street\, Sunapee\, NH\, 03782-2925\, United States
CATEGORIES:Sunapee Harbor
ATTACH;FMTTYPE=image/jpeg:https://projectsunapee.org/wp-content/uploads/2025/09/wine-g646ba119f_1920-e1757076994474.jpg
ORGANIZER;CN="The Lake Sunapee Wine Society":MAILTO:sunapeewine2020@gmail.com
END:VEVENT
BEGIN:VEVENT
DTSTART;TZID=America/New_York:20250913T170000
DTEND;TZID=America/New_York:20250913T200000
DTSTAMP:20260424T104633
CREATED:20250903T202709Z
LAST-MODIFIED:20250904T203420Z
UID:10000008-1757782800-1757793600@projectsunapee.org
SUMMARY:The Gully Boys
DESCRIPTION:Original Rock Music from the Green Mountains of Vermont.
URL:https://projectsunapee.org/event/the-gully-boys/
LOCATION:The Landing\, 72 Main Street\, Sunapee\, NH\, 03782
CATEGORIES:Music,Sunapee Harbor
ATTACH;FMTTYPE=image/jpeg:https://projectsunapee.org/wp-content/uploads/2025/09/529773105_122134342724815767_2875823853698949423_n.jpg
END:VEVENT
BEGIN:VEVENT
DTSTART;TZID=America/New_York:20250912T190000
DTEND;TZID=America/New_York:20250912T210000
DTSTAMP:20260424T104633
CREATED:20250904T190212Z
LAST-MODIFIED:20250904T203426Z
UID:10000012-1757703600-1757710800@projectsunapee.org
SUMMARY:Sunapee CoffeeHouse - Rob Duquette
DESCRIPTION:Multi-instrumentalist\, singer/songwriter\, composer\, founder/leader of the band “duquette” Rob was a long time sideman during the 1990’s on drums\, xylophone\, guitar\, and vocals and a part of of the critically acclaimed jazz-folk-pop duo “Cactus Highway” during the 2000’s. (“Amazing” – The Village Voice). In 2013\, he was invited to play with Jonathan Edwards’ touring band and accompanied that tour through 2016. \nA skilled music instructor\, composer\, and arranger\, his work reflects the versatility and eclectic musical range that has brought him and his music around the country. Rob has performed alongside Jack Sonni of Dire Straits\, recorded and shared the stage with the Grammy winning Dave Gutter\, and with legendary composer David Amram among many other great artists including his current bandmates. Rob has released several albums of original music on which he plays most of the instruments\, recorded\, and produced from his studio in Biddeford Maine.
URL:https://projectsunapee.org/event/sunapee-coffeehouse-rob-duquette/
LOCATION:Lake Sunapee United Methodist Church\, 9 Lower Main Street\, Sunapee\, NH\, 03782
CATEGORIES:Music
ATTACH;FMTTYPE=image/jpeg:https://projectsunapee.org/wp-content/uploads/2025/09/RobDuquette-w200.jpg
END:VEVENT
BEGIN:VEVENT
DTSTART;TZID=America/New_York:20250909T100000
DTEND;TZID=America/New_York:20250909T100000
DTSTAMP:20260424T104633
CREATED:20250903T202312Z
LAST-MODIFIED:20250903T202533Z
UID:10000007-1757412000-1757412000@projectsunapee.org
SUMMARY:Nature Exploration Story Time - Goodbye Summer\, Hello Autumn
DESCRIPTION:Come join LSPA educators at the Center for Lake Studies to explore the natural world. NEST is filled with hands on learning through sensory experiences\, guided exploration\, creative play\, art\, and music. LSPA’s story time is designed for young children and their caregivers. Come to one Tuesday or all – each program is organized around a different ecological theme. Come join the fun! This Tuesday morning we will be exploring the seasonal changes happening outside and what the plants and animals are doing as summer fades away.
URL:https://projectsunapee.org/event/nature-exploration-story-time-goodbye-summer-hello-autumn/
LOCATION:Lake Sunapee Protective Association\, 63 Main Street\, Sunapee\, NH\, 03782
CATEGORIES:Sunapee Harbor
ATTACH;FMTTYPE=image/jpeg:https://projectsunapee.org/wp-content/uploads/2025/09/NEST.jpg
ORGANIZER;CN="Lake Sunapee Protective Association":MAILTO:lspa@lakesunapee.org
END:VEVENT
END:VCALENDAR