BEGIN:VCALENDAR
VERSION:2.0
PRODID:-//Project Sunapee - ECPv6.15.20//NONSGML v1.0//EN
CALSCALE:GREGORIAN
METHOD:PUBLISH
X-ORIGINAL-URL:https://projectsunapee.org
X-WR-CALDESC:Events for Project Sunapee
REFRESH-INTERVAL;VALUE=DURATION:PT1H
X-Robots-Tag:noindex
X-PUBLISHED-TTL:PT1H
BEGIN:VTIMEZONE
TZID:America/New_York
BEGIN:DAYLIGHT
TZOFFSETFROM:-0500
TZOFFSETTO:-0400
TZNAME:EDT
DTSTART:20250309T070000
END:DAYLIGHT
BEGIN:STANDARD
TZOFFSETFROM:-0400
TZOFFSETTO:-0500
TZNAME:EST
DTSTART:20251102T060000
END:STANDARD
BEGIN:DAYLIGHT
TZOFFSETFROM:-0500
TZOFFSETTO:-0400
TZNAME:EDT
DTSTART:20260308T070000
END:DAYLIGHT
BEGIN:STANDARD
TZOFFSETFROM:-0400
TZOFFSETTO:-0500
TZNAME:EST
DTSTART:20261101T060000
END:STANDARD
BEGIN:DAYLIGHT
TZOFFSETFROM:-0500
TZOFFSETTO:-0400
TZNAME:EDT
DTSTART:20270314T070000
END:DAYLIGHT
BEGIN:STANDARD
TZOFFSETFROM:-0400
TZOFFSETTO:-0500
TZNAME:EST
DTSTART:20271107T060000
END:STANDARD
END:VTIMEZONE
BEGIN:VEVENT
DTSTART;TZID=America/New_York:20261212T130000
DTEND;TZID=America/New_York:20261212T160000
DTSTAMP:20260424T064314
CREATED:20250905T132611Z
LAST-MODIFIED:20260126T203252Z
UID:10000499-1797080400-1797091200@projectsunapee.org
SUMMARY:Sunapee Village Christmas
DESCRIPTION:Write a letter to Santa to mail in the special mailbox in Sunapee Harbor.  Include your return address and receive a response from Santa\, Mrs. Claus\, or the Elves! \nSanta Firetruck Parade:  12:45 pm Departs from Safety Services on Sargent Rd\, to Central St\, River Rd\, through Sunapee Harbor to The Livery. \nSunapee Village: Grab an I Spy sheet from The Livery to participate in the scavenger hunt. Take a casual stroll through the village and stop to snap some great family photos! The Ben Mere  Bandstand will have a Christmas tree for photo opportunities. Enjoy wandering the harbor spreading holiday cheer! \nThe Livery: Visit Santa & Mrs. Claus (reservations required)\, gingerbread cookie decorations\, face painting\, embellish a holiday carad for our troops\, gingerbread house contest\, make a bookmark and receive a book. \nHorse & Carriage Rides from 1-4 pm in Sunapee Harbor.\nEnjoy a cup of hot chocolate at Prosect Hill Antiques and arts and crafts at Wild Goose Country Store. \nAuction:  Online and in person – all proceeds support this free event. \nFor Sale: Sunapee gear from Sunapee Middle High School. \nMore details added closer to the event!  Mark your calendars! \n  \n 
URL:https://projectsunapee.org/event/sunapee-village-christmas/
LOCATION:Sunapee Harbor\, Main Street\, Sunapee\, NH\, 03782-2925\, United States
CATEGORIES:Sunapee Harbor
ATTACH;FMTTYPE=image/webp:https://projectsunapee.org/wp-content/uploads/2025/09/2026-SVC2SM.webp
ORGANIZER;CN="Project Sunapee":MAILTO:info@projectsunapee.org
END:VEVENT
END:VCALENDAR