BEGIN:VCALENDAR
VERSION:2.0
PRODID:-//Project Sunapee - ECPv6.15.20//NONSGML v1.0//EN
CALSCALE:GREGORIAN
METHOD:PUBLISH
X-WR-CALNAME:Project Sunapee
X-ORIGINAL-URL:https://projectsunapee.org
X-WR-CALDESC:Events for Project Sunapee
REFRESH-INTERVAL;VALUE=DURATION:PT1H
X-Robots-Tag:noindex
X-PUBLISHED-TTL:PT1H
BEGIN:VTIMEZONE
TZID:America/New_York
BEGIN:DAYLIGHT
TZOFFSETFROM:-0500
TZOFFSETTO:-0400
TZNAME:EDT
DTSTART:20260308T070000
END:DAYLIGHT
BEGIN:STANDARD
TZOFFSETFROM:-0400
TZOFFSETTO:-0500
TZNAME:EST
DTSTART:20261101T060000
END:STANDARD
BEGIN:DAYLIGHT
TZOFFSETFROM:-0500
TZOFFSETTO:-0400
TZNAME:EDT
DTSTART:20270314T070000
END:DAYLIGHT
BEGIN:STANDARD
TZOFFSETFROM:-0400
TZOFFSETTO:-0500
TZNAME:EST
DTSTART:20271107T060000
END:STANDARD
BEGIN:DAYLIGHT
TZOFFSETFROM:-0500
TZOFFSETTO:-0400
TZNAME:EDT
DTSTART:20280312T070000
END:DAYLIGHT
BEGIN:STANDARD
TZOFFSETFROM:-0400
TZOFFSETTO:-0500
TZNAME:EST
DTSTART:20281105T060000
END:STANDARD
END:VTIMEZONE
BEGIN:VEVENT
DTSTART;TZID=America/New_York:20271006T120000
DTEND;TZID=America/New_York:20271006T123000
DTSTAMP:20260425T061701
CREATED:20260126T130837Z
LAST-MODIFIED:20260222T145722Z
UID:10004083-1822824000-1822825800@projectsunapee.org
SUMMARY:Walking in the Gym
DESCRIPTION:Walking in the Gym – The Sunapee Seniors have arranged for winter-time walking in the Sherburne Gym – Tuesday\, Wednesday & Thursday\, from 12:00-12:30 pm. A good opportunity to walk safely and enjoy conversation with others! Please bring dry sneakers/shoes for walking. Note – if there is no school\, there is no walking. Free.
URL:https://projectsunapee.org/event/waling-in-the-gym/2027-10-06/
LOCATION:Sherburne Gym
CATEGORIES:Recreation
ATTACH;FMTTYPE=image/webp:https://projectsunapee.org/wp-content/uploads/2026/01/shoes-1260811_640.webp
END:VEVENT
BEGIN:VEVENT
DTSTART;TZID=America/New_York:20271006T173000
DTEND;TZID=America/New_York:20271006T183000
DTSTAMP:20260425T061701
CREATED:20250904T204506Z
LAST-MODIFIED:20260114T174025Z
UID:10000186-1822843800-1822847400@projectsunapee.org
SUMMARY:Flow & Glow Yoga
DESCRIPTION:These vinyasa flow classes are designed to build flexibility\, stability\, strength\, balance\, focus and connect to self. We’ll link breath with flowing movements. All levels are welcome\, variations will be demonstrated. Beginner students will flow gently into modified postures and seasoned students can choose more advanced options. Class-goers will meet themselves on the mat\, free of judgment and full of acceptance. \n1 hour / $15
URL:https://projectsunapee.org/event/flow-glow-yoga/2027-10-06/
LOCATION:The Livery\, 58 Main Street\, Sunapee\, NH\, 03782-2925\, United States
CATEGORIES:Sunapee Harbor
ATTACH;FMTTYPE=image/webp:https://projectsunapee.org/wp-content/uploads/2025/10/yoga-livery.webp
END:VEVENT
BEGIN:VEVENT
DTSTART;TZID=America/New_York:20271007T140000
DTEND;TZID=America/New_York:20271007T160000
DTSTAMP:20260425T061701
CREATED:20260113T165639Z
LAST-MODIFIED:20260310T210715Z
UID:10003208-1822917600-1822924800@projectsunapee.org
SUMMARY:Abbott Library American Mah Jongg
DESCRIPTION:Interested in learning a new tabletop\, tile game?\nJoin the library’s volunteers as they play American Mah Jongg. This group is all levels and open to new players. All supplies are available at game time.\n\n\nFor more information on this program or other upcoming events\, please call or email the library at 603.763.5513 or at info@abbottlibrary.org.
URL:https://projectsunapee.org/event/abbott-library-american-mah-jongg/2027-10-07/
LOCATION:Abbott Library\, 11 Soonipi Circle\, Sunapee\, NH\, 03782-2925\, United States
CATEGORIES:Service
ATTACH;FMTTYPE=image/webp:https://projectsunapee.org/wp-content/uploads/2026/01/648608910_1352712146901929_7693543029887774243_n-e1773176825890.webp
ORGANIZER;CN="Abbott Library":MAILTO:info@abbottlibrary.org
END:VEVENT
BEGIN:VEVENT
DTSTART;TZID=America/New_York:20271009T080000
DTEND;TZID=America/New_York:20271009T090000
DTSTAMP:20260425T061701
CREATED:20251015T173911Z
LAST-MODIFIED:20260114T173926Z
UID:10001325-1823068800-1823072400@projectsunapee.org
SUMMARY:Flow & Glow Yoga
DESCRIPTION:These vinyasa flow classes are designed to build flexibility\, stability\, strength\, balance\, focus and connect to self. We’ll link breath with flowing movements. All levels are welcome\, variations will be demonstrated. Beginner students will flow gently into modified postures and seasoned students can choose more advanced options. Class-goers will meet themselves on the mat\, free of judgment and full of acceptance. \n1 hour / $15
URL:https://projectsunapee.org/event/flow-glow-yoga-2/2027-10-09/
LOCATION:The Livery\, 58 Main Street\, Sunapee\, NH\, 03782-2925\, United States
CATEGORIES:Sunapee Harbor
ATTACH;FMTTYPE=image/webp:https://projectsunapee.org/wp-content/uploads/2025/10/yoga-livery.webp
END:VEVENT
BEGIN:VEVENT
DTSTART;TZID=America/New_York:20271014T180000
DTEND;TZID=America/New_York:20271014T200000
DTSTAMP:20260425T061701
CREATED:20260224T113543Z
LAST-MODIFIED:20260224T113800Z
UID:10004933-1823536800-1823544000@projectsunapee.org
SUMMARY:Trivia at Hoptimystic Brewing
DESCRIPTION:Thursdays are for trivia and happy hour! \nGrab a seat\, fuel up with some seriously delicious food from Fenton’s Landing\, and get ready to test your trivia skills. Seats will go fast so arrive early to claim your spot!
URL:https://projectsunapee.org/event/trivia-at-hoptimystic-brewing-2/2027-10-14/
LOCATION:Hoptimystic Brewery\, 31 River Road\, Sunapee\, NH\, 03782
CATEGORIES:Sunapee Harbor
ATTACH;FMTTYPE=image/webp:https://projectsunapee.org/wp-content/uploads/2026/02/oeop1zoxxo1g-IMG_4781.webp
ORGANIZER;CN="Hoptimystic Brewing":MAILTO:hoptimysticbrewingNH@gmail.com
END:VEVENT
BEGIN:VEVENT
DTSTART;TZID=America/New_York:20271015T153000
DTEND;TZID=America/New_York:20271015T170000
DTSTAMP:20260425T061701
CREATED:20260113T170010Z
LAST-MODIFIED:20260113T170010Z
UID:10003401-1823614200-1823619600@projectsunapee.org
SUMMARY:Teen D-n-D
DESCRIPTION:Hail\, adventurers! Are you ready to roll the dice and change your destiny? Embark on daring quests\, escape treacherous traps\, and forge alliances with fellow adventurers at our monthly Dungeons and Dragons session. \nFor Teens 12-18. \nAll skills levels are welcome \nFor more information call 603-763-5513 or email info@abbottlibrary.org
URL:https://projectsunapee.org/event/teen-d-n-d/2027-10-15/
LOCATION:Abbott Library\, 11 Soonipi Circle\, Sunapee\, NH\, 03782-2925\, United States
CATEGORIES:Service
ATTACH;FMTTYPE=image/jpeg:https://projectsunapee.org/wp-content/uploads/2026/01/teendnd_40_md.jpg
ORGANIZER;CN="Abbott Library":MAILTO:info@abbottlibrary.org
END:VEVENT
END:VCALENDAR