BEGIN:VCALENDAR
VERSION:2.0
PRODID:-//Project Sunapee - ECPv6.15.20//NONSGML v1.0//EN
CALSCALE:GREGORIAN
METHOD:PUBLISH
X-WR-CALNAME:Project Sunapee
X-ORIGINAL-URL:https://projectsunapee.org
X-WR-CALDESC:Events for Project Sunapee
REFRESH-INTERVAL;VALUE=DURATION:PT1H
X-Robots-Tag:noindex
X-PUBLISHED-TTL:PT1H
BEGIN:VTIMEZONE
TZID:America/New_York
BEGIN:DAYLIGHT
TZOFFSETFROM:-0500
TZOFFSETTO:-0400
TZNAME:EDT
DTSTART:20250309T070000
END:DAYLIGHT
BEGIN:STANDARD
TZOFFSETFROM:-0400
TZOFFSETTO:-0500
TZNAME:EST
DTSTART:20251102T060000
END:STANDARD
BEGIN:DAYLIGHT
TZOFFSETFROM:-0500
TZOFFSETTO:-0400
TZNAME:EDT
DTSTART:20260308T070000
END:DAYLIGHT
BEGIN:STANDARD
TZOFFSETFROM:-0400
TZOFFSETTO:-0500
TZNAME:EST
DTSTART:20261101T060000
END:STANDARD
BEGIN:DAYLIGHT
TZOFFSETFROM:-0500
TZOFFSETTO:-0400
TZNAME:EDT
DTSTART:20270314T070000
END:DAYLIGHT
BEGIN:STANDARD
TZOFFSETFROM:-0400
TZOFFSETTO:-0500
TZNAME:EST
DTSTART:20271107T060000
END:STANDARD
BEGIN:DAYLIGHT
TZOFFSETFROM:-0500
TZOFFSETTO:-0400
TZNAME:EDT
DTSTART:20280312T070000
END:DAYLIGHT
BEGIN:STANDARD
TZOFFSETFROM:-0400
TZOFFSETTO:-0500
TZNAME:EST
DTSTART:20281105T060000
END:STANDARD
END:VTIMEZONE
BEGIN:VEVENT
DTSTART;TZID=America/New_York:20260430T180000
DTEND;TZID=America/New_York:20260430T200000
DTSTAMP:20260423T192208
CREATED:20260224T113543Z
LAST-MODIFIED:20260224T113800Z
UID:10004895-1777572000-1777579200@projectsunapee.org
SUMMARY:Trivia at Hoptimystic Brewing
DESCRIPTION:Thursdays are for trivia and happy hour! \nGrab a seat\, fuel up with some seriously delicious food from Fenton’s Landing\, and get ready to test your trivia skills. Seats will go fast so arrive early to claim your spot!
URL:https://projectsunapee.org/event/trivia-at-hoptimystic-brewing-2/2026-04-30/
LOCATION:Hoptimystic Brewery\, 31 River Road\, Sunapee\, NH\, 03782
CATEGORIES:Sunapee Harbor
ATTACH;FMTTYPE=image/webp:https://projectsunapee.org/wp-content/uploads/2026/02/oeop1zoxxo1g-IMG_4781.webp
ORGANIZER;CN="Hoptimystic Brewing":MAILTO:hoptimysticbrewingNH@gmail.com
END:VEVENT
BEGIN:VEVENT
DTSTART;TZID=America/New_York:20260514T180000
DTEND;TZID=America/New_York:20260514T200000
DTSTAMP:20260423T192208
CREATED:20260224T113543Z
LAST-MODIFIED:20260224T113800Z
UID:10004896-1778781600-1778788800@projectsunapee.org
SUMMARY:Trivia at Hoptimystic Brewing
DESCRIPTION:Thursdays are for trivia and happy hour! \nGrab a seat\, fuel up with some seriously delicious food from Fenton’s Landing\, and get ready to test your trivia skills. Seats will go fast so arrive early to claim your spot!
URL:https://projectsunapee.org/event/trivia-at-hoptimystic-brewing-2/2026-05-14/
LOCATION:Hoptimystic Brewery\, 31 River Road\, Sunapee\, NH\, 03782
CATEGORIES:Sunapee Harbor
ATTACH;FMTTYPE=image/webp:https://projectsunapee.org/wp-content/uploads/2026/02/oeop1zoxxo1g-IMG_4781.webp
ORGANIZER;CN="Hoptimystic Brewing":MAILTO:hoptimysticbrewingNH@gmail.com
END:VEVENT
BEGIN:VEVENT
DTSTART;TZID=America/New_York:20260528T180000
DTEND;TZID=America/New_York:20260528T200000
DTSTAMP:20260423T192208
CREATED:20260224T113543Z
LAST-MODIFIED:20260224T113800Z
UID:10004897-1779991200-1779998400@projectsunapee.org
SUMMARY:Trivia at Hoptimystic Brewing
DESCRIPTION:Thursdays are for trivia and happy hour! \nGrab a seat\, fuel up with some seriously delicious food from Fenton’s Landing\, and get ready to test your trivia skills. Seats will go fast so arrive early to claim your spot!
URL:https://projectsunapee.org/event/trivia-at-hoptimystic-brewing-2/2026-05-28/
LOCATION:Hoptimystic Brewery\, 31 River Road\, Sunapee\, NH\, 03782
CATEGORIES:Sunapee Harbor
ATTACH;FMTTYPE=image/webp:https://projectsunapee.org/wp-content/uploads/2026/02/oeop1zoxxo1g-IMG_4781.webp
ORGANIZER;CN="Hoptimystic Brewing":MAILTO:hoptimysticbrewingNH@gmail.com
END:VEVENT
BEGIN:VEVENT
DTSTART;TZID=America/New_York:20260611T180000
DTEND;TZID=America/New_York:20260611T200000
DTSTAMP:20260423T192208
CREATED:20260224T113543Z
LAST-MODIFIED:20260224T113800Z
UID:10004898-1781200800-1781208000@projectsunapee.org
SUMMARY:Trivia at Hoptimystic Brewing
DESCRIPTION:Thursdays are for trivia and happy hour! \nGrab a seat\, fuel up with some seriously delicious food from Fenton’s Landing\, and get ready to test your trivia skills. Seats will go fast so arrive early to claim your spot!
URL:https://projectsunapee.org/event/trivia-at-hoptimystic-brewing-2/2026-06-11/
LOCATION:Hoptimystic Brewery\, 31 River Road\, Sunapee\, NH\, 03782
CATEGORIES:Sunapee Harbor
ATTACH;FMTTYPE=image/webp:https://projectsunapee.org/wp-content/uploads/2026/02/oeop1zoxxo1g-IMG_4781.webp
ORGANIZER;CN="Hoptimystic Brewing":MAILTO:hoptimysticbrewingNH@gmail.com
END:VEVENT
BEGIN:VEVENT
DTSTART;TZID=America/New_York:20260625T180000
DTEND;TZID=America/New_York:20260625T200000
DTSTAMP:20260423T192208
CREATED:20260224T113543Z
LAST-MODIFIED:20260224T113800Z
UID:10004899-1782410400-1782417600@projectsunapee.org
SUMMARY:Trivia at Hoptimystic Brewing
DESCRIPTION:Thursdays are for trivia and happy hour! \nGrab a seat\, fuel up with some seriously delicious food from Fenton’s Landing\, and get ready to test your trivia skills. Seats will go fast so arrive early to claim your spot!
URL:https://projectsunapee.org/event/trivia-at-hoptimystic-brewing-2/2026-06-25/
LOCATION:Hoptimystic Brewery\, 31 River Road\, Sunapee\, NH\, 03782
CATEGORIES:Sunapee Harbor
ATTACH;FMTTYPE=image/webp:https://projectsunapee.org/wp-content/uploads/2026/02/oeop1zoxxo1g-IMG_4781.webp
ORGANIZER;CN="Hoptimystic Brewing":MAILTO:hoptimysticbrewingNH@gmail.com
END:VEVENT
BEGIN:VEVENT
DTSTART;TZID=America/New_York:20260709T180000
DTEND;TZID=America/New_York:20260709T200000
DTSTAMP:20260423T192208
CREATED:20260224T113543Z
LAST-MODIFIED:20260224T113800Z
UID:10004900-1783620000-1783627200@projectsunapee.org
SUMMARY:Trivia at Hoptimystic Brewing
DESCRIPTION:Thursdays are for trivia and happy hour! \nGrab a seat\, fuel up with some seriously delicious food from Fenton’s Landing\, and get ready to test your trivia skills. Seats will go fast so arrive early to claim your spot!
URL:https://projectsunapee.org/event/trivia-at-hoptimystic-brewing-2/2026-07-09/
LOCATION:Hoptimystic Brewery\, 31 River Road\, Sunapee\, NH\, 03782
CATEGORIES:Sunapee Harbor
ATTACH;FMTTYPE=image/webp:https://projectsunapee.org/wp-content/uploads/2026/02/oeop1zoxxo1g-IMG_4781.webp
ORGANIZER;CN="Hoptimystic Brewing":MAILTO:hoptimysticbrewingNH@gmail.com
END:VEVENT
BEGIN:VEVENT
DTSTART;TZID=America/New_York:20260723T180000
DTEND;TZID=America/New_York:20260723T200000
DTSTAMP:20260423T192208
CREATED:20260224T113543Z
LAST-MODIFIED:20260224T113800Z
UID:10004901-1784829600-1784836800@projectsunapee.org
SUMMARY:Trivia at Hoptimystic Brewing
DESCRIPTION:Thursdays are for trivia and happy hour! \nGrab a seat\, fuel up with some seriously delicious food from Fenton’s Landing\, and get ready to test your trivia skills. Seats will go fast so arrive early to claim your spot!
URL:https://projectsunapee.org/event/trivia-at-hoptimystic-brewing-2/2026-07-23/
LOCATION:Hoptimystic Brewery\, 31 River Road\, Sunapee\, NH\, 03782
CATEGORIES:Sunapee Harbor
ATTACH;FMTTYPE=image/webp:https://projectsunapee.org/wp-content/uploads/2026/02/oeop1zoxxo1g-IMG_4781.webp
ORGANIZER;CN="Hoptimystic Brewing":MAILTO:hoptimysticbrewingNH@gmail.com
END:VEVENT
BEGIN:VEVENT
DTSTART;TZID=America/New_York:20260806T180000
DTEND;TZID=America/New_York:20260806T200000
DTSTAMP:20260423T192208
CREATED:20260224T113543Z
LAST-MODIFIED:20260224T113800Z
UID:10004902-1786039200-1786046400@projectsunapee.org
SUMMARY:Trivia at Hoptimystic Brewing
DESCRIPTION:Thursdays are for trivia and happy hour! \nGrab a seat\, fuel up with some seriously delicious food from Fenton’s Landing\, and get ready to test your trivia skills. Seats will go fast so arrive early to claim your spot!
URL:https://projectsunapee.org/event/trivia-at-hoptimystic-brewing-2/2026-08-06/
LOCATION:Hoptimystic Brewery\, 31 River Road\, Sunapee\, NH\, 03782
CATEGORIES:Sunapee Harbor
ATTACH;FMTTYPE=image/webp:https://projectsunapee.org/wp-content/uploads/2026/02/oeop1zoxxo1g-IMG_4781.webp
ORGANIZER;CN="Hoptimystic Brewing":MAILTO:hoptimysticbrewingNH@gmail.com
END:VEVENT
BEGIN:VEVENT
DTSTART;TZID=America/New_York:20260820T180000
DTEND;TZID=America/New_York:20260820T200000
DTSTAMP:20260423T192208
CREATED:20260224T113543Z
LAST-MODIFIED:20260224T113800Z
UID:10004903-1787248800-1787256000@projectsunapee.org
SUMMARY:Trivia at Hoptimystic Brewing
DESCRIPTION:Thursdays are for trivia and happy hour! \nGrab a seat\, fuel up with some seriously delicious food from Fenton’s Landing\, and get ready to test your trivia skills. Seats will go fast so arrive early to claim your spot!
URL:https://projectsunapee.org/event/trivia-at-hoptimystic-brewing-2/2026-08-20/
LOCATION:Hoptimystic Brewery\, 31 River Road\, Sunapee\, NH\, 03782
CATEGORIES:Sunapee Harbor
ATTACH;FMTTYPE=image/webp:https://projectsunapee.org/wp-content/uploads/2026/02/oeop1zoxxo1g-IMG_4781.webp
ORGANIZER;CN="Hoptimystic Brewing":MAILTO:hoptimysticbrewingNH@gmail.com
END:VEVENT
BEGIN:VEVENT
DTSTART;TZID=America/New_York:20260903T180000
DTEND;TZID=America/New_York:20260903T200000
DTSTAMP:20260423T192208
CREATED:20260224T113543Z
LAST-MODIFIED:20260224T113800Z
UID:10004904-1788458400-1788465600@projectsunapee.org
SUMMARY:Trivia at Hoptimystic Brewing
DESCRIPTION:Thursdays are for trivia and happy hour! \nGrab a seat\, fuel up with some seriously delicious food from Fenton’s Landing\, and get ready to test your trivia skills. Seats will go fast so arrive early to claim your spot!
URL:https://projectsunapee.org/event/trivia-at-hoptimystic-brewing-2/2026-09-03/
LOCATION:Hoptimystic Brewery\, 31 River Road\, Sunapee\, NH\, 03782
CATEGORIES:Sunapee Harbor
ATTACH;FMTTYPE=image/webp:https://projectsunapee.org/wp-content/uploads/2026/02/oeop1zoxxo1g-IMG_4781.webp
ORGANIZER;CN="Hoptimystic Brewing":MAILTO:hoptimysticbrewingNH@gmail.com
END:VEVENT
BEGIN:VEVENT
DTSTART;TZID=America/New_York:20260917T180000
DTEND;TZID=America/New_York:20260917T200000
DTSTAMP:20260423T192208
CREATED:20260224T113543Z
LAST-MODIFIED:20260224T113800Z
UID:10004905-1789668000-1789675200@projectsunapee.org
SUMMARY:Trivia at Hoptimystic Brewing
DESCRIPTION:Thursdays are for trivia and happy hour! \nGrab a seat\, fuel up with some seriously delicious food from Fenton’s Landing\, and get ready to test your trivia skills. Seats will go fast so arrive early to claim your spot!
URL:https://projectsunapee.org/event/trivia-at-hoptimystic-brewing-2/2026-09-17/
LOCATION:Hoptimystic Brewery\, 31 River Road\, Sunapee\, NH\, 03782
CATEGORIES:Sunapee Harbor
ATTACH;FMTTYPE=image/webp:https://projectsunapee.org/wp-content/uploads/2026/02/oeop1zoxxo1g-IMG_4781.webp
ORGANIZER;CN="Hoptimystic Brewing":MAILTO:hoptimysticbrewingNH@gmail.com
END:VEVENT
BEGIN:VEVENT
DTSTART;TZID=America/New_York:20261001T180000
DTEND;TZID=America/New_York:20261001T200000
DTSTAMP:20260423T192208
CREATED:20260224T113543Z
LAST-MODIFIED:20260224T113800Z
UID:10004906-1790877600-1790884800@projectsunapee.org
SUMMARY:Trivia at Hoptimystic Brewing
DESCRIPTION:Thursdays are for trivia and happy hour! \nGrab a seat\, fuel up with some seriously delicious food from Fenton’s Landing\, and get ready to test your trivia skills. Seats will go fast so arrive early to claim your spot!
URL:https://projectsunapee.org/event/trivia-at-hoptimystic-brewing-2/2026-10-01/
LOCATION:Hoptimystic Brewery\, 31 River Road\, Sunapee\, NH\, 03782
CATEGORIES:Sunapee Harbor
ATTACH;FMTTYPE=image/webp:https://projectsunapee.org/wp-content/uploads/2026/02/oeop1zoxxo1g-IMG_4781.webp
ORGANIZER;CN="Hoptimystic Brewing":MAILTO:hoptimysticbrewingNH@gmail.com
END:VEVENT
BEGIN:VEVENT
DTSTART;TZID=America/New_York:20261015T180000
DTEND;TZID=America/New_York:20261015T200000
DTSTAMP:20260423T192208
CREATED:20260224T113543Z
LAST-MODIFIED:20260224T113800Z
UID:10004907-1792087200-1792094400@projectsunapee.org
SUMMARY:Trivia at Hoptimystic Brewing
DESCRIPTION:Thursdays are for trivia and happy hour! \nGrab a seat\, fuel up with some seriously delicious food from Fenton’s Landing\, and get ready to test your trivia skills. Seats will go fast so arrive early to claim your spot!
URL:https://projectsunapee.org/event/trivia-at-hoptimystic-brewing-2/2026-10-15/
LOCATION:Hoptimystic Brewery\, 31 River Road\, Sunapee\, NH\, 03782
CATEGORIES:Sunapee Harbor
ATTACH;FMTTYPE=image/webp:https://projectsunapee.org/wp-content/uploads/2026/02/oeop1zoxxo1g-IMG_4781.webp
ORGANIZER;CN="Hoptimystic Brewing":MAILTO:hoptimysticbrewingNH@gmail.com
END:VEVENT
BEGIN:VEVENT
DTSTART;TZID=America/New_York:20261029T180000
DTEND;TZID=America/New_York:20261029T200000
DTSTAMP:20260423T192208
CREATED:20260224T113543Z
LAST-MODIFIED:20260224T113800Z
UID:10004908-1793296800-1793304000@projectsunapee.org
SUMMARY:Trivia at Hoptimystic Brewing
DESCRIPTION:Thursdays are for trivia and happy hour! \nGrab a seat\, fuel up with some seriously delicious food from Fenton’s Landing\, and get ready to test your trivia skills. Seats will go fast so arrive early to claim your spot!
URL:https://projectsunapee.org/event/trivia-at-hoptimystic-brewing-2/2026-10-29/
LOCATION:Hoptimystic Brewery\, 31 River Road\, Sunapee\, NH\, 03782
CATEGORIES:Sunapee Harbor
ATTACH;FMTTYPE=image/webp:https://projectsunapee.org/wp-content/uploads/2026/02/oeop1zoxxo1g-IMG_4781.webp
ORGANIZER;CN="Hoptimystic Brewing":MAILTO:hoptimysticbrewingNH@gmail.com
END:VEVENT
BEGIN:VEVENT
DTSTART;TZID=America/New_York:20261112T180000
DTEND;TZID=America/New_York:20261112T200000
DTSTAMP:20260423T192208
CREATED:20260224T113543Z
LAST-MODIFIED:20260224T113800Z
UID:10004909-1794506400-1794513600@projectsunapee.org
SUMMARY:Trivia at Hoptimystic Brewing
DESCRIPTION:Thursdays are for trivia and happy hour! \nGrab a seat\, fuel up with some seriously delicious food from Fenton’s Landing\, and get ready to test your trivia skills. Seats will go fast so arrive early to claim your spot!
URL:https://projectsunapee.org/event/trivia-at-hoptimystic-brewing-2/2026-11-12/
LOCATION:Hoptimystic Brewery\, 31 River Road\, Sunapee\, NH\, 03782
CATEGORIES:Sunapee Harbor
ATTACH;FMTTYPE=image/webp:https://projectsunapee.org/wp-content/uploads/2026/02/oeop1zoxxo1g-IMG_4781.webp
ORGANIZER;CN="Hoptimystic Brewing":MAILTO:hoptimysticbrewingNH@gmail.com
END:VEVENT
BEGIN:VEVENT
DTSTART;TZID=America/New_York:20261126T180000
DTEND;TZID=America/New_York:20261126T200000
DTSTAMP:20260423T192208
CREATED:20260224T113543Z
LAST-MODIFIED:20260224T113800Z
UID:10004910-1795716000-1795723200@projectsunapee.org
SUMMARY:Trivia at Hoptimystic Brewing
DESCRIPTION:Thursdays are for trivia and happy hour! \nGrab a seat\, fuel up with some seriously delicious food from Fenton’s Landing\, and get ready to test your trivia skills. Seats will go fast so arrive early to claim your spot!
URL:https://projectsunapee.org/event/trivia-at-hoptimystic-brewing-2/2026-11-26/
LOCATION:Hoptimystic Brewery\, 31 River Road\, Sunapee\, NH\, 03782
CATEGORIES:Sunapee Harbor
ATTACH;FMTTYPE=image/webp:https://projectsunapee.org/wp-content/uploads/2026/02/oeop1zoxxo1g-IMG_4781.webp
ORGANIZER;CN="Hoptimystic Brewing":MAILTO:hoptimysticbrewingNH@gmail.com
END:VEVENT
BEGIN:VEVENT
DTSTART;TZID=America/New_York:20261210T180000
DTEND;TZID=America/New_York:20261210T200000
DTSTAMP:20260423T192208
CREATED:20260224T113543Z
LAST-MODIFIED:20260224T113800Z
UID:10004911-1796925600-1796932800@projectsunapee.org
SUMMARY:Trivia at Hoptimystic Brewing
DESCRIPTION:Thursdays are for trivia and happy hour! \nGrab a seat\, fuel up with some seriously delicious food from Fenton’s Landing\, and get ready to test your trivia skills. Seats will go fast so arrive early to claim your spot!
URL:https://projectsunapee.org/event/trivia-at-hoptimystic-brewing-2/2026-12-10/
LOCATION:Hoptimystic Brewery\, 31 River Road\, Sunapee\, NH\, 03782
CATEGORIES:Sunapee Harbor
ATTACH;FMTTYPE=image/webp:https://projectsunapee.org/wp-content/uploads/2026/02/oeop1zoxxo1g-IMG_4781.webp
ORGANIZER;CN="Hoptimystic Brewing":MAILTO:hoptimysticbrewingNH@gmail.com
END:VEVENT
BEGIN:VEVENT
DTSTART;TZID=America/New_York:20261224T180000
DTEND;TZID=America/New_York:20261224T200000
DTSTAMP:20260423T192208
CREATED:20260224T113543Z
LAST-MODIFIED:20260224T113800Z
UID:10004912-1798135200-1798142400@projectsunapee.org
SUMMARY:Trivia at Hoptimystic Brewing
DESCRIPTION:Thursdays are for trivia and happy hour! \nGrab a seat\, fuel up with some seriously delicious food from Fenton’s Landing\, and get ready to test your trivia skills. Seats will go fast so arrive early to claim your spot!
URL:https://projectsunapee.org/event/trivia-at-hoptimystic-brewing-2/2026-12-24/
LOCATION:Hoptimystic Brewery\, 31 River Road\, Sunapee\, NH\, 03782
CATEGORIES:Sunapee Harbor
ATTACH;FMTTYPE=image/webp:https://projectsunapee.org/wp-content/uploads/2026/02/oeop1zoxxo1g-IMG_4781.webp
ORGANIZER;CN="Hoptimystic Brewing":MAILTO:hoptimysticbrewingNH@gmail.com
END:VEVENT
BEGIN:VEVENT
DTSTART;TZID=America/New_York:20270107T180000
DTEND;TZID=America/New_York:20270107T200000
DTSTAMP:20260423T192208
CREATED:20260224T113543Z
LAST-MODIFIED:20260224T113800Z
UID:10004913-1799344800-1799352000@projectsunapee.org
SUMMARY:Trivia at Hoptimystic Brewing
DESCRIPTION:Thursdays are for trivia and happy hour! \nGrab a seat\, fuel up with some seriously delicious food from Fenton’s Landing\, and get ready to test your trivia skills. Seats will go fast so arrive early to claim your spot!
URL:https://projectsunapee.org/event/trivia-at-hoptimystic-brewing-2/2027-01-07/
LOCATION:Hoptimystic Brewery\, 31 River Road\, Sunapee\, NH\, 03782
CATEGORIES:Sunapee Harbor
ATTACH;FMTTYPE=image/webp:https://projectsunapee.org/wp-content/uploads/2026/02/oeop1zoxxo1g-IMG_4781.webp
ORGANIZER;CN="Hoptimystic Brewing":MAILTO:hoptimysticbrewingNH@gmail.com
END:VEVENT
BEGIN:VEVENT
DTSTART;TZID=America/New_York:20270121T180000
DTEND;TZID=America/New_York:20270121T200000
DTSTAMP:20260423T192208
CREATED:20260224T113543Z
LAST-MODIFIED:20260224T113800Z
UID:10004914-1800554400-1800561600@projectsunapee.org
SUMMARY:Trivia at Hoptimystic Brewing
DESCRIPTION:Thursdays are for trivia and happy hour! \nGrab a seat\, fuel up with some seriously delicious food from Fenton’s Landing\, and get ready to test your trivia skills. Seats will go fast so arrive early to claim your spot!
URL:https://projectsunapee.org/event/trivia-at-hoptimystic-brewing-2/2027-01-21/
LOCATION:Hoptimystic Brewery\, 31 River Road\, Sunapee\, NH\, 03782
CATEGORIES:Sunapee Harbor
ATTACH;FMTTYPE=image/webp:https://projectsunapee.org/wp-content/uploads/2026/02/oeop1zoxxo1g-IMG_4781.webp
ORGANIZER;CN="Hoptimystic Brewing":MAILTO:hoptimysticbrewingNH@gmail.com
END:VEVENT
BEGIN:VEVENT
DTSTART;TZID=America/New_York:20270204T180000
DTEND;TZID=America/New_York:20270204T200000
DTSTAMP:20260423T192208
CREATED:20260224T113543Z
LAST-MODIFIED:20260224T113800Z
UID:10004915-1801764000-1801771200@projectsunapee.org
SUMMARY:Trivia at Hoptimystic Brewing
DESCRIPTION:Thursdays are for trivia and happy hour! \nGrab a seat\, fuel up with some seriously delicious food from Fenton’s Landing\, and get ready to test your trivia skills. Seats will go fast so arrive early to claim your spot!
URL:https://projectsunapee.org/event/trivia-at-hoptimystic-brewing-2/2027-02-04/
LOCATION:Hoptimystic Brewery\, 31 River Road\, Sunapee\, NH\, 03782
CATEGORIES:Sunapee Harbor
ATTACH;FMTTYPE=image/webp:https://projectsunapee.org/wp-content/uploads/2026/02/oeop1zoxxo1g-IMG_4781.webp
ORGANIZER;CN="Hoptimystic Brewing":MAILTO:hoptimysticbrewingNH@gmail.com
END:VEVENT
BEGIN:VEVENT
DTSTART;TZID=America/New_York:20270218T180000
DTEND;TZID=America/New_York:20270218T200000
DTSTAMP:20260423T192208
CREATED:20260224T113543Z
LAST-MODIFIED:20260224T113800Z
UID:10004916-1802973600-1802980800@projectsunapee.org
SUMMARY:Trivia at Hoptimystic Brewing
DESCRIPTION:Thursdays are for trivia and happy hour! \nGrab a seat\, fuel up with some seriously delicious food from Fenton’s Landing\, and get ready to test your trivia skills. Seats will go fast so arrive early to claim your spot!
URL:https://projectsunapee.org/event/trivia-at-hoptimystic-brewing-2/2027-02-18/
LOCATION:Hoptimystic Brewery\, 31 River Road\, Sunapee\, NH\, 03782
CATEGORIES:Sunapee Harbor
ATTACH;FMTTYPE=image/webp:https://projectsunapee.org/wp-content/uploads/2026/02/oeop1zoxxo1g-IMG_4781.webp
ORGANIZER;CN="Hoptimystic Brewing":MAILTO:hoptimysticbrewingNH@gmail.com
END:VEVENT
BEGIN:VEVENT
DTSTART;TZID=America/New_York:20270304T180000
DTEND;TZID=America/New_York:20270304T200000
DTSTAMP:20260423T192208
CREATED:20260224T113543Z
LAST-MODIFIED:20260224T113800Z
UID:10004917-1804183200-1804190400@projectsunapee.org
SUMMARY:Trivia at Hoptimystic Brewing
DESCRIPTION:Thursdays are for trivia and happy hour! \nGrab a seat\, fuel up with some seriously delicious food from Fenton’s Landing\, and get ready to test your trivia skills. Seats will go fast so arrive early to claim your spot!
URL:https://projectsunapee.org/event/trivia-at-hoptimystic-brewing-2/2027-03-04/
LOCATION:Hoptimystic Brewery\, 31 River Road\, Sunapee\, NH\, 03782
CATEGORIES:Sunapee Harbor
ATTACH;FMTTYPE=image/webp:https://projectsunapee.org/wp-content/uploads/2026/02/oeop1zoxxo1g-IMG_4781.webp
ORGANIZER;CN="Hoptimystic Brewing":MAILTO:hoptimysticbrewingNH@gmail.com
END:VEVENT
BEGIN:VEVENT
DTSTART;TZID=America/New_York:20270318T180000
DTEND;TZID=America/New_York:20270318T200000
DTSTAMP:20260423T192208
CREATED:20260224T113543Z
LAST-MODIFIED:20260224T113800Z
UID:10004918-1805392800-1805400000@projectsunapee.org
SUMMARY:Trivia at Hoptimystic Brewing
DESCRIPTION:Thursdays are for trivia and happy hour! \nGrab a seat\, fuel up with some seriously delicious food from Fenton’s Landing\, and get ready to test your trivia skills. Seats will go fast so arrive early to claim your spot!
URL:https://projectsunapee.org/event/trivia-at-hoptimystic-brewing-2/2027-03-18/
LOCATION:Hoptimystic Brewery\, 31 River Road\, Sunapee\, NH\, 03782
CATEGORIES:Sunapee Harbor
ATTACH;FMTTYPE=image/webp:https://projectsunapee.org/wp-content/uploads/2026/02/oeop1zoxxo1g-IMG_4781.webp
ORGANIZER;CN="Hoptimystic Brewing":MAILTO:hoptimysticbrewingNH@gmail.com
END:VEVENT
BEGIN:VEVENT
DTSTART;TZID=America/New_York:20270401T180000
DTEND;TZID=America/New_York:20270401T200000
DTSTAMP:20260423T192208
CREATED:20260224T113543Z
LAST-MODIFIED:20260224T113800Z
UID:10004919-1806602400-1806609600@projectsunapee.org
SUMMARY:Trivia at Hoptimystic Brewing
DESCRIPTION:Thursdays are for trivia and happy hour! \nGrab a seat\, fuel up with some seriously delicious food from Fenton’s Landing\, and get ready to test your trivia skills. Seats will go fast so arrive early to claim your spot!
URL:https://projectsunapee.org/event/trivia-at-hoptimystic-brewing-2/2027-04-01/
LOCATION:Hoptimystic Brewery\, 31 River Road\, Sunapee\, NH\, 03782
CATEGORIES:Sunapee Harbor
ATTACH;FMTTYPE=image/webp:https://projectsunapee.org/wp-content/uploads/2026/02/oeop1zoxxo1g-IMG_4781.webp
ORGANIZER;CN="Hoptimystic Brewing":MAILTO:hoptimysticbrewingNH@gmail.com
END:VEVENT
BEGIN:VEVENT
DTSTART;TZID=America/New_York:20270415T180000
DTEND;TZID=America/New_York:20270415T200000
DTSTAMP:20260423T192208
CREATED:20260224T113543Z
LAST-MODIFIED:20260224T113800Z
UID:10004920-1807812000-1807819200@projectsunapee.org
SUMMARY:Trivia at Hoptimystic Brewing
DESCRIPTION:Thursdays are for trivia and happy hour! \nGrab a seat\, fuel up with some seriously delicious food from Fenton’s Landing\, and get ready to test your trivia skills. Seats will go fast so arrive early to claim your spot!
URL:https://projectsunapee.org/event/trivia-at-hoptimystic-brewing-2/2027-04-15/
LOCATION:Hoptimystic Brewery\, 31 River Road\, Sunapee\, NH\, 03782
CATEGORIES:Sunapee Harbor
ATTACH;FMTTYPE=image/webp:https://projectsunapee.org/wp-content/uploads/2026/02/oeop1zoxxo1g-IMG_4781.webp
ORGANIZER;CN="Hoptimystic Brewing":MAILTO:hoptimysticbrewingNH@gmail.com
END:VEVENT
BEGIN:VEVENT
DTSTART;TZID=America/New_York:20270429T180000
DTEND;TZID=America/New_York:20270429T200000
DTSTAMP:20260423T192208
CREATED:20260224T113543Z
LAST-MODIFIED:20260224T113800Z
UID:10004921-1809021600-1809028800@projectsunapee.org
SUMMARY:Trivia at Hoptimystic Brewing
DESCRIPTION:Thursdays are for trivia and happy hour! \nGrab a seat\, fuel up with some seriously delicious food from Fenton’s Landing\, and get ready to test your trivia skills. Seats will go fast so arrive early to claim your spot!
URL:https://projectsunapee.org/event/trivia-at-hoptimystic-brewing-2/2027-04-29/
LOCATION:Hoptimystic Brewery\, 31 River Road\, Sunapee\, NH\, 03782
CATEGORIES:Sunapee Harbor
ATTACH;FMTTYPE=image/webp:https://projectsunapee.org/wp-content/uploads/2026/02/oeop1zoxxo1g-IMG_4781.webp
ORGANIZER;CN="Hoptimystic Brewing":MAILTO:hoptimysticbrewingNH@gmail.com
END:VEVENT
BEGIN:VEVENT
DTSTART;TZID=America/New_York:20270513T180000
DTEND;TZID=America/New_York:20270513T200000
DTSTAMP:20260423T192208
CREATED:20260224T113543Z
LAST-MODIFIED:20260224T113800Z
UID:10004922-1810231200-1810238400@projectsunapee.org
SUMMARY:Trivia at Hoptimystic Brewing
DESCRIPTION:Thursdays are for trivia and happy hour! \nGrab a seat\, fuel up with some seriously delicious food from Fenton’s Landing\, and get ready to test your trivia skills. Seats will go fast so arrive early to claim your spot!
URL:https://projectsunapee.org/event/trivia-at-hoptimystic-brewing-2/2027-05-13/
LOCATION:Hoptimystic Brewery\, 31 River Road\, Sunapee\, NH\, 03782
CATEGORIES:Sunapee Harbor
ATTACH;FMTTYPE=image/webp:https://projectsunapee.org/wp-content/uploads/2026/02/oeop1zoxxo1g-IMG_4781.webp
ORGANIZER;CN="Hoptimystic Brewing":MAILTO:hoptimysticbrewingNH@gmail.com
END:VEVENT
BEGIN:VEVENT
DTSTART;TZID=America/New_York:20270527T180000
DTEND;TZID=America/New_York:20270527T200000
DTSTAMP:20260423T192208
CREATED:20260224T113543Z
LAST-MODIFIED:20260224T113800Z
UID:10004923-1811440800-1811448000@projectsunapee.org
SUMMARY:Trivia at Hoptimystic Brewing
DESCRIPTION:Thursdays are for trivia and happy hour! \nGrab a seat\, fuel up with some seriously delicious food from Fenton’s Landing\, and get ready to test your trivia skills. Seats will go fast so arrive early to claim your spot!
URL:https://projectsunapee.org/event/trivia-at-hoptimystic-brewing-2/2027-05-27/
LOCATION:Hoptimystic Brewery\, 31 River Road\, Sunapee\, NH\, 03782
CATEGORIES:Sunapee Harbor
ATTACH;FMTTYPE=image/webp:https://projectsunapee.org/wp-content/uploads/2026/02/oeop1zoxxo1g-IMG_4781.webp
ORGANIZER;CN="Hoptimystic Brewing":MAILTO:hoptimysticbrewingNH@gmail.com
END:VEVENT
BEGIN:VEVENT
DTSTART;TZID=America/New_York:20270610T180000
DTEND;TZID=America/New_York:20270610T200000
DTSTAMP:20260423T192208
CREATED:20260224T113543Z
LAST-MODIFIED:20260224T113800Z
UID:10004924-1812650400-1812657600@projectsunapee.org
SUMMARY:Trivia at Hoptimystic Brewing
DESCRIPTION:Thursdays are for trivia and happy hour! \nGrab a seat\, fuel up with some seriously delicious food from Fenton’s Landing\, and get ready to test your trivia skills. Seats will go fast so arrive early to claim your spot!
URL:https://projectsunapee.org/event/trivia-at-hoptimystic-brewing-2/2027-06-10/
LOCATION:Hoptimystic Brewery\, 31 River Road\, Sunapee\, NH\, 03782
CATEGORIES:Sunapee Harbor
ATTACH;FMTTYPE=image/webp:https://projectsunapee.org/wp-content/uploads/2026/02/oeop1zoxxo1g-IMG_4781.webp
ORGANIZER;CN="Hoptimystic Brewing":MAILTO:hoptimysticbrewingNH@gmail.com
END:VEVENT
END:VCALENDAR