BEGIN:VCALENDAR
VERSION:2.0
PRODID:-//Project Sunapee - ECPv6.15.20//NONSGML v1.0//EN
CALSCALE:GREGORIAN
METHOD:PUBLISH
X-WR-CALNAME:Project Sunapee
X-ORIGINAL-URL:https://projectsunapee.org
X-WR-CALDESC:Events for Project Sunapee
REFRESH-INTERVAL;VALUE=DURATION:PT1H
X-Robots-Tag:noindex
X-PUBLISHED-TTL:PT1H
BEGIN:VTIMEZONE
TZID:America/New_York
BEGIN:DAYLIGHT
TZOFFSETFROM:-0500
TZOFFSETTO:-0400
TZNAME:EDT
DTSTART:20250309T070000
END:DAYLIGHT
BEGIN:STANDARD
TZOFFSETFROM:-0400
TZOFFSETTO:-0500
TZNAME:EST
DTSTART:20251102T060000
END:STANDARD
BEGIN:DAYLIGHT
TZOFFSETFROM:-0500
TZOFFSETTO:-0400
TZNAME:EDT
DTSTART:20260308T070000
END:DAYLIGHT
BEGIN:STANDARD
TZOFFSETFROM:-0400
TZOFFSETTO:-0500
TZNAME:EST
DTSTART:20261101T060000
END:STANDARD
BEGIN:DAYLIGHT
TZOFFSETFROM:-0500
TZOFFSETTO:-0400
TZNAME:EDT
DTSTART:20270314T070000
END:DAYLIGHT
BEGIN:STANDARD
TZOFFSETFROM:-0400
TZOFFSETTO:-0500
TZNAME:EST
DTSTART:20271107T060000
END:STANDARD
END:VTIMEZONE
BEGIN:VEVENT
DTSTART;TZID=America/New_York:20260510T100000
DTEND;TZID=America/New_York:20260510T120000
DTSTAMP:20260423T190220
CREATED:20260322T180808Z
LAST-MODIFIED:20260322T180808Z
UID:10005188-1778407200-1778414400@projectsunapee.org
SUMMARY:Mother's Day Cruises
DESCRIPTION:Now Booking: 2 of our Our Most Popular Cruises of the Season!\n\n\nReservations are officially open for our Mother’s Day Brunch & Dinner Cruises—and trust us\, these fill up fast!\n\n\nSkip the stress this year and treat Mom to something she’ll truly remember: great food\, stunning views\, and time together on beautiful Lake Sunapee.\n\n\nReserve your spot today: www.sunapeecruises.com
URL:https://projectsunapee.org/event/mothers-day-cruises/2026-05-10/1/
LOCATION:Sunapee Cruises\, Sunapee
CATEGORIES:Sunapee Harbor
ATTACH;FMTTYPE=image/webp:https://projectsunapee.org/wp-content/uploads/2026/03/655158826_1539718371494634_4795723932296349878_n.webp
END:VEVENT
BEGIN:VEVENT
DTSTART;TZID=America/New_York:20260510T160000
DTEND;TZID=America/New_York:20260510T180000
DTSTAMP:20260423T190220
CREATED:20260322T180808Z
LAST-MODIFIED:20260322T180808Z
UID:10005189-1778428800-1778436000@projectsunapee.org
SUMMARY:Mother's Day Cruises
DESCRIPTION:Now Booking: 2 of our Our Most Popular Cruises of the Season!\n\n\nReservations are officially open for our Mother’s Day Brunch & Dinner Cruises—and trust us\, these fill up fast!\n\n\nSkip the stress this year and treat Mom to something she’ll truly remember: great food\, stunning views\, and time together on beautiful Lake Sunapee.\n\n\nReserve your spot today: www.sunapeecruises.com
URL:https://projectsunapee.org/event/mothers-day-cruises/2026-05-10/2/
LOCATION:Sunapee Cruises\, Sunapee
CATEGORIES:Sunapee Harbor
ATTACH;FMTTYPE=image/webp:https://projectsunapee.org/wp-content/uploads/2026/03/655158826_1539718371494634_4795723932296349878_n.webp
END:VEVENT
END:VCALENDAR