BEGIN:VCALENDAR
VERSION:2.0
PRODID:-//Project Sunapee - ECPv6.15.20//NONSGML v1.0//EN
CALSCALE:GREGORIAN
METHOD:PUBLISH
X-ORIGINAL-URL:https://projectsunapee.org
X-WR-CALDESC:Events for Project Sunapee
REFRESH-INTERVAL;VALUE=DURATION:PT1H
X-Robots-Tag:noindex
X-PUBLISHED-TTL:PT1H
BEGIN:VTIMEZONE
TZID:America/New_York
BEGIN:DAYLIGHT
TZOFFSETFROM:-0500
TZOFFSETTO:-0400
TZNAME:EDT
DTSTART:20250309T070000
END:DAYLIGHT
BEGIN:STANDARD
TZOFFSETFROM:-0400
TZOFFSETTO:-0500
TZNAME:EST
DTSTART:20251102T060000
END:STANDARD
BEGIN:DAYLIGHT
TZOFFSETFROM:-0500
TZOFFSETTO:-0400
TZNAME:EDT
DTSTART:20260308T070000
END:DAYLIGHT
BEGIN:STANDARD
TZOFFSETFROM:-0400
TZOFFSETTO:-0500
TZNAME:EST
DTSTART:20261101T060000
END:STANDARD
BEGIN:DAYLIGHT
TZOFFSETFROM:-0500
TZOFFSETTO:-0400
TZNAME:EDT
DTSTART:20270314T070000
END:DAYLIGHT
BEGIN:STANDARD
TZOFFSETFROM:-0400
TZOFFSETTO:-0500
TZNAME:EST
DTSTART:20271107T060000
END:STANDARD
END:VTIMEZONE
BEGIN:VEVENT
DTSTART;TZID=America/New_York:20260423T053000
DTEND;TZID=America/New_York:20260423T063000
DTSTAMP:20260423T191016
CREATED:20250930T202827Z
LAST-MODIFIED:20260114T173323Z
UID:10000869-1776922200-1776925800@projectsunapee.org
SUMMARY:Bootcamp for Adults
DESCRIPTION:Each session consists of 12 classes over a span of 6 weeks. Additionally\, there are options for quarterly and annual enrollments. \nSession runs 10/23/25-12/30/25 every Tuesday & Thursday 5:30-6:30am \n$50 Sunapee Resident/$55 Non-Resident \nhttps://sunapeerecreation.recdesk.com/Community/Program
URL:https://projectsunapee.org/event/bootcamp-for-adults/2026-04-23/
LOCATION:Sherburne Gym
CATEGORIES:Recreation
ATTACH;FMTTYPE=image/webp:https://projectsunapee.org/wp-content/uploads/2025/09/kettlebell-3293481_640.webp
END:VEVENT
BEGIN:VEVENT
DTSTART;TZID=America/New_York:20260423T120000
DTEND;TZID=America/New_York:20260423T123000
DTSTAMP:20260423T191016
CREATED:20260126T130837Z
LAST-MODIFIED:20260222T145722Z
UID:10003856-1776945600-1776947400@projectsunapee.org
SUMMARY:Walking in the Gym
DESCRIPTION:Walking in the Gym – The Sunapee Seniors have arranged for winter-time walking in the Sherburne Gym – Tuesday\, Wednesday & Thursday\, from 12:00-12:30 pm. A good opportunity to walk safely and enjoy conversation with others! Please bring dry sneakers/shoes for walking. Note – if there is no school\, there is no walking. Free.
URL:https://projectsunapee.org/event/waling-in-the-gym/2026-04-23/
LOCATION:Sherburne Gym
CATEGORIES:Recreation
ATTACH;FMTTYPE=image/webp:https://projectsunapee.org/wp-content/uploads/2026/01/shoes-1260811_640.webp
END:VEVENT
BEGIN:VEVENT
DTSTART;TZID=America/New_York:20260423T140000
DTEND;TZID=America/New_York:20260423T160000
DTSTAMP:20260423T191016
CREATED:20260113T165639Z
LAST-MODIFIED:20260310T210715Z
UID:10003132-1776952800-1776960000@projectsunapee.org
SUMMARY:Abbott Library American Mah Jongg
DESCRIPTION:Interested in learning a new tabletop\, tile game?\nJoin the library’s volunteers as they play American Mah Jongg. This group is all levels and open to new players. All supplies are available at game time.\n\n\nFor more information on this program or other upcoming events\, please call or email the library at 603.763.5513 or at info@abbottlibrary.org.
URL:https://projectsunapee.org/event/abbott-library-american-mah-jongg/2026-04-23/
LOCATION:Abbott Library\, 11 Soonipi Circle\, Sunapee\, NH\, 03782-2925\, United States
CATEGORIES:Service
ATTACH;FMTTYPE=image/webp:https://projectsunapee.org/wp-content/uploads/2026/01/648608910_1352712146901929_7693543029887774243_n-e1773176825890.webp
ORGANIZER;CN="Abbott Library":MAILTO:info@abbottlibrary.org
END:VEVENT
BEGIN:VEVENT
DTSTART;TZID=America/New_York:20260423T170000
DTEND;TZID=America/New_York:20260423T183000
DTSTAMP:20260423T191016
CREATED:20260417T152744Z
LAST-MODIFIED:20260417T152744Z
UID:10005229-1776963600-1776969000@projectsunapee.org
SUMMARY:Spaghetti Dinner Fundraiser
DESCRIPTION:Join us for the SMHS Senior Class Scholarship Spaghetti Dinner Fundraiser to raise scholarship funds for the Class of 2026! \nSpaghetti\nSalad\nGarlic Bread\nIce Cream Sundae Bar \nAdults $14\nKids 10 & Under $8 \nTickets may be purchased at the door or in advance at SMHS or by scanning the QR code.  Contact Jackie Watkins for more information at jwatkins@sunapeeschools.org or 603-763-5615 x331.
URL:https://projectsunapee.org/event/spaghetti-dinner-fundraiser/
LOCATION:Sunapee Middle High School\, 10 N Rd\,\, Sunapee\, NH\, 03782\, United States
CATEGORIES:Service
ATTACH;FMTTYPE=image/webp:https://projectsunapee.org/wp-content/uploads/2026/04/658214395_1565023885627290_4122337709136907020_n.webp
END:VEVENT
END:VCALENDAR